BEGIN:VCALENDAR
VERSION:2.0
PRODID:-//The City of Del City - ECPv6.15.20//NONSGML v1.0//EN
CALSCALE:GREGORIAN
METHOD:PUBLISH
X-ORIGINAL-URL:https://cityofdelcity.gov
X-WR-CALDESC:Events for The City of Del City
REFRESH-INTERVAL;VALUE=DURATION:PT1H
X-Robots-Tag:noindex
X-PUBLISHED-TTL:PT1H
BEGIN:VTIMEZONE
TZID:UTC
BEGIN:STANDARD
TZOFFSETFROM:+0000
TZOFFSETTO:+0000
TZNAME:UTC
DTSTART:20280101T000000
END:STANDARD
END:VTIMEZONE
BEGIN:VEVENT
DTSTART;TZID=UTC:20290417T190000
DTEND;TZID=UTC:20290417T200000
DTSTAMP:20260421T075404
CREATED:20250124T222142Z
LAST-MODIFIED:20260227T164256Z
UID:10000647-1871146800-1871150400@cityofdelcity.gov
SUMMARY:Midway Village Neighborhood Watch Meeting
DESCRIPTION:
URL:https://cityofdelcity.gov/event/midway-village-neighborhood-watch-meeting-3/2029-04-17/
LOCATION:Midway Village Baptist Church\, 4101 Thomas Dr\, Del City\, OK\, 73115\, United States
ATTACH;FMTTYPE=image/png:https://cityofdelcity.gov/wp-content/uploads/2025/01/MIDWAY-IMG.png
END:VEVENT
BEGIN:VEVENT
DTSTART;TZID=UTC:20290515T190000
DTEND;TZID=UTC:20290515T200000
DTSTAMP:20260421T075404
CREATED:20250124T222142Z
LAST-MODIFIED:20260227T164256Z
UID:10000648-1873566000-1873569600@cityofdelcity.gov
SUMMARY:Midway Village Neighborhood Watch Meeting
DESCRIPTION:
URL:https://cityofdelcity.gov/event/midway-village-neighborhood-watch-meeting-3/2029-05-15/
LOCATION:Midway Village Baptist Church\, 4101 Thomas Dr\, Del City\, OK\, 73115\, United States
ATTACH;FMTTYPE=image/png:https://cityofdelcity.gov/wp-content/uploads/2025/01/MIDWAY-IMG.png
END:VEVENT
BEGIN:VEVENT
DTSTART;TZID=UTC:20290619T190000
DTEND;TZID=UTC:20290619T200000
DTSTAMP:20260421T075404
CREATED:20250124T222142Z
LAST-MODIFIED:20260227T164256Z
UID:10000649-1876590000-1876593600@cityofdelcity.gov
SUMMARY:Midway Village Neighborhood Watch Meeting
DESCRIPTION:
URL:https://cityofdelcity.gov/event/midway-village-neighborhood-watch-meeting-3/2029-06-19/
LOCATION:Midway Village Baptist Church\, 4101 Thomas Dr\, Del City\, OK\, 73115\, United States
ATTACH;FMTTYPE=image/png:https://cityofdelcity.gov/wp-content/uploads/2025/01/MIDWAY-IMG.png
END:VEVENT
BEGIN:VEVENT
DTSTART;TZID=UTC:20290717T190000
DTEND;TZID=UTC:20290717T200000
DTSTAMP:20260421T075404
CREATED:20250124T222142Z
LAST-MODIFIED:20260227T164256Z
UID:10000650-1879009200-1879012800@cityofdelcity.gov
SUMMARY:Midway Village Neighborhood Watch Meeting
DESCRIPTION:
URL:https://cityofdelcity.gov/event/midway-village-neighborhood-watch-meeting-3/2029-07-17/
LOCATION:Midway Village Baptist Church\, 4101 Thomas Dr\, Del City\, OK\, 73115\, United States
ATTACH;FMTTYPE=image/png:https://cityofdelcity.gov/wp-content/uploads/2025/01/MIDWAY-IMG.png
END:VEVENT
BEGIN:VEVENT
DTSTART;TZID=UTC:20290821T190000
DTEND;TZID=UTC:20290821T200000
DTSTAMP:20260421T075404
CREATED:20250124T222142Z
LAST-MODIFIED:20260227T164256Z
UID:10000651-1882033200-1882036800@cityofdelcity.gov
SUMMARY:Midway Village Neighborhood Watch Meeting
DESCRIPTION:
URL:https://cityofdelcity.gov/event/midway-village-neighborhood-watch-meeting-3/2029-08-21/
LOCATION:Midway Village Baptist Church\, 4101 Thomas Dr\, Del City\, OK\, 73115\, United States
ATTACH;FMTTYPE=image/png:https://cityofdelcity.gov/wp-content/uploads/2025/01/MIDWAY-IMG.png
END:VEVENT
BEGIN:VEVENT
DTSTART;TZID=UTC:20290918T190000
DTEND;TZID=UTC:20290918T200000
DTSTAMP:20260421T075404
CREATED:20250124T222142Z
LAST-MODIFIED:20260227T164256Z
UID:10000652-1884452400-1884456000@cityofdelcity.gov
SUMMARY:Midway Village Neighborhood Watch Meeting
DESCRIPTION:
URL:https://cityofdelcity.gov/event/midway-village-neighborhood-watch-meeting-3/2029-09-18/
LOCATION:Midway Village Baptist Church\, 4101 Thomas Dr\, Del City\, OK\, 73115\, United States
ATTACH;FMTTYPE=image/png:https://cityofdelcity.gov/wp-content/uploads/2025/01/MIDWAY-IMG.png
END:VEVENT
BEGIN:VEVENT
DTSTART;TZID=UTC:20291016T190000
DTEND;TZID=UTC:20291016T200000
DTSTAMP:20260421T075404
CREATED:20250124T222142Z
LAST-MODIFIED:20260227T164256Z
UID:10000653-1886871600-1886875200@cityofdelcity.gov
SUMMARY:Midway Village Neighborhood Watch Meeting
DESCRIPTION:
URL:https://cityofdelcity.gov/event/midway-village-neighborhood-watch-meeting-3/2029-10-16/
LOCATION:Midway Village Baptist Church\, 4101 Thomas Dr\, Del City\, OK\, 73115\, United States
ATTACH;FMTTYPE=image/png:https://cityofdelcity.gov/wp-content/uploads/2025/01/MIDWAY-IMG.png
END:VEVENT
BEGIN:VEVENT
DTSTART;TZID=UTC:20291120T190000
DTEND;TZID=UTC:20291120T200000
DTSTAMP:20260421T075404
CREATED:20250124T222142Z
LAST-MODIFIED:20260227T164256Z
UID:10000654-1889895600-1889899200@cityofdelcity.gov
SUMMARY:Midway Village Neighborhood Watch Meeting
DESCRIPTION:
URL:https://cityofdelcity.gov/event/midway-village-neighborhood-watch-meeting-3/2029-11-20/
LOCATION:Midway Village Baptist Church\, 4101 Thomas Dr\, Del City\, OK\, 73115\, United States
ATTACH;FMTTYPE=image/png:https://cityofdelcity.gov/wp-content/uploads/2025/01/MIDWAY-IMG.png
END:VEVENT
BEGIN:VEVENT
DTSTART;TZID=UTC:20291218T190000
DTEND;TZID=UTC:20291218T200000
DTSTAMP:20260421T075404
CREATED:20250124T222142Z
LAST-MODIFIED:20260227T164256Z
UID:10000655-1892314800-1892318400@cityofdelcity.gov
SUMMARY:Midway Village Neighborhood Watch Meeting
DESCRIPTION:
URL:https://cityofdelcity.gov/event/midway-village-neighborhood-watch-meeting-3/2029-12-18/
LOCATION:Midway Village Baptist Church\, 4101 Thomas Dr\, Del City\, OK\, 73115\, United States
ATTACH;FMTTYPE=image/png:https://cityofdelcity.gov/wp-content/uploads/2025/01/MIDWAY-IMG.png
END:VEVENT
BEGIN:VEVENT
DTSTART;TZID=UTC:20300115T190000
DTEND;TZID=UTC:20300115T200000
DTSTAMP:20260421T075404
CREATED:20250124T222142Z
LAST-MODIFIED:20260227T164256Z
UID:10000656-1894734000-1894737600@cityofdelcity.gov
SUMMARY:Midway Village Neighborhood Watch Meeting
DESCRIPTION:
URL:https://cityofdelcity.gov/event/midway-village-neighborhood-watch-meeting-3/2030-01-15/
LOCATION:Midway Village Baptist Church\, 4101 Thomas Dr\, Del City\, OK\, 73115\, United States
ATTACH;FMTTYPE=image/png:https://cityofdelcity.gov/wp-content/uploads/2025/01/MIDWAY-IMG.png
END:VEVENT
BEGIN:VEVENT
DTSTART;TZID=UTC:20300219T190000
DTEND;TZID=UTC:20300219T200000
DTSTAMP:20260421T075404
CREATED:20250124T222142Z
LAST-MODIFIED:20260227T164256Z
UID:10005542-1897758000-1897761600@cityofdelcity.gov
SUMMARY:Midway Village Neighborhood Watch Meeting
DESCRIPTION:
URL:https://cityofdelcity.gov/event/midway-village-neighborhood-watch-meeting-3/2030-02-19/
LOCATION:Midway Village Baptist Church\, 4101 Thomas Dr\, Del City\, OK\, 73115\, United States
ATTACH;FMTTYPE=image/png:https://cityofdelcity.gov/wp-content/uploads/2025/01/MIDWAY-IMG.png
END:VEVENT
BEGIN:VEVENT
DTSTART;TZID=UTC:20300319T190000
DTEND;TZID=UTC:20300319T200000
DTSTAMP:20260421T075404
CREATED:20250124T222142Z
LAST-MODIFIED:20260227T164256Z
UID:10005543-1900177200-1900180800@cityofdelcity.gov
SUMMARY:Midway Village Neighborhood Watch Meeting
DESCRIPTION:
URL:https://cityofdelcity.gov/event/midway-village-neighborhood-watch-meeting-3/2030-03-19/
LOCATION:Midway Village Baptist Church\, 4101 Thomas Dr\, Del City\, OK\, 73115\, United States
ATTACH;FMTTYPE=image/png:https://cityofdelcity.gov/wp-content/uploads/2025/01/MIDWAY-IMG.png
END:VEVENT
BEGIN:VEVENT
DTSTART;TZID=UTC:20300416T190000
DTEND;TZID=UTC:20300416T200000
DTSTAMP:20260421T075404
CREATED:20250124T222142Z
LAST-MODIFIED:20260227T164256Z
UID:10005544-1902596400-1902600000@cityofdelcity.gov
SUMMARY:Midway Village Neighborhood Watch Meeting
DESCRIPTION:
URL:https://cityofdelcity.gov/event/midway-village-neighborhood-watch-meeting-3/2030-04-16/
LOCATION:Midway Village Baptist Church\, 4101 Thomas Dr\, Del City\, OK\, 73115\, United States
ATTACH;FMTTYPE=image/png:https://cityofdelcity.gov/wp-content/uploads/2025/01/MIDWAY-IMG.png
END:VEVENT
BEGIN:VEVENT
DTSTART;TZID=UTC:20300521T190000
DTEND;TZID=UTC:20300521T200000
DTSTAMP:20260421T075404
CREATED:20250124T222142Z
LAST-MODIFIED:20260227T164256Z
UID:10005545-1905620400-1905624000@cityofdelcity.gov
SUMMARY:Midway Village Neighborhood Watch Meeting
DESCRIPTION:
URL:https://cityofdelcity.gov/event/midway-village-neighborhood-watch-meeting-3/2030-05-21/
LOCATION:Midway Village Baptist Church\, 4101 Thomas Dr\, Del City\, OK\, 73115\, United States
ATTACH;FMTTYPE=image/png:https://cityofdelcity.gov/wp-content/uploads/2025/01/MIDWAY-IMG.png
END:VEVENT
BEGIN:VEVENT
DTSTART;TZID=UTC:20300618T190000
DTEND;TZID=UTC:20300618T200000
DTSTAMP:20260421T075404
CREATED:20250124T222142Z
LAST-MODIFIED:20260227T164256Z
UID:10005546-1908039600-1908043200@cityofdelcity.gov
SUMMARY:Midway Village Neighborhood Watch Meeting
DESCRIPTION:
URL:https://cityofdelcity.gov/event/midway-village-neighborhood-watch-meeting-3/2030-06-18/
LOCATION:Midway Village Baptist Church\, 4101 Thomas Dr\, Del City\, OK\, 73115\, United States
ATTACH;FMTTYPE=image/png:https://cityofdelcity.gov/wp-content/uploads/2025/01/MIDWAY-IMG.png
END:VEVENT
BEGIN:VEVENT
DTSTART;TZID=UTC:20300716T190000
DTEND;TZID=UTC:20300716T200000
DTSTAMP:20260421T075404
CREATED:20250124T222142Z
LAST-MODIFIED:20260227T164256Z
UID:10005547-1910458800-1910462400@cityofdelcity.gov
SUMMARY:Midway Village Neighborhood Watch Meeting
DESCRIPTION:
URL:https://cityofdelcity.gov/event/midway-village-neighborhood-watch-meeting-3/2030-07-16/
LOCATION:Midway Village Baptist Church\, 4101 Thomas Dr\, Del City\, OK\, 73115\, United States
ATTACH;FMTTYPE=image/png:https://cityofdelcity.gov/wp-content/uploads/2025/01/MIDWAY-IMG.png
END:VEVENT
BEGIN:VEVENT
DTSTART;TZID=UTC:20300820T190000
DTEND;TZID=UTC:20300820T200000
DTSTAMP:20260421T075404
CREATED:20250124T222142Z
LAST-MODIFIED:20260227T164256Z
UID:10005548-1913482800-1913486400@cityofdelcity.gov
SUMMARY:Midway Village Neighborhood Watch Meeting
DESCRIPTION:
URL:https://cityofdelcity.gov/event/midway-village-neighborhood-watch-meeting-3/2030-08-20/
LOCATION:Midway Village Baptist Church\, 4101 Thomas Dr\, Del City\, OK\, 73115\, United States
ATTACH;FMTTYPE=image/png:https://cityofdelcity.gov/wp-content/uploads/2025/01/MIDWAY-IMG.png
END:VEVENT
BEGIN:VEVENT
DTSTART;TZID=UTC:20300917T190000
DTEND;TZID=UTC:20300917T200000
DTSTAMP:20260421T075404
CREATED:20250124T222142Z
LAST-MODIFIED:20260227T164256Z
UID:10005549-1915902000-1915905600@cityofdelcity.gov
SUMMARY:Midway Village Neighborhood Watch Meeting
DESCRIPTION:
URL:https://cityofdelcity.gov/event/midway-village-neighborhood-watch-meeting-3/2030-09-17/
LOCATION:Midway Village Baptist Church\, 4101 Thomas Dr\, Del City\, OK\, 73115\, United States
ATTACH;FMTTYPE=image/png:https://cityofdelcity.gov/wp-content/uploads/2025/01/MIDWAY-IMG.png
END:VEVENT
BEGIN:VEVENT
DTSTART;TZID=UTC:20301015T190000
DTEND;TZID=UTC:20301015T200000
DTSTAMP:20260421T075404
CREATED:20250124T222142Z
LAST-MODIFIED:20260227T164256Z
UID:10005550-1918321200-1918324800@cityofdelcity.gov
SUMMARY:Midway Village Neighborhood Watch Meeting
DESCRIPTION:
URL:https://cityofdelcity.gov/event/midway-village-neighborhood-watch-meeting-3/2030-10-15/
LOCATION:Midway Village Baptist Church\, 4101 Thomas Dr\, Del City\, OK\, 73115\, United States
ATTACH;FMTTYPE=image/png:https://cityofdelcity.gov/wp-content/uploads/2025/01/MIDWAY-IMG.png
END:VEVENT
BEGIN:VEVENT
DTSTART;TZID=UTC:20301119T190000
DTEND;TZID=UTC:20301119T200000
DTSTAMP:20260421T075404
CREATED:20250124T222142Z
LAST-MODIFIED:20260227T164256Z
UID:10005551-1921345200-1921348800@cityofdelcity.gov
SUMMARY:Midway Village Neighborhood Watch Meeting
DESCRIPTION:
URL:https://cityofdelcity.gov/event/midway-village-neighborhood-watch-meeting-3/2030-11-19/
LOCATION:Midway Village Baptist Church\, 4101 Thomas Dr\, Del City\, OK\, 73115\, United States
ATTACH;FMTTYPE=image/png:https://cityofdelcity.gov/wp-content/uploads/2025/01/MIDWAY-IMG.png
END:VEVENT
BEGIN:VEVENT
DTSTART;TZID=UTC:20301217T190000
DTEND;TZID=UTC:20301217T200000
DTSTAMP:20260421T075404
CREATED:20250124T222142Z
LAST-MODIFIED:20260227T164256Z
UID:10005552-1923764400-1923768000@cityofdelcity.gov
SUMMARY:Midway Village Neighborhood Watch Meeting
DESCRIPTION:
URL:https://cityofdelcity.gov/event/midway-village-neighborhood-watch-meeting-3/2030-12-17/
LOCATION:Midway Village Baptist Church\, 4101 Thomas Dr\, Del City\, OK\, 73115\, United States
ATTACH;FMTTYPE=image/png:https://cityofdelcity.gov/wp-content/uploads/2025/01/MIDWAY-IMG.png
END:VEVENT
BEGIN:VEVENT
DTSTART;TZID=UTC:20310121T190000
DTEND;TZID=UTC:20310121T200000
DTSTAMP:20260421T075404
CREATED:20250124T222142Z
LAST-MODIFIED:20260227T164256Z
UID:10005553-1926788400-1926792000@cityofdelcity.gov
SUMMARY:Midway Village Neighborhood Watch Meeting
DESCRIPTION:
URL:https://cityofdelcity.gov/event/midway-village-neighborhood-watch-meeting-3/2031-01-21/
LOCATION:Midway Village Baptist Church\, 4101 Thomas Dr\, Del City\, OK\, 73115\, United States
ATTACH;FMTTYPE=image/png:https://cityofdelcity.gov/wp-content/uploads/2025/01/MIDWAY-IMG.png
END:VEVENT
BEGIN:VEVENT
DTSTART;TZID=UTC:20310218T190000
DTEND;TZID=UTC:20310218T200000
DTSTAMP:20260421T075404
CREATED:20250124T222142Z
LAST-MODIFIED:20260227T164256Z
UID:10005554-1929207600-1929211200@cityofdelcity.gov
SUMMARY:Midway Village Neighborhood Watch Meeting
DESCRIPTION:
URL:https://cityofdelcity.gov/event/midway-village-neighborhood-watch-meeting-3/2031-02-18/
LOCATION:Midway Village Baptist Church\, 4101 Thomas Dr\, Del City\, OK\, 73115\, United States
ATTACH;FMTTYPE=image/png:https://cityofdelcity.gov/wp-content/uploads/2025/01/MIDWAY-IMG.png
END:VEVENT
END:VCALENDAR