BEGIN:VCALENDAR
VERSION:2.0
PRODID:-//The City of Del City - ECPv6.15.20//NONSGML v1.0//EN
CALSCALE:GREGORIAN
METHOD:PUBLISH
X-WR-CALNAME:The City of Del City
X-ORIGINAL-URL:https://cityofdelcity.gov
X-WR-CALDESC:Events for The City of Del City
REFRESH-INTERVAL;VALUE=DURATION:PT1H
X-Robots-Tag:noindex
X-PUBLISHED-TTL:PT1H
BEGIN:VTIMEZONE
TZID:UTC
BEGIN:STANDARD
TZOFFSETFROM:+0000
TZOFFSETTO:+0000
TZNAME:UTC
DTSTART:20260101T000000
END:STANDARD
END:VTIMEZONE
BEGIN:VEVENT
DTSTART;TZID=UTC:20270420T190000
DTEND;TZID=UTC:20270420T200000
DTSTAMP:20260421T045239
CREATED:20250124T222142Z
LAST-MODIFIED:20260227T164256Z
UID:10000623-1808247600-1808251200@cityofdelcity.gov
SUMMARY:Midway Village Neighborhood Watch Meeting
DESCRIPTION:
URL:https://cityofdelcity.gov/event/midway-village-neighborhood-watch-meeting-3/2027-04-20/
LOCATION:Midway Village Baptist Church\, 4101 Thomas Dr\, Del City\, OK\, 73115\, United States
ATTACH;FMTTYPE=image/png:https://cityofdelcity.gov/wp-content/uploads/2025/01/MIDWAY-IMG.png
END:VEVENT
BEGIN:VEVENT
DTSTART;TZID=UTC:20270518T190000
DTEND;TZID=UTC:20270518T200000
DTSTAMP:20260421T045239
CREATED:20250124T222142Z
LAST-MODIFIED:20260227T164256Z
UID:10000624-1810666800-1810670400@cityofdelcity.gov
SUMMARY:Midway Village Neighborhood Watch Meeting
DESCRIPTION:
URL:https://cityofdelcity.gov/event/midway-village-neighborhood-watch-meeting-3/2027-05-18/
LOCATION:Midway Village Baptist Church\, 4101 Thomas Dr\, Del City\, OK\, 73115\, United States
ATTACH;FMTTYPE=image/png:https://cityofdelcity.gov/wp-content/uploads/2025/01/MIDWAY-IMG.png
END:VEVENT
BEGIN:VEVENT
DTSTART;TZID=UTC:20270615T190000
DTEND;TZID=UTC:20270615T200000
DTSTAMP:20260421T045239
CREATED:20250124T222142Z
LAST-MODIFIED:20260227T164256Z
UID:10000625-1813086000-1813089600@cityofdelcity.gov
SUMMARY:Midway Village Neighborhood Watch Meeting
DESCRIPTION:
URL:https://cityofdelcity.gov/event/midway-village-neighborhood-watch-meeting-3/2027-06-15/
LOCATION:Midway Village Baptist Church\, 4101 Thomas Dr\, Del City\, OK\, 73115\, United States
ATTACH;FMTTYPE=image/png:https://cityofdelcity.gov/wp-content/uploads/2025/01/MIDWAY-IMG.png
END:VEVENT
BEGIN:VEVENT
DTSTART;TZID=UTC:20270720T190000
DTEND;TZID=UTC:20270720T200000
DTSTAMP:20260421T045239
CREATED:20250124T222142Z
LAST-MODIFIED:20260227T164256Z
UID:10000626-1816110000-1816113600@cityofdelcity.gov
SUMMARY:Midway Village Neighborhood Watch Meeting
DESCRIPTION:
URL:https://cityofdelcity.gov/event/midway-village-neighborhood-watch-meeting-3/2027-07-20/
LOCATION:Midway Village Baptist Church\, 4101 Thomas Dr\, Del City\, OK\, 73115\, United States
ATTACH;FMTTYPE=image/png:https://cityofdelcity.gov/wp-content/uploads/2025/01/MIDWAY-IMG.png
END:VEVENT
BEGIN:VEVENT
DTSTART;TZID=UTC:20270817T190000
DTEND;TZID=UTC:20270817T200000
DTSTAMP:20260421T045239
CREATED:20250124T222142Z
LAST-MODIFIED:20260227T164256Z
UID:10000627-1818529200-1818532800@cityofdelcity.gov
SUMMARY:Midway Village Neighborhood Watch Meeting
DESCRIPTION:
URL:https://cityofdelcity.gov/event/midway-village-neighborhood-watch-meeting-3/2027-08-17/
LOCATION:Midway Village Baptist Church\, 4101 Thomas Dr\, Del City\, OK\, 73115\, United States
ATTACH;FMTTYPE=image/png:https://cityofdelcity.gov/wp-content/uploads/2025/01/MIDWAY-IMG.png
END:VEVENT
BEGIN:VEVENT
DTSTART;TZID=UTC:20270921T190000
DTEND;TZID=UTC:20270921T200000
DTSTAMP:20260421T045239
CREATED:20250124T222142Z
LAST-MODIFIED:20260227T164256Z
UID:10000628-1821553200-1821556800@cityofdelcity.gov
SUMMARY:Midway Village Neighborhood Watch Meeting
DESCRIPTION:
URL:https://cityofdelcity.gov/event/midway-village-neighborhood-watch-meeting-3/2027-09-21/
LOCATION:Midway Village Baptist Church\, 4101 Thomas Dr\, Del City\, OK\, 73115\, United States
ATTACH;FMTTYPE=image/png:https://cityofdelcity.gov/wp-content/uploads/2025/01/MIDWAY-IMG.png
END:VEVENT
BEGIN:VEVENT
DTSTART;TZID=UTC:20271019T190000
DTEND;TZID=UTC:20271019T200000
DTSTAMP:20260421T045239
CREATED:20250124T222142Z
LAST-MODIFIED:20260227T164256Z
UID:10000629-1823972400-1823976000@cityofdelcity.gov
SUMMARY:Midway Village Neighborhood Watch Meeting
DESCRIPTION:
URL:https://cityofdelcity.gov/event/midway-village-neighborhood-watch-meeting-3/2027-10-19/
LOCATION:Midway Village Baptist Church\, 4101 Thomas Dr\, Del City\, OK\, 73115\, United States
ATTACH;FMTTYPE=image/png:https://cityofdelcity.gov/wp-content/uploads/2025/01/MIDWAY-IMG.png
END:VEVENT
BEGIN:VEVENT
DTSTART;TZID=UTC:20271116T190000
DTEND;TZID=UTC:20271116T200000
DTSTAMP:20260421T045239
CREATED:20250124T222142Z
LAST-MODIFIED:20260227T164256Z
UID:10000630-1826391600-1826395200@cityofdelcity.gov
SUMMARY:Midway Village Neighborhood Watch Meeting
DESCRIPTION:
URL:https://cityofdelcity.gov/event/midway-village-neighborhood-watch-meeting-3/2027-11-16/
LOCATION:Midway Village Baptist Church\, 4101 Thomas Dr\, Del City\, OK\, 73115\, United States
ATTACH;FMTTYPE=image/png:https://cityofdelcity.gov/wp-content/uploads/2025/01/MIDWAY-IMG.png
END:VEVENT
BEGIN:VEVENT
DTSTART;TZID=UTC:20271221T190000
DTEND;TZID=UTC:20271221T200000
DTSTAMP:20260421T045239
CREATED:20250124T222142Z
LAST-MODIFIED:20260227T164256Z
UID:10000631-1829415600-1829419200@cityofdelcity.gov
SUMMARY:Midway Village Neighborhood Watch Meeting
DESCRIPTION:
URL:https://cityofdelcity.gov/event/midway-village-neighborhood-watch-meeting-3/2027-12-21/
LOCATION:Midway Village Baptist Church\, 4101 Thomas Dr\, Del City\, OK\, 73115\, United States
ATTACH;FMTTYPE=image/png:https://cityofdelcity.gov/wp-content/uploads/2025/01/MIDWAY-IMG.png
END:VEVENT
BEGIN:VEVENT
DTSTART;TZID=UTC:20280118T190000
DTEND;TZID=UTC:20280118T200000
DTSTAMP:20260421T045239
CREATED:20250124T222142Z
LAST-MODIFIED:20260227T164256Z
UID:10000632-1831834800-1831838400@cityofdelcity.gov
SUMMARY:Midway Village Neighborhood Watch Meeting
DESCRIPTION:
URL:https://cityofdelcity.gov/event/midway-village-neighborhood-watch-meeting-3/2028-01-18/
LOCATION:Midway Village Baptist Church\, 4101 Thomas Dr\, Del City\, OK\, 73115\, United States
ATTACH;FMTTYPE=image/png:https://cityofdelcity.gov/wp-content/uploads/2025/01/MIDWAY-IMG.png
END:VEVENT
BEGIN:VEVENT
DTSTART;TZID=UTC:20280215T190000
DTEND;TZID=UTC:20280215T200000
DTSTAMP:20260421T045239
CREATED:20250124T222142Z
LAST-MODIFIED:20260227T164256Z
UID:10000633-1834254000-1834257600@cityofdelcity.gov
SUMMARY:Midway Village Neighborhood Watch Meeting
DESCRIPTION:
URL:https://cityofdelcity.gov/event/midway-village-neighborhood-watch-meeting-3/2028-02-15/
LOCATION:Midway Village Baptist Church\, 4101 Thomas Dr\, Del City\, OK\, 73115\, United States
ATTACH;FMTTYPE=image/png:https://cityofdelcity.gov/wp-content/uploads/2025/01/MIDWAY-IMG.png
END:VEVENT
BEGIN:VEVENT
DTSTART;TZID=UTC:20280321T190000
DTEND;TZID=UTC:20280321T200000
DTSTAMP:20260421T045239
CREATED:20250124T222142Z
LAST-MODIFIED:20260227T164256Z
UID:10000634-1837278000-1837281600@cityofdelcity.gov
SUMMARY:Midway Village Neighborhood Watch Meeting
DESCRIPTION:
URL:https://cityofdelcity.gov/event/midway-village-neighborhood-watch-meeting-3/2028-03-21/
LOCATION:Midway Village Baptist Church\, 4101 Thomas Dr\, Del City\, OK\, 73115\, United States
ATTACH;FMTTYPE=image/png:https://cityofdelcity.gov/wp-content/uploads/2025/01/MIDWAY-IMG.png
END:VEVENT
BEGIN:VEVENT
DTSTART;TZID=UTC:20280418T190000
DTEND;TZID=UTC:20280418T200000
DTSTAMP:20260421T045239
CREATED:20250124T222142Z
LAST-MODIFIED:20260227T164256Z
UID:10000635-1839697200-1839700800@cityofdelcity.gov
SUMMARY:Midway Village Neighborhood Watch Meeting
DESCRIPTION:
URL:https://cityofdelcity.gov/event/midway-village-neighborhood-watch-meeting-3/2028-04-18/
LOCATION:Midway Village Baptist Church\, 4101 Thomas Dr\, Del City\, OK\, 73115\, United States
ATTACH;FMTTYPE=image/png:https://cityofdelcity.gov/wp-content/uploads/2025/01/MIDWAY-IMG.png
END:VEVENT
BEGIN:VEVENT
DTSTART;TZID=UTC:20280516T190000
DTEND;TZID=UTC:20280516T200000
DTSTAMP:20260421T045239
CREATED:20250124T222142Z
LAST-MODIFIED:20260227T164256Z
UID:10000636-1842116400-1842120000@cityofdelcity.gov
SUMMARY:Midway Village Neighborhood Watch Meeting
DESCRIPTION:
URL:https://cityofdelcity.gov/event/midway-village-neighborhood-watch-meeting-3/2028-05-16/
LOCATION:Midway Village Baptist Church\, 4101 Thomas Dr\, Del City\, OK\, 73115\, United States
ATTACH;FMTTYPE=image/png:https://cityofdelcity.gov/wp-content/uploads/2025/01/MIDWAY-IMG.png
END:VEVENT
BEGIN:VEVENT
DTSTART;TZID=UTC:20280620T190000
DTEND;TZID=UTC:20280620T200000
DTSTAMP:20260421T045239
CREATED:20250124T222142Z
LAST-MODIFIED:20260227T164256Z
UID:10000637-1845140400-1845144000@cityofdelcity.gov
SUMMARY:Midway Village Neighborhood Watch Meeting
DESCRIPTION:
URL:https://cityofdelcity.gov/event/midway-village-neighborhood-watch-meeting-3/2028-06-20/
LOCATION:Midway Village Baptist Church\, 4101 Thomas Dr\, Del City\, OK\, 73115\, United States
ATTACH;FMTTYPE=image/png:https://cityofdelcity.gov/wp-content/uploads/2025/01/MIDWAY-IMG.png
END:VEVENT
BEGIN:VEVENT
DTSTART;TZID=UTC:20280718T190000
DTEND;TZID=UTC:20280718T200000
DTSTAMP:20260421T045239
CREATED:20250124T222142Z
LAST-MODIFIED:20260227T164256Z
UID:10000638-1847559600-1847563200@cityofdelcity.gov
SUMMARY:Midway Village Neighborhood Watch Meeting
DESCRIPTION:
URL:https://cityofdelcity.gov/event/midway-village-neighborhood-watch-meeting-3/2028-07-18/
LOCATION:Midway Village Baptist Church\, 4101 Thomas Dr\, Del City\, OK\, 73115\, United States
ATTACH;FMTTYPE=image/png:https://cityofdelcity.gov/wp-content/uploads/2025/01/MIDWAY-IMG.png
END:VEVENT
BEGIN:VEVENT
DTSTART;TZID=UTC:20280815T190000
DTEND;TZID=UTC:20280815T200000
DTSTAMP:20260421T045239
CREATED:20250124T222142Z
LAST-MODIFIED:20260227T164256Z
UID:10000639-1849978800-1849982400@cityofdelcity.gov
SUMMARY:Midway Village Neighborhood Watch Meeting
DESCRIPTION:
URL:https://cityofdelcity.gov/event/midway-village-neighborhood-watch-meeting-3/2028-08-15/
LOCATION:Midway Village Baptist Church\, 4101 Thomas Dr\, Del City\, OK\, 73115\, United States
ATTACH;FMTTYPE=image/png:https://cityofdelcity.gov/wp-content/uploads/2025/01/MIDWAY-IMG.png
END:VEVENT
BEGIN:VEVENT
DTSTART;TZID=UTC:20280919T190000
DTEND;TZID=UTC:20280919T200000
DTSTAMP:20260421T045239
CREATED:20250124T222142Z
LAST-MODIFIED:20260227T164256Z
UID:10000640-1853002800-1853006400@cityofdelcity.gov
SUMMARY:Midway Village Neighborhood Watch Meeting
DESCRIPTION:
URL:https://cityofdelcity.gov/event/midway-village-neighborhood-watch-meeting-3/2028-09-19/
LOCATION:Midway Village Baptist Church\, 4101 Thomas Dr\, Del City\, OK\, 73115\, United States
ATTACH;FMTTYPE=image/png:https://cityofdelcity.gov/wp-content/uploads/2025/01/MIDWAY-IMG.png
END:VEVENT
BEGIN:VEVENT
DTSTART;TZID=UTC:20281017T190000
DTEND;TZID=UTC:20281017T200000
DTSTAMP:20260421T045239
CREATED:20250124T222142Z
LAST-MODIFIED:20260227T164256Z
UID:10000641-1855422000-1855425600@cityofdelcity.gov
SUMMARY:Midway Village Neighborhood Watch Meeting
DESCRIPTION:
URL:https://cityofdelcity.gov/event/midway-village-neighborhood-watch-meeting-3/2028-10-17/
LOCATION:Midway Village Baptist Church\, 4101 Thomas Dr\, Del City\, OK\, 73115\, United States
ATTACH;FMTTYPE=image/png:https://cityofdelcity.gov/wp-content/uploads/2025/01/MIDWAY-IMG.png
END:VEVENT
BEGIN:VEVENT
DTSTART;TZID=UTC:20281121T190000
DTEND;TZID=UTC:20281121T200000
DTSTAMP:20260421T045239
CREATED:20250124T222142Z
LAST-MODIFIED:20260227T164256Z
UID:10000642-1858446000-1858449600@cityofdelcity.gov
SUMMARY:Midway Village Neighborhood Watch Meeting
DESCRIPTION:
URL:https://cityofdelcity.gov/event/midway-village-neighborhood-watch-meeting-3/2028-11-21/
LOCATION:Midway Village Baptist Church\, 4101 Thomas Dr\, Del City\, OK\, 73115\, United States
ATTACH;FMTTYPE=image/png:https://cityofdelcity.gov/wp-content/uploads/2025/01/MIDWAY-IMG.png
END:VEVENT
BEGIN:VEVENT
DTSTART;TZID=UTC:20281219T190000
DTEND;TZID=UTC:20281219T200000
DTSTAMP:20260421T045239
CREATED:20250124T222142Z
LAST-MODIFIED:20260227T164256Z
UID:10000643-1860865200-1860868800@cityofdelcity.gov
SUMMARY:Midway Village Neighborhood Watch Meeting
DESCRIPTION:
URL:https://cityofdelcity.gov/event/midway-village-neighborhood-watch-meeting-3/2028-12-19/
LOCATION:Midway Village Baptist Church\, 4101 Thomas Dr\, Del City\, OK\, 73115\, United States
ATTACH;FMTTYPE=image/png:https://cityofdelcity.gov/wp-content/uploads/2025/01/MIDWAY-IMG.png
END:VEVENT
BEGIN:VEVENT
DTSTART;TZID=UTC:20290116T190000
DTEND;TZID=UTC:20290116T200000
DTSTAMP:20260421T045239
CREATED:20250124T222142Z
LAST-MODIFIED:20260227T164256Z
UID:10000644-1863284400-1863288000@cityofdelcity.gov
SUMMARY:Midway Village Neighborhood Watch Meeting
DESCRIPTION:
URL:https://cityofdelcity.gov/event/midway-village-neighborhood-watch-meeting-3/2029-01-16/
LOCATION:Midway Village Baptist Church\, 4101 Thomas Dr\, Del City\, OK\, 73115\, United States
ATTACH;FMTTYPE=image/png:https://cityofdelcity.gov/wp-content/uploads/2025/01/MIDWAY-IMG.png
END:VEVENT
BEGIN:VEVENT
DTSTART;TZID=UTC:20290220T190000
DTEND;TZID=UTC:20290220T200000
DTSTAMP:20260421T045239
CREATED:20250124T222142Z
LAST-MODIFIED:20260227T164256Z
UID:10000645-1866308400-1866312000@cityofdelcity.gov
SUMMARY:Midway Village Neighborhood Watch Meeting
DESCRIPTION:
URL:https://cityofdelcity.gov/event/midway-village-neighborhood-watch-meeting-3/2029-02-20/
LOCATION:Midway Village Baptist Church\, 4101 Thomas Dr\, Del City\, OK\, 73115\, United States
ATTACH;FMTTYPE=image/png:https://cityofdelcity.gov/wp-content/uploads/2025/01/MIDWAY-IMG.png
END:VEVENT
BEGIN:VEVENT
DTSTART;TZID=UTC:20290320T190000
DTEND;TZID=UTC:20290320T200000
DTSTAMP:20260421T045239
CREATED:20250124T222142Z
LAST-MODIFIED:20260227T164256Z
UID:10000646-1868727600-1868731200@cityofdelcity.gov
SUMMARY:Midway Village Neighborhood Watch Meeting
DESCRIPTION:
URL:https://cityofdelcity.gov/event/midway-village-neighborhood-watch-meeting-3/2029-03-20/
LOCATION:Midway Village Baptist Church\, 4101 Thomas Dr\, Del City\, OK\, 73115\, United States
ATTACH;FMTTYPE=image/png:https://cityofdelcity.gov/wp-content/uploads/2025/01/MIDWAY-IMG.png
END:VEVENT
BEGIN:VEVENT
DTSTART;TZID=UTC:20290417T190000
DTEND;TZID=UTC:20290417T200000
DTSTAMP:20260421T045239
CREATED:20250124T222142Z
LAST-MODIFIED:20260227T164256Z
UID:10000647-1871146800-1871150400@cityofdelcity.gov
SUMMARY:Midway Village Neighborhood Watch Meeting
DESCRIPTION:
URL:https://cityofdelcity.gov/event/midway-village-neighborhood-watch-meeting-3/2029-04-17/
LOCATION:Midway Village Baptist Church\, 4101 Thomas Dr\, Del City\, OK\, 73115\, United States
ATTACH;FMTTYPE=image/png:https://cityofdelcity.gov/wp-content/uploads/2025/01/MIDWAY-IMG.png
END:VEVENT
BEGIN:VEVENT
DTSTART;TZID=UTC:20290515T190000
DTEND;TZID=UTC:20290515T200000
DTSTAMP:20260421T045240
CREATED:20250124T222142Z
LAST-MODIFIED:20260227T164256Z
UID:10000648-1873566000-1873569600@cityofdelcity.gov
SUMMARY:Midway Village Neighborhood Watch Meeting
DESCRIPTION:
URL:https://cityofdelcity.gov/event/midway-village-neighborhood-watch-meeting-3/2029-05-15/
LOCATION:Midway Village Baptist Church\, 4101 Thomas Dr\, Del City\, OK\, 73115\, United States
ATTACH;FMTTYPE=image/png:https://cityofdelcity.gov/wp-content/uploads/2025/01/MIDWAY-IMG.png
END:VEVENT
BEGIN:VEVENT
DTSTART;TZID=UTC:20290619T190000
DTEND;TZID=UTC:20290619T200000
DTSTAMP:20260421T045240
CREATED:20250124T222142Z
LAST-MODIFIED:20260227T164256Z
UID:10000649-1876590000-1876593600@cityofdelcity.gov
SUMMARY:Midway Village Neighborhood Watch Meeting
DESCRIPTION:
URL:https://cityofdelcity.gov/event/midway-village-neighborhood-watch-meeting-3/2029-06-19/
LOCATION:Midway Village Baptist Church\, 4101 Thomas Dr\, Del City\, OK\, 73115\, United States
ATTACH;FMTTYPE=image/png:https://cityofdelcity.gov/wp-content/uploads/2025/01/MIDWAY-IMG.png
END:VEVENT
BEGIN:VEVENT
DTSTART;TZID=UTC:20290717T190000
DTEND;TZID=UTC:20290717T200000
DTSTAMP:20260421T045240
CREATED:20250124T222142Z
LAST-MODIFIED:20260227T164256Z
UID:10000650-1879009200-1879012800@cityofdelcity.gov
SUMMARY:Midway Village Neighborhood Watch Meeting
DESCRIPTION:
URL:https://cityofdelcity.gov/event/midway-village-neighborhood-watch-meeting-3/2029-07-17/
LOCATION:Midway Village Baptist Church\, 4101 Thomas Dr\, Del City\, OK\, 73115\, United States
ATTACH;FMTTYPE=image/png:https://cityofdelcity.gov/wp-content/uploads/2025/01/MIDWAY-IMG.png
END:VEVENT
BEGIN:VEVENT
DTSTART;TZID=UTC:20290821T190000
DTEND;TZID=UTC:20290821T200000
DTSTAMP:20260421T045240
CREATED:20250124T222142Z
LAST-MODIFIED:20260227T164256Z
UID:10000651-1882033200-1882036800@cityofdelcity.gov
SUMMARY:Midway Village Neighborhood Watch Meeting
DESCRIPTION:
URL:https://cityofdelcity.gov/event/midway-village-neighborhood-watch-meeting-3/2029-08-21/
LOCATION:Midway Village Baptist Church\, 4101 Thomas Dr\, Del City\, OK\, 73115\, United States
ATTACH;FMTTYPE=image/png:https://cityofdelcity.gov/wp-content/uploads/2025/01/MIDWAY-IMG.png
END:VEVENT
BEGIN:VEVENT
DTSTART;TZID=UTC:20290918T190000
DTEND;TZID=UTC:20290918T200000
DTSTAMP:20260421T045240
CREATED:20250124T222142Z
LAST-MODIFIED:20260227T164256Z
UID:10000652-1884452400-1884456000@cityofdelcity.gov
SUMMARY:Midway Village Neighborhood Watch Meeting
DESCRIPTION:
URL:https://cityofdelcity.gov/event/midway-village-neighborhood-watch-meeting-3/2029-09-18/
LOCATION:Midway Village Baptist Church\, 4101 Thomas Dr\, Del City\, OK\, 73115\, United States
ATTACH;FMTTYPE=image/png:https://cityofdelcity.gov/wp-content/uploads/2025/01/MIDWAY-IMG.png
END:VEVENT
END:VCALENDAR