BEGIN:VCALENDAR
VERSION:2.0
PRODID:-//The City of Del City - ECPv6.15.20//NONSGML v1.0//EN
CALSCALE:GREGORIAN
METHOD:PUBLISH
X-ORIGINAL-URL:https://cityofdelcity.gov
X-WR-CALDESC:Events for The City of Del City
REFRESH-INTERVAL;VALUE=DURATION:PT1H
X-Robots-Tag:noindex
X-PUBLISHED-TTL:PT1H
BEGIN:VTIMEZONE
TZID:America/Chicago
BEGIN:DAYLIGHT
TZOFFSETFROM:-0600
TZOFFSETTO:-0500
TZNAME:CDT
DTSTART:20290311T080000
END:DAYLIGHT
BEGIN:STANDARD
TZOFFSETFROM:-0500
TZOFFSETTO:-0600
TZNAME:CST
DTSTART:20291104T070000
END:STANDARD
BEGIN:DAYLIGHT
TZOFFSETFROM:-0600
TZOFFSETTO:-0500
TZNAME:CDT
DTSTART:20300310T080000
END:DAYLIGHT
BEGIN:STANDARD
TZOFFSETFROM:-0500
TZOFFSETTO:-0600
TZNAME:CST
DTSTART:20301103T070000
END:STANDARD
BEGIN:DAYLIGHT
TZOFFSETFROM:-0600
TZOFFSETTO:-0500
TZNAME:CDT
DTSTART:20310309T080000
END:DAYLIGHT
BEGIN:STANDARD
TZOFFSETFROM:-0500
TZOFFSETTO:-0600
TZNAME:CST
DTSTART:20311102T070000
END:STANDARD
BEGIN:DAYLIGHT
TZOFFSETFROM:-0600
TZOFFSETTO:-0500
TZNAME:CDT
DTSTART:20320314T080000
END:DAYLIGHT
BEGIN:STANDARD
TZOFFSETFROM:-0500
TZOFFSETTO:-0600
TZNAME:CST
DTSTART:20321107T070000
END:STANDARD
END:VTIMEZONE
BEGIN:VEVENT
DTSTART;TZID=America/Chicago:20301203T200000
DTEND;TZID=America/Chicago:20301203T210000
DTSTAMP:20260423T102637
CREATED:20260423T145307Z
LAST-MODIFIED:20260423T145623Z
UID:10005956-1922558400-1922562000@cityofdelcity.gov
SUMMARY:Del City Rotary Meeting
DESCRIPTION:Join us at the Rotary Club of Del City!\n\n\n\nWe meet every Tuesday at 8:00 AM at the Dignity Event Center\, located at 3900 SE 29th\, Del City\, OK 73115. Rotary is a place where community leaders come together to build friendships\, serve others\, and make a positive impact locally and around the world. If you’re interested in service\, networking\, and connecting with others who care about the community\, we’d love to have you join us for a meeting!\n\n\nQuestions?\n\n\n\n\nPhone: 405-316-0479\n\n\n\n\n\nEmail: lhopper572@gmail.com
URL:https://cityofdelcity.gov/event/rotary-meeting/2030-12-03/
LOCATION:Dignity Event Center\, 3900 SE 29th\, Del City\, OK\, 73115\, United States
ATTACH;FMTTYPE=image/svg+xml:https://cityofdelcity.gov/wp-content/uploads/2026/04/rotary-logo-color-2019-simplified.svg
END:VEVENT
BEGIN:VEVENT
DTSTART;TZID=America/Chicago:20301210T200000
DTEND;TZID=America/Chicago:20301210T210000
DTSTAMP:20260423T102637
CREATED:20260423T145307Z
LAST-MODIFIED:20260423T145623Z
UID:10005957-1923163200-1923166800@cityofdelcity.gov
SUMMARY:Del City Rotary Meeting
DESCRIPTION:Join us at the Rotary Club of Del City!\n\n\n\nWe meet every Tuesday at 8:00 AM at the Dignity Event Center\, located at 3900 SE 29th\, Del City\, OK 73115. Rotary is a place where community leaders come together to build friendships\, serve others\, and make a positive impact locally and around the world. If you’re interested in service\, networking\, and connecting with others who care about the community\, we’d love to have you join us for a meeting!\n\n\nQuestions?\n\n\n\n\nPhone: 405-316-0479\n\n\n\n\n\nEmail: lhopper572@gmail.com
URL:https://cityofdelcity.gov/event/rotary-meeting/2030-12-10/
LOCATION:Dignity Event Center\, 3900 SE 29th\, Del City\, OK\, 73115\, United States
ATTACH;FMTTYPE=image/svg+xml:https://cityofdelcity.gov/wp-content/uploads/2026/04/rotary-logo-color-2019-simplified.svg
END:VEVENT
BEGIN:VEVENT
DTSTART;TZID=America/Chicago:20301217T200000
DTEND;TZID=America/Chicago:20301217T210000
DTSTAMP:20260423T102637
CREATED:20260423T145307Z
LAST-MODIFIED:20260423T145623Z
UID:10005958-1923768000-1923771600@cityofdelcity.gov
SUMMARY:Del City Rotary Meeting
DESCRIPTION:Join us at the Rotary Club of Del City!\n\n\n\nWe meet every Tuesday at 8:00 AM at the Dignity Event Center\, located at 3900 SE 29th\, Del City\, OK 73115. Rotary is a place where community leaders come together to build friendships\, serve others\, and make a positive impact locally and around the world. If you’re interested in service\, networking\, and connecting with others who care about the community\, we’d love to have you join us for a meeting!\n\n\nQuestions?\n\n\n\n\nPhone: 405-316-0479\n\n\n\n\n\nEmail: lhopper572@gmail.com
URL:https://cityofdelcity.gov/event/rotary-meeting/2030-12-17/
LOCATION:Dignity Event Center\, 3900 SE 29th\, Del City\, OK\, 73115\, United States
ATTACH;FMTTYPE=image/svg+xml:https://cityofdelcity.gov/wp-content/uploads/2026/04/rotary-logo-color-2019-simplified.svg
END:VEVENT
BEGIN:VEVENT
DTSTART;TZID=America/Chicago:20301224T200000
DTEND;TZID=America/Chicago:20301224T210000
DTSTAMP:20260423T102637
CREATED:20260423T145307Z
LAST-MODIFIED:20260423T145623Z
UID:10005959-1924372800-1924376400@cityofdelcity.gov
SUMMARY:Del City Rotary Meeting
DESCRIPTION:Join us at the Rotary Club of Del City!\n\n\n\nWe meet every Tuesday at 8:00 AM at the Dignity Event Center\, located at 3900 SE 29th\, Del City\, OK 73115. Rotary is a place where community leaders come together to build friendships\, serve others\, and make a positive impact locally and around the world. If you’re interested in service\, networking\, and connecting with others who care about the community\, we’d love to have you join us for a meeting!\n\n\nQuestions?\n\n\n\n\nPhone: 405-316-0479\n\n\n\n\n\nEmail: lhopper572@gmail.com
URL:https://cityofdelcity.gov/event/rotary-meeting/2030-12-24/
LOCATION:Dignity Event Center\, 3900 SE 29th\, Del City\, OK\, 73115\, United States
ATTACH;FMTTYPE=image/svg+xml:https://cityofdelcity.gov/wp-content/uploads/2026/04/rotary-logo-color-2019-simplified.svg
END:VEVENT
BEGIN:VEVENT
DTSTART;TZID=America/Chicago:20301231T200000
DTEND;TZID=America/Chicago:20301231T210000
DTSTAMP:20260423T102637
CREATED:20260423T145307Z
LAST-MODIFIED:20260423T145623Z
UID:10005960-1924977600-1924981200@cityofdelcity.gov
SUMMARY:Del City Rotary Meeting
DESCRIPTION:Join us at the Rotary Club of Del City!\n\n\n\nWe meet every Tuesday at 8:00 AM at the Dignity Event Center\, located at 3900 SE 29th\, Del City\, OK 73115. Rotary is a place where community leaders come together to build friendships\, serve others\, and make a positive impact locally and around the world. If you’re interested in service\, networking\, and connecting with others who care about the community\, we’d love to have you join us for a meeting!\n\n\nQuestions?\n\n\n\n\nPhone: 405-316-0479\n\n\n\n\n\nEmail: lhopper572@gmail.com
URL:https://cityofdelcity.gov/event/rotary-meeting/2030-12-31/
LOCATION:Dignity Event Center\, 3900 SE 29th\, Del City\, OK\, 73115\, United States
ATTACH;FMTTYPE=image/svg+xml:https://cityofdelcity.gov/wp-content/uploads/2026/04/rotary-logo-color-2019-simplified.svg
END:VEVENT
BEGIN:VEVENT
DTSTART;TZID=America/Chicago:20310107T200000
DTEND;TZID=America/Chicago:20310107T210000
DTSTAMP:20260423T102637
CREATED:20260423T145307Z
LAST-MODIFIED:20260423T145623Z
UID:10005961-1925582400-1925586000@cityofdelcity.gov
SUMMARY:Del City Rotary Meeting
DESCRIPTION:Join us at the Rotary Club of Del City!\n\n\n\nWe meet every Tuesday at 8:00 AM at the Dignity Event Center\, located at 3900 SE 29th\, Del City\, OK 73115. Rotary is a place where community leaders come together to build friendships\, serve others\, and make a positive impact locally and around the world. If you’re interested in service\, networking\, and connecting with others who care about the community\, we’d love to have you join us for a meeting!\n\n\nQuestions?\n\n\n\n\nPhone: 405-316-0479\n\n\n\n\n\nEmail: lhopper572@gmail.com
URL:https://cityofdelcity.gov/event/rotary-meeting/2031-01-07/
LOCATION:Dignity Event Center\, 3900 SE 29th\, Del City\, OK\, 73115\, United States
ATTACH;FMTTYPE=image/svg+xml:https://cityofdelcity.gov/wp-content/uploads/2026/04/rotary-logo-color-2019-simplified.svg
END:VEVENT
BEGIN:VEVENT
DTSTART;TZID=America/Chicago:20310114T200000
DTEND;TZID=America/Chicago:20310114T210000
DTSTAMP:20260423T102637
CREATED:20260423T145307Z
LAST-MODIFIED:20260423T145623Z
UID:10005962-1926187200-1926190800@cityofdelcity.gov
SUMMARY:Del City Rotary Meeting
DESCRIPTION:Join us at the Rotary Club of Del City!\n\n\n\nWe meet every Tuesday at 8:00 AM at the Dignity Event Center\, located at 3900 SE 29th\, Del City\, OK 73115. Rotary is a place where community leaders come together to build friendships\, serve others\, and make a positive impact locally and around the world. If you’re interested in service\, networking\, and connecting with others who care about the community\, we’d love to have you join us for a meeting!\n\n\nQuestions?\n\n\n\n\nPhone: 405-316-0479\n\n\n\n\n\nEmail: lhopper572@gmail.com
URL:https://cityofdelcity.gov/event/rotary-meeting/2031-01-14/
LOCATION:Dignity Event Center\, 3900 SE 29th\, Del City\, OK\, 73115\, United States
ATTACH;FMTTYPE=image/svg+xml:https://cityofdelcity.gov/wp-content/uploads/2026/04/rotary-logo-color-2019-simplified.svg
END:VEVENT
BEGIN:VEVENT
DTSTART;TZID=America/Chicago:20310121T200000
DTEND;TZID=America/Chicago:20310121T210000
DTSTAMP:20260423T102637
CREATED:20260423T145307Z
LAST-MODIFIED:20260423T145623Z
UID:10005963-1926792000-1926795600@cityofdelcity.gov
SUMMARY:Del City Rotary Meeting
DESCRIPTION:Join us at the Rotary Club of Del City!\n\n\n\nWe meet every Tuesday at 8:00 AM at the Dignity Event Center\, located at 3900 SE 29th\, Del City\, OK 73115. Rotary is a place where community leaders come together to build friendships\, serve others\, and make a positive impact locally and around the world. If you’re interested in service\, networking\, and connecting with others who care about the community\, we’d love to have you join us for a meeting!\n\n\nQuestions?\n\n\n\n\nPhone: 405-316-0479\n\n\n\n\n\nEmail: lhopper572@gmail.com
URL:https://cityofdelcity.gov/event/rotary-meeting/2031-01-21/
LOCATION:Dignity Event Center\, 3900 SE 29th\, Del City\, OK\, 73115\, United States
ATTACH;FMTTYPE=image/svg+xml:https://cityofdelcity.gov/wp-content/uploads/2026/04/rotary-logo-color-2019-simplified.svg
END:VEVENT
BEGIN:VEVENT
DTSTART;TZID=America/Chicago:20310128T200000
DTEND;TZID=America/Chicago:20310128T210000
DTSTAMP:20260423T102637
CREATED:20260423T145307Z
LAST-MODIFIED:20260423T145623Z
UID:10005964-1927396800-1927400400@cityofdelcity.gov
SUMMARY:Del City Rotary Meeting
DESCRIPTION:Join us at the Rotary Club of Del City!\n\n\n\nWe meet every Tuesday at 8:00 AM at the Dignity Event Center\, located at 3900 SE 29th\, Del City\, OK 73115. Rotary is a place where community leaders come together to build friendships\, serve others\, and make a positive impact locally and around the world. If you’re interested in service\, networking\, and connecting with others who care about the community\, we’d love to have you join us for a meeting!\n\n\nQuestions?\n\n\n\n\nPhone: 405-316-0479\n\n\n\n\n\nEmail: lhopper572@gmail.com
URL:https://cityofdelcity.gov/event/rotary-meeting/2031-01-28/
LOCATION:Dignity Event Center\, 3900 SE 29th\, Del City\, OK\, 73115\, United States
ATTACH;FMTTYPE=image/svg+xml:https://cityofdelcity.gov/wp-content/uploads/2026/04/rotary-logo-color-2019-simplified.svg
END:VEVENT
BEGIN:VEVENT
DTSTART;TZID=America/Chicago:20310204T200000
DTEND;TZID=America/Chicago:20310204T210000
DTSTAMP:20260423T102637
CREATED:20260423T145307Z
LAST-MODIFIED:20260423T145623Z
UID:10005965-1928001600-1928005200@cityofdelcity.gov
SUMMARY:Del City Rotary Meeting
DESCRIPTION:Join us at the Rotary Club of Del City!\n\n\n\nWe meet every Tuesday at 8:00 AM at the Dignity Event Center\, located at 3900 SE 29th\, Del City\, OK 73115. Rotary is a place where community leaders come together to build friendships\, serve others\, and make a positive impact locally and around the world. If you’re interested in service\, networking\, and connecting with others who care about the community\, we’d love to have you join us for a meeting!\n\n\nQuestions?\n\n\n\n\nPhone: 405-316-0479\n\n\n\n\n\nEmail: lhopper572@gmail.com
URL:https://cityofdelcity.gov/event/rotary-meeting/2031-02-04/
LOCATION:Dignity Event Center\, 3900 SE 29th\, Del City\, OK\, 73115\, United States
ATTACH;FMTTYPE=image/svg+xml:https://cityofdelcity.gov/wp-content/uploads/2026/04/rotary-logo-color-2019-simplified.svg
END:VEVENT
BEGIN:VEVENT
DTSTART;TZID=America/Chicago:20310211T200000
DTEND;TZID=America/Chicago:20310211T210000
DTSTAMP:20260423T102637
CREATED:20260423T145307Z
LAST-MODIFIED:20260423T145623Z
UID:10005966-1928606400-1928610000@cityofdelcity.gov
SUMMARY:Del City Rotary Meeting
DESCRIPTION:Join us at the Rotary Club of Del City!\n\n\n\nWe meet every Tuesday at 8:00 AM at the Dignity Event Center\, located at 3900 SE 29th\, Del City\, OK 73115. Rotary is a place where community leaders come together to build friendships\, serve others\, and make a positive impact locally and around the world. If you’re interested in service\, networking\, and connecting with others who care about the community\, we’d love to have you join us for a meeting!\n\n\nQuestions?\n\n\n\n\nPhone: 405-316-0479\n\n\n\n\n\nEmail: lhopper572@gmail.com
URL:https://cityofdelcity.gov/event/rotary-meeting/2031-02-11/
LOCATION:Dignity Event Center\, 3900 SE 29th\, Del City\, OK\, 73115\, United States
ATTACH;FMTTYPE=image/svg+xml:https://cityofdelcity.gov/wp-content/uploads/2026/04/rotary-logo-color-2019-simplified.svg
END:VEVENT
BEGIN:VEVENT
DTSTART;TZID=America/Chicago:20310218T200000
DTEND;TZID=America/Chicago:20310218T210000
DTSTAMP:20260423T102637
CREATED:20260423T145307Z
LAST-MODIFIED:20260423T145623Z
UID:10005967-1929211200-1929214800@cityofdelcity.gov
SUMMARY:Del City Rotary Meeting
DESCRIPTION:Join us at the Rotary Club of Del City!\n\n\n\nWe meet every Tuesday at 8:00 AM at the Dignity Event Center\, located at 3900 SE 29th\, Del City\, OK 73115. Rotary is a place where community leaders come together to build friendships\, serve others\, and make a positive impact locally and around the world. If you’re interested in service\, networking\, and connecting with others who care about the community\, we’d love to have you join us for a meeting!\n\n\nQuestions?\n\n\n\n\nPhone: 405-316-0479\n\n\n\n\n\nEmail: lhopper572@gmail.com
URL:https://cityofdelcity.gov/event/rotary-meeting/2031-02-18/
LOCATION:Dignity Event Center\, 3900 SE 29th\, Del City\, OK\, 73115\, United States
ATTACH;FMTTYPE=image/svg+xml:https://cityofdelcity.gov/wp-content/uploads/2026/04/rotary-logo-color-2019-simplified.svg
END:VEVENT
BEGIN:VEVENT
DTSTART;TZID=America/Chicago:20310225T200000
DTEND;TZID=America/Chicago:20310225T210000
DTSTAMP:20260423T102637
CREATED:20260423T145307Z
LAST-MODIFIED:20260423T145623Z
UID:10005968-1929816000-1929819600@cityofdelcity.gov
SUMMARY:Del City Rotary Meeting
DESCRIPTION:Join us at the Rotary Club of Del City!\n\n\n\nWe meet every Tuesday at 8:00 AM at the Dignity Event Center\, located at 3900 SE 29th\, Del City\, OK 73115. Rotary is a place where community leaders come together to build friendships\, serve others\, and make a positive impact locally and around the world. If you’re interested in service\, networking\, and connecting with others who care about the community\, we’d love to have you join us for a meeting!\n\n\nQuestions?\n\n\n\n\nPhone: 405-316-0479\n\n\n\n\n\nEmail: lhopper572@gmail.com
URL:https://cityofdelcity.gov/event/rotary-meeting/2031-02-25/
LOCATION:Dignity Event Center\, 3900 SE 29th\, Del City\, OK\, 73115\, United States
ATTACH;FMTTYPE=image/svg+xml:https://cityofdelcity.gov/wp-content/uploads/2026/04/rotary-logo-color-2019-simplified.svg
END:VEVENT
BEGIN:VEVENT
DTSTART;TZID=America/Chicago:20310304T200000
DTEND;TZID=America/Chicago:20310304T210000
DTSTAMP:20260423T102637
CREATED:20260423T145307Z
LAST-MODIFIED:20260423T145623Z
UID:10005969-1930420800-1930424400@cityofdelcity.gov
SUMMARY:Del City Rotary Meeting
DESCRIPTION:Join us at the Rotary Club of Del City!\n\n\n\nWe meet every Tuesday at 8:00 AM at the Dignity Event Center\, located at 3900 SE 29th\, Del City\, OK 73115. Rotary is a place where community leaders come together to build friendships\, serve others\, and make a positive impact locally and around the world. If you’re interested in service\, networking\, and connecting with others who care about the community\, we’d love to have you join us for a meeting!\n\n\nQuestions?\n\n\n\n\nPhone: 405-316-0479\n\n\n\n\n\nEmail: lhopper572@gmail.com
URL:https://cityofdelcity.gov/event/rotary-meeting/2031-03-04/
LOCATION:Dignity Event Center\, 3900 SE 29th\, Del City\, OK\, 73115\, United States
ATTACH;FMTTYPE=image/svg+xml:https://cityofdelcity.gov/wp-content/uploads/2026/04/rotary-logo-color-2019-simplified.svg
END:VEVENT
BEGIN:VEVENT
DTSTART;TZID=America/Chicago:20310311T200000
DTEND;TZID=America/Chicago:20310311T210000
DTSTAMP:20260423T102637
CREATED:20260423T145307Z
LAST-MODIFIED:20260423T145623Z
UID:10005970-1931025600-1931029200@cityofdelcity.gov
SUMMARY:Del City Rotary Meeting
DESCRIPTION:Join us at the Rotary Club of Del City!\n\n\n\nWe meet every Tuesday at 8:00 AM at the Dignity Event Center\, located at 3900 SE 29th\, Del City\, OK 73115. Rotary is a place where community leaders come together to build friendships\, serve others\, and make a positive impact locally and around the world. If you’re interested in service\, networking\, and connecting with others who care about the community\, we’d love to have you join us for a meeting!\n\n\nQuestions?\n\n\n\n\nPhone: 405-316-0479\n\n\n\n\n\nEmail: lhopper572@gmail.com
URL:https://cityofdelcity.gov/event/rotary-meeting/2031-03-11/
LOCATION:Dignity Event Center\, 3900 SE 29th\, Del City\, OK\, 73115\, United States
ATTACH;FMTTYPE=image/svg+xml:https://cityofdelcity.gov/wp-content/uploads/2026/04/rotary-logo-color-2019-simplified.svg
END:VEVENT
BEGIN:VEVENT
DTSTART;TZID=America/Chicago:20310318T200000
DTEND;TZID=America/Chicago:20310318T210000
DTSTAMP:20260423T102637
CREATED:20260423T145307Z
LAST-MODIFIED:20260423T145623Z
UID:10005971-1931630400-1931634000@cityofdelcity.gov
SUMMARY:Del City Rotary Meeting
DESCRIPTION:Join us at the Rotary Club of Del City!\n\n\n\nWe meet every Tuesday at 8:00 AM at the Dignity Event Center\, located at 3900 SE 29th\, Del City\, OK 73115. Rotary is a place where community leaders come together to build friendships\, serve others\, and make a positive impact locally and around the world. If you’re interested in service\, networking\, and connecting with others who care about the community\, we’d love to have you join us for a meeting!\n\n\nQuestions?\n\n\n\n\nPhone: 405-316-0479\n\n\n\n\n\nEmail: lhopper572@gmail.com
URL:https://cityofdelcity.gov/event/rotary-meeting/2031-03-18/
LOCATION:Dignity Event Center\, 3900 SE 29th\, Del City\, OK\, 73115\, United States
ATTACH;FMTTYPE=image/svg+xml:https://cityofdelcity.gov/wp-content/uploads/2026/04/rotary-logo-color-2019-simplified.svg
END:VEVENT
BEGIN:VEVENT
DTSTART;TZID=America/Chicago:20310325T200000
DTEND;TZID=America/Chicago:20310325T210000
DTSTAMP:20260423T102637
CREATED:20260423T145307Z
LAST-MODIFIED:20260423T145623Z
UID:10005972-1932235200-1932238800@cityofdelcity.gov
SUMMARY:Del City Rotary Meeting
DESCRIPTION:Join us at the Rotary Club of Del City!\n\n\n\nWe meet every Tuesday at 8:00 AM at the Dignity Event Center\, located at 3900 SE 29th\, Del City\, OK 73115. Rotary is a place where community leaders come together to build friendships\, serve others\, and make a positive impact locally and around the world. If you’re interested in service\, networking\, and connecting with others who care about the community\, we’d love to have you join us for a meeting!\n\n\nQuestions?\n\n\n\n\nPhone: 405-316-0479\n\n\n\n\n\nEmail: lhopper572@gmail.com
URL:https://cityofdelcity.gov/event/rotary-meeting/2031-03-25/
LOCATION:Dignity Event Center\, 3900 SE 29th\, Del City\, OK\, 73115\, United States
ATTACH;FMTTYPE=image/svg+xml:https://cityofdelcity.gov/wp-content/uploads/2026/04/rotary-logo-color-2019-simplified.svg
END:VEVENT
BEGIN:VEVENT
DTSTART;TZID=America/Chicago:20310401T200000
DTEND;TZID=America/Chicago:20310401T210000
DTSTAMP:20260423T102637
CREATED:20260423T145307Z
LAST-MODIFIED:20260423T145623Z
UID:10005973-1932840000-1932843600@cityofdelcity.gov
SUMMARY:Del City Rotary Meeting
DESCRIPTION:Join us at the Rotary Club of Del City!\n\n\n\nWe meet every Tuesday at 8:00 AM at the Dignity Event Center\, located at 3900 SE 29th\, Del City\, OK 73115. Rotary is a place where community leaders come together to build friendships\, serve others\, and make a positive impact locally and around the world. If you’re interested in service\, networking\, and connecting with others who care about the community\, we’d love to have you join us for a meeting!\n\n\nQuestions?\n\n\n\n\nPhone: 405-316-0479\n\n\n\n\n\nEmail: lhopper572@gmail.com
URL:https://cityofdelcity.gov/event/rotary-meeting/2031-04-01/
LOCATION:Dignity Event Center\, 3900 SE 29th\, Del City\, OK\, 73115\, United States
ATTACH;FMTTYPE=image/svg+xml:https://cityofdelcity.gov/wp-content/uploads/2026/04/rotary-logo-color-2019-simplified.svg
END:VEVENT
BEGIN:VEVENT
DTSTART;TZID=America/Chicago:20310408T200000
DTEND;TZID=America/Chicago:20310408T210000
DTSTAMP:20260423T102637
CREATED:20260423T145307Z
LAST-MODIFIED:20260423T145623Z
UID:10005974-1933444800-1933448400@cityofdelcity.gov
SUMMARY:Del City Rotary Meeting
DESCRIPTION:Join us at the Rotary Club of Del City!\n\n\n\nWe meet every Tuesday at 8:00 AM at the Dignity Event Center\, located at 3900 SE 29th\, Del City\, OK 73115. Rotary is a place where community leaders come together to build friendships\, serve others\, and make a positive impact locally and around the world. If you’re interested in service\, networking\, and connecting with others who care about the community\, we’d love to have you join us for a meeting!\n\n\nQuestions?\n\n\n\n\nPhone: 405-316-0479\n\n\n\n\n\nEmail: lhopper572@gmail.com
URL:https://cityofdelcity.gov/event/rotary-meeting/2031-04-08/
LOCATION:Dignity Event Center\, 3900 SE 29th\, Del City\, OK\, 73115\, United States
ATTACH;FMTTYPE=image/svg+xml:https://cityofdelcity.gov/wp-content/uploads/2026/04/rotary-logo-color-2019-simplified.svg
END:VEVENT
BEGIN:VEVENT
DTSTART;TZID=America/Chicago:20310415T200000
DTEND;TZID=America/Chicago:20310415T210000
DTSTAMP:20260423T102637
CREATED:20260423T145307Z
LAST-MODIFIED:20260423T145623Z
UID:10005975-1934049600-1934053200@cityofdelcity.gov
SUMMARY:Del City Rotary Meeting
DESCRIPTION:Join us at the Rotary Club of Del City!\n\n\n\nWe meet every Tuesday at 8:00 AM at the Dignity Event Center\, located at 3900 SE 29th\, Del City\, OK 73115. Rotary is a place where community leaders come together to build friendships\, serve others\, and make a positive impact locally and around the world. If you’re interested in service\, networking\, and connecting with others who care about the community\, we’d love to have you join us for a meeting!\n\n\nQuestions?\n\n\n\n\nPhone: 405-316-0479\n\n\n\n\n\nEmail: lhopper572@gmail.com
URL:https://cityofdelcity.gov/event/rotary-meeting/2031-04-15/
LOCATION:Dignity Event Center\, 3900 SE 29th\, Del City\, OK\, 73115\, United States
ATTACH;FMTTYPE=image/svg+xml:https://cityofdelcity.gov/wp-content/uploads/2026/04/rotary-logo-color-2019-simplified.svg
END:VEVENT
BEGIN:VEVENT
DTSTART;TZID=America/Chicago:20310422T200000
DTEND;TZID=America/Chicago:20310422T210000
DTSTAMP:20260423T102637
CREATED:20260423T145307Z
LAST-MODIFIED:20260423T145623Z
UID:10005976-1934654400-1934658000@cityofdelcity.gov
SUMMARY:Del City Rotary Meeting
DESCRIPTION:Join us at the Rotary Club of Del City!\n\n\n\nWe meet every Tuesday at 8:00 AM at the Dignity Event Center\, located at 3900 SE 29th\, Del City\, OK 73115. Rotary is a place where community leaders come together to build friendships\, serve others\, and make a positive impact locally and around the world. If you’re interested in service\, networking\, and connecting with others who care about the community\, we’d love to have you join us for a meeting!\n\n\nQuestions?\n\n\n\n\nPhone: 405-316-0479\n\n\n\n\n\nEmail: lhopper572@gmail.com
URL:https://cityofdelcity.gov/event/rotary-meeting/2031-04-22/
LOCATION:Dignity Event Center\, 3900 SE 29th\, Del City\, OK\, 73115\, United States
ATTACH;FMTTYPE=image/svg+xml:https://cityofdelcity.gov/wp-content/uploads/2026/04/rotary-logo-color-2019-simplified.svg
END:VEVENT
END:VCALENDAR