BEGIN:VCALENDAR
VERSION:2.0
PRODID:-//The City of Del City - ECPv6.15.20//NONSGML v1.0//EN
CALSCALE:GREGORIAN
METHOD:PUBLISH
X-ORIGINAL-URL:https://cityofdelcity.gov
X-WR-CALDESC:Events for The City of Del City
REFRESH-INTERVAL;VALUE=DURATION:PT1H
X-Robots-Tag:noindex
X-PUBLISHED-TTL:PT1H
BEGIN:VTIMEZONE
TZID:America/Chicago
BEGIN:DAYLIGHT
TZOFFSETFROM:-0600
TZOFFSETTO:-0500
TZNAME:CDT
DTSTART:20260308T080000
END:DAYLIGHT
BEGIN:STANDARD
TZOFFSETFROM:-0500
TZOFFSETTO:-0600
TZNAME:CST
DTSTART:20261101T070000
END:STANDARD
BEGIN:DAYLIGHT
TZOFFSETFROM:-0600
TZOFFSETTO:-0500
TZNAME:CDT
DTSTART:20270314T080000
END:DAYLIGHT
BEGIN:STANDARD
TZOFFSETFROM:-0500
TZOFFSETTO:-0600
TZNAME:CST
DTSTART:20271107T070000
END:STANDARD
BEGIN:DAYLIGHT
TZOFFSETFROM:-0600
TZOFFSETTO:-0500
TZNAME:CDT
DTSTART:20280312T080000
END:DAYLIGHT
BEGIN:STANDARD
TZOFFSETFROM:-0500
TZOFFSETTO:-0600
TZNAME:CST
DTSTART:20281105T070000
END:STANDARD
END:VTIMEZONE
BEGIN:VEVENT
DTSTART;TZID=America/Chicago:20270604T104500
DTEND;TZID=America/Chicago:20270604T114500
DTSTAMP:20260423T192539
CREATED:20260310T191458Z
LAST-MODIFIED:20260310T191459Z
UID:10004006-1812105900-1812109500@cityofdelcity.gov
SUMMARY:S.A.I.L
DESCRIPTION:Mondays\, Wednesdays\, Fridays\, beginning Dec 1st\, 2025. 10:45AM-11:45AM YMCA – S.A.I.L. (Staying Active and Independent for Life) Strength\, Balance\, and Fitness Program.
URL:https://cityofdelcity.gov/event/s-a-i-l-2-2/2027-06-04/
LOCATION:Del City Community Center\, 4505 SE 15th St.\, Del City\, 73115\, United States
ATTACH;FMTTYPE=image/png:https://cityofdelcity.gov/wp-content/uploads/2025/11/S.A.I.L.png
END:VEVENT
BEGIN:VEVENT
DTSTART;TZID=America/Chicago:20270607T104500
DTEND;TZID=America/Chicago:20270607T114500
DTSTAMP:20260423T192539
CREATED:20260310T191458Z
LAST-MODIFIED:20260310T191459Z
UID:10004007-1812365100-1812368700@cityofdelcity.gov
SUMMARY:S.A.I.L
DESCRIPTION:Mondays\, Wednesdays\, Fridays\, beginning Dec 1st\, 2025. 10:45AM-11:45AM YMCA – S.A.I.L. (Staying Active and Independent for Life) Strength\, Balance\, and Fitness Program.
URL:https://cityofdelcity.gov/event/s-a-i-l-2-2/2027-06-07/
LOCATION:Del City Community Center\, 4505 SE 15th St.\, Del City\, 73115\, United States
ATTACH;FMTTYPE=image/png:https://cityofdelcity.gov/wp-content/uploads/2025/11/S.A.I.L.png
END:VEVENT
BEGIN:VEVENT
DTSTART;TZID=America/Chicago:20270607T130000
DTEND;TZID=America/Chicago:20270607T140000
DTSTAMP:20260423T192539
CREATED:20251121T161409Z
LAST-MODIFIED:20260126T131616Z
UID:10004629-1812373200-1812376800@cityofdelcity.gov
SUMMARY:TAI CHI
DESCRIPTION:Mondays and Wednesdays\, from 1pm – 2pm. YMCA Tai Chi: Moving for Better Balance. Learning balance skills\, proper body alignment\, and coordinated Tai Chi movements.
URL:https://cityofdelcity.gov/event/tai-chi/2027-06-07/
LOCATION:Del City Community Center\, 4505 SE 15th St.\, Del City\, 73115\, United States
ATTACH;FMTTYPE=image/png:https://cityofdelcity.gov/wp-content/uploads/2025/11/TAI-CHI.png
END:VEVENT
BEGIN:VEVENT
DTSTART;TZID=America/Chicago:20270607T141500
DTEND;TZID=America/Chicago:20270607T151500
DTSTAMP:20260423T192539
CREATED:20251014T193852Z
LAST-MODIFIED:20260126T131653Z
UID:10003400-1812377700-1812381300@cityofdelcity.gov
SUMMARY:Forever Well\, Steady\, & Strong
DESCRIPTION:Mondays and Wednesdays\, from 2:15PM – 3:15PM\, YMCA Forever Well Steady & Strong. Senior focused fitness class that builds strength\, balance\, and flexibility through standing or chair supported exercises.
URL:https://cityofdelcity.gov/event/chair-based-strength-class-hosted-by-the-ymca-2/2027-06-07/
LOCATION:Del City Community Center\, 4505 SE 15th St.\, Del City\, 73115\, United States
ATTACH;FMTTYPE=image/png:https://cityofdelcity.gov/wp-content/uploads/2025/10/FOREVER-WELL-STEADY-STRONG.png
END:VEVENT
BEGIN:VEVENT
DTSTART;TZID=America/Chicago:20270609T104500
DTEND;TZID=America/Chicago:20270609T114500
DTSTAMP:20260423T192539
CREATED:20260310T191458Z
LAST-MODIFIED:20260310T191459Z
UID:10004008-1812537900-1812541500@cityofdelcity.gov
SUMMARY:S.A.I.L
DESCRIPTION:Mondays\, Wednesdays\, Fridays\, beginning Dec 1st\, 2025. 10:45AM-11:45AM YMCA – S.A.I.L. (Staying Active and Independent for Life) Strength\, Balance\, and Fitness Program.
URL:https://cityofdelcity.gov/event/s-a-i-l-2-2/2027-06-09/
LOCATION:Del City Community Center\, 4505 SE 15th St.\, Del City\, 73115\, United States
ATTACH;FMTTYPE=image/png:https://cityofdelcity.gov/wp-content/uploads/2025/11/S.A.I.L.png
END:VEVENT
BEGIN:VEVENT
DTSTART;TZID=America/Chicago:20270609T130000
DTEND;TZID=America/Chicago:20270609T140000
DTSTAMP:20260423T192539
CREATED:20251121T161409Z
LAST-MODIFIED:20260126T131616Z
UID:10004630-1812546000-1812549600@cityofdelcity.gov
SUMMARY:TAI CHI
DESCRIPTION:Mondays and Wednesdays\, from 1pm – 2pm. YMCA Tai Chi: Moving for Better Balance. Learning balance skills\, proper body alignment\, and coordinated Tai Chi movements.
URL:https://cityofdelcity.gov/event/tai-chi/2027-06-09/
LOCATION:Del City Community Center\, 4505 SE 15th St.\, Del City\, 73115\, United States
ATTACH;FMTTYPE=image/png:https://cityofdelcity.gov/wp-content/uploads/2025/11/TAI-CHI.png
END:VEVENT
BEGIN:VEVENT
DTSTART;TZID=America/Chicago:20270609T141500
DTEND;TZID=America/Chicago:20270609T151500
DTSTAMP:20260423T192539
CREATED:20251014T193852Z
LAST-MODIFIED:20260126T131653Z
UID:10003401-1812550500-1812554100@cityofdelcity.gov
SUMMARY:Forever Well\, Steady\, & Strong
DESCRIPTION:Mondays and Wednesdays\, from 2:15PM – 3:15PM\, YMCA Forever Well Steady & Strong. Senior focused fitness class that builds strength\, balance\, and flexibility through standing or chair supported exercises.
URL:https://cityofdelcity.gov/event/chair-based-strength-class-hosted-by-the-ymca-2/2027-06-09/
LOCATION:Del City Community Center\, 4505 SE 15th St.\, Del City\, 73115\, United States
ATTACH;FMTTYPE=image/png:https://cityofdelcity.gov/wp-content/uploads/2025/10/FOREVER-WELL-STEADY-STRONG.png
END:VEVENT
BEGIN:VEVENT
DTSTART;TZID=America/Chicago:20270610T093000
DTEND;TZID=America/Chicago:20270610T123000
DTSTAMP:20260423T192539
CREATED:20260413T214135Z
LAST-MODIFIED:20260422T201409Z
UID:10002812-1812619800-1812630600@cityofdelcity.gov
SUMMARY:Del City Crafters hosted by Diane
DESCRIPTION:This is a craft and quilting class for all ages and skill levels. Contact Diane at (405)677-1821 for information. \n***Space is limited***
URL:https://cityofdelcity.gov/event/del-city-crafters-hosted-by-diane-3/2027-06-10/
LOCATION:Del City Community Center\, 4505 SE 15th St.\, Del City\, 73115\, United States
ATTACH;FMTTYPE=image/jpeg:https://cityofdelcity.gov/wp-content/uploads/2026/04/IMG_3565-2-scaled.jpeg
END:VEVENT
BEGIN:VEVENT
DTSTART;TZID=America/Chicago:20270610T190000
DTEND;TZID=America/Chicago:20270610T200000
DTSTAMP:20260423T192539
CREATED:20260227T163144Z
LAST-MODIFIED:20260309T133111Z
UID:10005622-1812654000-1812657600@cityofdelcity.gov
SUMMARY:Olde Towne Neighborhood Watch
DESCRIPTION:
URL:https://cityofdelcity.gov/event/olde-towne-neighborhood-watch/2027-06-10/
LOCATION:Del City Community Center\, 4505 SE 15th St.\, Del City\, 73115\, United States
ATTACH;FMTTYPE=image/png:https://cityofdelcity.gov/wp-content/uploads/2026/02/OLDE-TOWNE-IMG.png
END:VEVENT
BEGIN:VEVENT
DTSTART;TZID=America/Chicago:20270611T104500
DTEND;TZID=America/Chicago:20270611T114500
DTSTAMP:20260423T192539
CREATED:20260310T191458Z
LAST-MODIFIED:20260310T191459Z
UID:10004009-1812710700-1812714300@cityofdelcity.gov
SUMMARY:S.A.I.L
DESCRIPTION:Mondays\, Wednesdays\, Fridays\, beginning Dec 1st\, 2025. 10:45AM-11:45AM YMCA – S.A.I.L. (Staying Active and Independent for Life) Strength\, Balance\, and Fitness Program.
URL:https://cityofdelcity.gov/event/s-a-i-l-2-2/2027-06-11/
LOCATION:Del City Community Center\, 4505 SE 15th St.\, Del City\, 73115\, United States
ATTACH;FMTTYPE=image/png:https://cityofdelcity.gov/wp-content/uploads/2025/11/S.A.I.L.png
END:VEVENT
BEGIN:VEVENT
DTSTART;TZID=America/Chicago:20270614T104500
DTEND;TZID=America/Chicago:20270614T114500
DTSTAMP:20260423T192539
CREATED:20260310T191458Z
LAST-MODIFIED:20260310T191459Z
UID:10004010-1812969900-1812973500@cityofdelcity.gov
SUMMARY:S.A.I.L
DESCRIPTION:Mondays\, Wednesdays\, Fridays\, beginning Dec 1st\, 2025. 10:45AM-11:45AM YMCA – S.A.I.L. (Staying Active and Independent for Life) Strength\, Balance\, and Fitness Program.
URL:https://cityofdelcity.gov/event/s-a-i-l-2-2/2027-06-14/
LOCATION:Del City Community Center\, 4505 SE 15th St.\, Del City\, 73115\, United States
ATTACH;FMTTYPE=image/png:https://cityofdelcity.gov/wp-content/uploads/2025/11/S.A.I.L.png
END:VEVENT
BEGIN:VEVENT
DTSTART;TZID=America/Chicago:20270614T130000
DTEND;TZID=America/Chicago:20270614T140000
DTSTAMP:20260423T192539
CREATED:20251121T161409Z
LAST-MODIFIED:20260126T131616Z
UID:10004964-1812978000-1812981600@cityofdelcity.gov
SUMMARY:TAI CHI
DESCRIPTION:Mondays and Wednesdays\, from 1pm – 2pm. YMCA Tai Chi: Moving for Better Balance. Learning balance skills\, proper body alignment\, and coordinated Tai Chi movements.
URL:https://cityofdelcity.gov/event/tai-chi/2027-06-14/
LOCATION:Del City Community Center\, 4505 SE 15th St.\, Del City\, 73115\, United States
ATTACH;FMTTYPE=image/png:https://cityofdelcity.gov/wp-content/uploads/2025/11/TAI-CHI.png
END:VEVENT
BEGIN:VEVENT
DTSTART;TZID=America/Chicago:20270614T141500
DTEND;TZID=America/Chicago:20270614T151500
DTSTAMP:20260423T192539
CREATED:20251014T193852Z
LAST-MODIFIED:20260126T131653Z
UID:10003402-1812982500-1812986100@cityofdelcity.gov
SUMMARY:Forever Well\, Steady\, & Strong
DESCRIPTION:Mondays and Wednesdays\, from 2:15PM – 3:15PM\, YMCA Forever Well Steady & Strong. Senior focused fitness class that builds strength\, balance\, and flexibility through standing or chair supported exercises.
URL:https://cityofdelcity.gov/event/chair-based-strength-class-hosted-by-the-ymca-2/2027-06-14/
LOCATION:Del City Community Center\, 4505 SE 15th St.\, Del City\, 73115\, United States
ATTACH;FMTTYPE=image/png:https://cityofdelcity.gov/wp-content/uploads/2025/10/FOREVER-WELL-STEADY-STRONG.png
END:VEVENT
BEGIN:VEVENT
DTSTART;TZID=America/Chicago:20270616T104500
DTEND;TZID=America/Chicago:20270616T114500
DTSTAMP:20260423T192539
CREATED:20260310T191458Z
LAST-MODIFIED:20260310T191459Z
UID:10004011-1813142700-1813146300@cityofdelcity.gov
SUMMARY:S.A.I.L
DESCRIPTION:Mondays\, Wednesdays\, Fridays\, beginning Dec 1st\, 2025. 10:45AM-11:45AM YMCA – S.A.I.L. (Staying Active and Independent for Life) Strength\, Balance\, and Fitness Program.
URL:https://cityofdelcity.gov/event/s-a-i-l-2-2/2027-06-16/
LOCATION:Del City Community Center\, 4505 SE 15th St.\, Del City\, 73115\, United States
ATTACH;FMTTYPE=image/png:https://cityofdelcity.gov/wp-content/uploads/2025/11/S.A.I.L.png
END:VEVENT
BEGIN:VEVENT
DTSTART;TZID=America/Chicago:20270616T113000
DTEND;TZID=America/Chicago:20270616T130000
DTSTAMP:20260423T192539
CREATED:20250611T170019Z
LAST-MODIFIED:20260303T204921Z
UID:10001398-1813145400-1813150800@cityofdelcity.gov
SUMMARY:Del City Kiwanis Club Meeting
DESCRIPTION:Click here for more information on the Kiwanis Club.
URL:https://cityofdelcity.gov/event/del-city-kiwanis-club-meeting-2/2027-06-16/
LOCATION:Del City Community Center\, 4505 SE 15th St.\, Del City\, 73115\, United States
ATTACH;FMTTYPE=image/webp:https://cityofdelcity.gov/wp-content/uploads/2025/06/Kiwanis-Logo.webp
END:VEVENT
BEGIN:VEVENT
DTSTART;TZID=America/Chicago:20270616T130000
DTEND;TZID=America/Chicago:20270616T140000
DTSTAMP:20260423T192539
CREATED:20251121T161409Z
LAST-MODIFIED:20260126T131616Z
UID:10004965-1813150800-1813154400@cityofdelcity.gov
SUMMARY:TAI CHI
DESCRIPTION:Mondays and Wednesdays\, from 1pm – 2pm. YMCA Tai Chi: Moving for Better Balance. Learning balance skills\, proper body alignment\, and coordinated Tai Chi movements.
URL:https://cityofdelcity.gov/event/tai-chi/2027-06-16/
LOCATION:Del City Community Center\, 4505 SE 15th St.\, Del City\, 73115\, United States
ATTACH;FMTTYPE=image/png:https://cityofdelcity.gov/wp-content/uploads/2025/11/TAI-CHI.png
END:VEVENT
BEGIN:VEVENT
DTSTART;TZID=America/Chicago:20270616T141500
DTEND;TZID=America/Chicago:20270616T151500
DTSTAMP:20260423T192539
CREATED:20251014T193852Z
LAST-MODIFIED:20260126T131653Z
UID:10003403-1813155300-1813158900@cityofdelcity.gov
SUMMARY:Forever Well\, Steady\, & Strong
DESCRIPTION:Mondays and Wednesdays\, from 2:15PM – 3:15PM\, YMCA Forever Well Steady & Strong. Senior focused fitness class that builds strength\, balance\, and flexibility through standing or chair supported exercises.
URL:https://cityofdelcity.gov/event/chair-based-strength-class-hosted-by-the-ymca-2/2027-06-16/
LOCATION:Del City Community Center\, 4505 SE 15th St.\, Del City\, 73115\, United States
ATTACH;FMTTYPE=image/png:https://cityofdelcity.gov/wp-content/uploads/2025/10/FOREVER-WELL-STEADY-STRONG.png
END:VEVENT
BEGIN:VEVENT
DTSTART;TZID=America/Chicago:20270617T093000
DTEND;TZID=America/Chicago:20270617T123000
DTSTAMP:20260423T192539
CREATED:20260413T214135Z
LAST-MODIFIED:20260422T201409Z
UID:10002813-1813224600-1813235400@cityofdelcity.gov
SUMMARY:Del City Crafters hosted by Diane
DESCRIPTION:This is a craft and quilting class for all ages and skill levels. Contact Diane at (405)677-1821 for information. \n***Space is limited***
URL:https://cityofdelcity.gov/event/del-city-crafters-hosted-by-diane-3/2027-06-17/
LOCATION:Del City Community Center\, 4505 SE 15th St.\, Del City\, 73115\, United States
ATTACH;FMTTYPE=image/jpeg:https://cityofdelcity.gov/wp-content/uploads/2026/04/IMG_3565-2-scaled.jpeg
END:VEVENT
BEGIN:VEVENT
DTSTART;TZID=America/Chicago:20270617T190000
DTEND;TZID=America/Chicago:20270617T200000
DTSTAMP:20260423T192539
CREATED:20250611T164803Z
LAST-MODIFIED:20260227T164505Z
UID:10001277-1813258800-1813262400@cityofdelcity.gov
SUMMARY:Del North Neighborhood Watch Meeting
DESCRIPTION:Click here for more on the Del North Neighborhood Watch Association.
URL:https://cityofdelcity.gov/event/del-north-neighborhood-watch-meeting-3/2027-06-17/
LOCATION:Del City Community Center\, 4505 SE 15th St.\, Del City\, 73115\, United States
ATTACH;FMTTYPE=image/png:https://cityofdelcity.gov/wp-content/uploads/2025/06/DEL-CITY-NORTH-IMG.png
ORGANIZER;CN="Del North Neighborhood Watch Association":MAILTO:skluge9396@cox.net
END:VEVENT
BEGIN:VEVENT
DTSTART;TZID=America/Chicago:20270618T104500
DTEND;TZID=America/Chicago:20270618T114500
DTSTAMP:20260423T192539
CREATED:20260310T191458Z
LAST-MODIFIED:20260310T191459Z
UID:10004012-1813315500-1813319100@cityofdelcity.gov
SUMMARY:S.A.I.L
DESCRIPTION:Mondays\, Wednesdays\, Fridays\, beginning Dec 1st\, 2025. 10:45AM-11:45AM YMCA – S.A.I.L. (Staying Active and Independent for Life) Strength\, Balance\, and Fitness Program.
URL:https://cityofdelcity.gov/event/s-a-i-l-2-2/2027-06-18/
LOCATION:Del City Community Center\, 4505 SE 15th St.\, Del City\, 73115\, United States
ATTACH;FMTTYPE=image/png:https://cityofdelcity.gov/wp-content/uploads/2025/11/S.A.I.L.png
END:VEVENT
BEGIN:VEVENT
DTSTART;TZID=America/Chicago:20270621T104500
DTEND;TZID=America/Chicago:20270621T114500
DTSTAMP:20260423T192539
CREATED:20260310T191458Z
LAST-MODIFIED:20260310T191459Z
UID:10004013-1813574700-1813578300@cityofdelcity.gov
SUMMARY:S.A.I.L
DESCRIPTION:Mondays\, Wednesdays\, Fridays\, beginning Dec 1st\, 2025. 10:45AM-11:45AM YMCA – S.A.I.L. (Staying Active and Independent for Life) Strength\, Balance\, and Fitness Program.
URL:https://cityofdelcity.gov/event/s-a-i-l-2-2/2027-06-21/
LOCATION:Del City Community Center\, 4505 SE 15th St.\, Del City\, 73115\, United States
ATTACH;FMTTYPE=image/png:https://cityofdelcity.gov/wp-content/uploads/2025/11/S.A.I.L.png
END:VEVENT
BEGIN:VEVENT
DTSTART;TZID=America/Chicago:20270621T130000
DTEND;TZID=America/Chicago:20270621T140000
DTSTAMP:20260423T192539
CREATED:20251121T161409Z
LAST-MODIFIED:20260126T131616Z
UID:10004631-1813582800-1813586400@cityofdelcity.gov
SUMMARY:TAI CHI
DESCRIPTION:Mondays and Wednesdays\, from 1pm – 2pm. YMCA Tai Chi: Moving for Better Balance. Learning balance skills\, proper body alignment\, and coordinated Tai Chi movements.
URL:https://cityofdelcity.gov/event/tai-chi/2027-06-21/
LOCATION:Del City Community Center\, 4505 SE 15th St.\, Del City\, 73115\, United States
ATTACH;FMTTYPE=image/png:https://cityofdelcity.gov/wp-content/uploads/2025/11/TAI-CHI.png
END:VEVENT
BEGIN:VEVENT
DTSTART;TZID=America/Chicago:20270621T141500
DTEND;TZID=America/Chicago:20270621T151500
DTSTAMP:20260423T192539
CREATED:20251014T193852Z
LAST-MODIFIED:20260126T131653Z
UID:10003404-1813587300-1813590900@cityofdelcity.gov
SUMMARY:Forever Well\, Steady\, & Strong
DESCRIPTION:Mondays and Wednesdays\, from 2:15PM – 3:15PM\, YMCA Forever Well Steady & Strong. Senior focused fitness class that builds strength\, balance\, and flexibility through standing or chair supported exercises.
URL:https://cityofdelcity.gov/event/chair-based-strength-class-hosted-by-the-ymca-2/2027-06-21/
LOCATION:Del City Community Center\, 4505 SE 15th St.\, Del City\, 73115\, United States
ATTACH;FMTTYPE=image/png:https://cityofdelcity.gov/wp-content/uploads/2025/10/FOREVER-WELL-STEADY-STRONG.png
END:VEVENT
BEGIN:VEVENT
DTSTART;TZID=America/Chicago:20270623T104500
DTEND;TZID=America/Chicago:20270623T114500
DTSTAMP:20260423T192539
CREATED:20260310T191458Z
LAST-MODIFIED:20260310T191459Z
UID:10004014-1813747500-1813751100@cityofdelcity.gov
SUMMARY:S.A.I.L
DESCRIPTION:Mondays\, Wednesdays\, Fridays\, beginning Dec 1st\, 2025. 10:45AM-11:45AM YMCA – S.A.I.L. (Staying Active and Independent for Life) Strength\, Balance\, and Fitness Program.
URL:https://cityofdelcity.gov/event/s-a-i-l-2-2/2027-06-23/
LOCATION:Del City Community Center\, 4505 SE 15th St.\, Del City\, 73115\, United States
ATTACH;FMTTYPE=image/png:https://cityofdelcity.gov/wp-content/uploads/2025/11/S.A.I.L.png
END:VEVENT
BEGIN:VEVENT
DTSTART;TZID=America/Chicago:20270623T130000
DTEND;TZID=America/Chicago:20270623T140000
DTSTAMP:20260423T192539
CREATED:20251121T161409Z
LAST-MODIFIED:20260126T131616Z
UID:10004632-1813755600-1813759200@cityofdelcity.gov
SUMMARY:TAI CHI
DESCRIPTION:Mondays and Wednesdays\, from 1pm – 2pm. YMCA Tai Chi: Moving for Better Balance. Learning balance skills\, proper body alignment\, and coordinated Tai Chi movements.
URL:https://cityofdelcity.gov/event/tai-chi/2027-06-23/
LOCATION:Del City Community Center\, 4505 SE 15th St.\, Del City\, 73115\, United States
ATTACH;FMTTYPE=image/png:https://cityofdelcity.gov/wp-content/uploads/2025/11/TAI-CHI.png
END:VEVENT
BEGIN:VEVENT
DTSTART;TZID=America/Chicago:20270623T141500
DTEND;TZID=America/Chicago:20270623T151500
DTSTAMP:20260423T192539
CREATED:20251014T193852Z
LAST-MODIFIED:20260126T131653Z
UID:10003405-1813760100-1813763700@cityofdelcity.gov
SUMMARY:Forever Well\, Steady\, & Strong
DESCRIPTION:Mondays and Wednesdays\, from 2:15PM – 3:15PM\, YMCA Forever Well Steady & Strong. Senior focused fitness class that builds strength\, balance\, and flexibility through standing or chair supported exercises.
URL:https://cityofdelcity.gov/event/chair-based-strength-class-hosted-by-the-ymca-2/2027-06-23/
LOCATION:Del City Community Center\, 4505 SE 15th St.\, Del City\, 73115\, United States
ATTACH;FMTTYPE=image/png:https://cityofdelcity.gov/wp-content/uploads/2025/10/FOREVER-WELL-STEADY-STRONG.png
END:VEVENT
BEGIN:VEVENT
DTSTART;TZID=America/Chicago:20270624T093000
DTEND;TZID=America/Chicago:20270624T123000
DTSTAMP:20260423T192539
CREATED:20260413T214135Z
LAST-MODIFIED:20260422T201409Z
UID:10002814-1813829400-1813840200@cityofdelcity.gov
SUMMARY:Del City Crafters hosted by Diane
DESCRIPTION:This is a craft and quilting class for all ages and skill levels. Contact Diane at (405)677-1821 for information. \n***Space is limited***
URL:https://cityofdelcity.gov/event/del-city-crafters-hosted-by-diane-3/2027-06-24/
LOCATION:Del City Community Center\, 4505 SE 15th St.\, Del City\, 73115\, United States
ATTACH;FMTTYPE=image/jpeg:https://cityofdelcity.gov/wp-content/uploads/2026/04/IMG_3565-2-scaled.jpeg
END:VEVENT
BEGIN:VEVENT
DTSTART;TZID=America/Chicago:20270624T140000
DTEND;TZID=America/Chicago:20270624T160000
DTSTAMP:20260423T192539
CREATED:20250930T154216Z
LAST-MODIFIED:20251124T225046Z
UID:10003065-1813845600-1813852800@cityofdelcity.gov
SUMMARY:Bingo with Diane
DESCRIPTION:
URL:https://cityofdelcity.gov/event/bingo-with-diane/2027-06-24/
LOCATION:Del City Community Center\, 4505 SE 15th St.\, Del City\, 73115\, United States
ATTACH;FMTTYPE=image/jpeg:https://cityofdelcity.gov/wp-content/uploads/2025/09/AdobeStock_393911855-scaled.jpeg
END:VEVENT
BEGIN:VEVENT
DTSTART;TZID=America/Chicago:20270625T104500
DTEND;TZID=America/Chicago:20270625T114500
DTSTAMP:20260423T192539
CREATED:20260310T191458Z
LAST-MODIFIED:20260310T191459Z
UID:10004015-1813920300-1813923900@cityofdelcity.gov
SUMMARY:S.A.I.L
DESCRIPTION:Mondays\, Wednesdays\, Fridays\, beginning Dec 1st\, 2025. 10:45AM-11:45AM YMCA – S.A.I.L. (Staying Active and Independent for Life) Strength\, Balance\, and Fitness Program.
URL:https://cityofdelcity.gov/event/s-a-i-l-2-2/2027-06-25/
LOCATION:Del City Community Center\, 4505 SE 15th St.\, Del City\, 73115\, United States
ATTACH;FMTTYPE=image/png:https://cityofdelcity.gov/wp-content/uploads/2025/11/S.A.I.L.png
END:VEVENT
BEGIN:VEVENT
DTSTART;TZID=America/Chicago:20270628T104500
DTEND;TZID=America/Chicago:20270628T114500
DTSTAMP:20260423T192539
CREATED:20260310T191458Z
LAST-MODIFIED:20260310T191459Z
UID:10004016-1814179500-1814183100@cityofdelcity.gov
SUMMARY:S.A.I.L
DESCRIPTION:Mondays\, Wednesdays\, Fridays\, beginning Dec 1st\, 2025. 10:45AM-11:45AM YMCA – S.A.I.L. (Staying Active and Independent for Life) Strength\, Balance\, and Fitness Program.
URL:https://cityofdelcity.gov/event/s-a-i-l-2-2/2027-06-28/
LOCATION:Del City Community Center\, 4505 SE 15th St.\, Del City\, 73115\, United States
ATTACH;FMTTYPE=image/png:https://cityofdelcity.gov/wp-content/uploads/2025/11/S.A.I.L.png
END:VEVENT
END:VCALENDAR