BEGIN:VCALENDAR
VERSION:2.0
PRODID:-//The City of Del City - ECPv6.15.20//NONSGML v1.0//EN
CALSCALE:GREGORIAN
METHOD:PUBLISH
X-WR-CALNAME:The City of Del City
X-ORIGINAL-URL:https://cityofdelcity.gov
X-WR-CALDESC:Events for The City of Del City
REFRESH-INTERVAL;VALUE=DURATION:PT1H
X-Robots-Tag:noindex
X-PUBLISHED-TTL:PT1H
BEGIN:VTIMEZONE
TZID:America/Chicago
BEGIN:DAYLIGHT
TZOFFSETFROM:-0600
TZOFFSETTO:-0500
TZNAME:CDT
DTSTART:20260308T080000
END:DAYLIGHT
BEGIN:STANDARD
TZOFFSETFROM:-0500
TZOFFSETTO:-0600
TZNAME:CST
DTSTART:20261101T070000
END:STANDARD
BEGIN:DAYLIGHT
TZOFFSETFROM:-0600
TZOFFSETTO:-0500
TZNAME:CDT
DTSTART:20270314T080000
END:DAYLIGHT
BEGIN:STANDARD
TZOFFSETFROM:-0500
TZOFFSETTO:-0600
TZNAME:CST
DTSTART:20271107T070000
END:STANDARD
BEGIN:DAYLIGHT
TZOFFSETFROM:-0600
TZOFFSETTO:-0500
TZNAME:CDT
DTSTART:20280312T080000
END:DAYLIGHT
BEGIN:STANDARD
TZOFFSETFROM:-0500
TZOFFSETTO:-0600
TZNAME:CST
DTSTART:20281105T070000
END:STANDARD
END:VTIMEZONE
BEGIN:VEVENT
DTSTART;TZID=America/Chicago:20270405T104500
DTEND;TZID=America/Chicago:20270405T114500
DTSTAMP:20260423T081608
CREATED:20260310T191458Z
LAST-MODIFIED:20260310T191459Z
UID:10003980-1806921900-1806925500@cityofdelcity.gov
SUMMARY:S.A.I.L
DESCRIPTION:Mondays\, Wednesdays\, Fridays\, beginning Dec 1st\, 2025. 10:45AM-11:45AM YMCA – S.A.I.L. (Staying Active and Independent for Life) Strength\, Balance\, and Fitness Program.
URL:https://cityofdelcity.gov/event/s-a-i-l-2-2/2027-04-05/
LOCATION:Del City Community Center\, 4505 SE 15th St.\, Del City\, 73115\, United States
ATTACH;FMTTYPE=image/png:https://cityofdelcity.gov/wp-content/uploads/2025/11/S.A.I.L.png
END:VEVENT
BEGIN:VEVENT
DTSTART;TZID=America/Chicago:20270405T130000
DTEND;TZID=America/Chicago:20270405T140000
DTSTAMP:20260423T081608
CREATED:20251121T161409Z
LAST-MODIFIED:20260126T131616Z
UID:10004954-1806930000-1806933600@cityofdelcity.gov
SUMMARY:TAI CHI
DESCRIPTION:Mondays and Wednesdays\, from 1pm – 2pm. YMCA Tai Chi: Moving for Better Balance. Learning balance skills\, proper body alignment\, and coordinated Tai Chi movements.
URL:https://cityofdelcity.gov/event/tai-chi/2027-04-05/
LOCATION:Del City Community Center\, 4505 SE 15th St.\, Del City\, 73115\, United States
ATTACH;FMTTYPE=image/png:https://cityofdelcity.gov/wp-content/uploads/2025/11/TAI-CHI.png
END:VEVENT
BEGIN:VEVENT
DTSTART;TZID=America/Chicago:20270405T141500
DTEND;TZID=America/Chicago:20270405T151500
DTSTAMP:20260423T081608
CREATED:20251014T193852Z
LAST-MODIFIED:20260126T131653Z
UID:10003382-1806934500-1806938100@cityofdelcity.gov
SUMMARY:Forever Well\, Steady\, & Strong
DESCRIPTION:Mondays and Wednesdays\, from 2:15PM – 3:15PM\, YMCA Forever Well Steady & Strong. Senior focused fitness class that builds strength\, balance\, and flexibility through standing or chair supported exercises.
URL:https://cityofdelcity.gov/event/chair-based-strength-class-hosted-by-the-ymca-2/2027-04-05/
LOCATION:Del City Community Center\, 4505 SE 15th St.\, Del City\, 73115\, United States
ATTACH;FMTTYPE=image/png:https://cityofdelcity.gov/wp-content/uploads/2025/10/FOREVER-WELL-STEADY-STRONG.png
END:VEVENT
BEGIN:VEVENT
DTSTART;TZID=America/Chicago:20270407T104500
DTEND;TZID=America/Chicago:20270407T114500
DTSTAMP:20260423T081608
CREATED:20260310T191458Z
LAST-MODIFIED:20260310T191459Z
UID:10003981-1807094700-1807098300@cityofdelcity.gov
SUMMARY:S.A.I.L
DESCRIPTION:Mondays\, Wednesdays\, Fridays\, beginning Dec 1st\, 2025. 10:45AM-11:45AM YMCA – S.A.I.L. (Staying Active and Independent for Life) Strength\, Balance\, and Fitness Program.
URL:https://cityofdelcity.gov/event/s-a-i-l-2-2/2027-04-07/
LOCATION:Del City Community Center\, 4505 SE 15th St.\, Del City\, 73115\, United States
ATTACH;FMTTYPE=image/png:https://cityofdelcity.gov/wp-content/uploads/2025/11/S.A.I.L.png
END:VEVENT
BEGIN:VEVENT
DTSTART;TZID=America/Chicago:20270407T113000
DTEND;TZID=America/Chicago:20270407T130000
DTSTAMP:20260423T081608
CREATED:20250611T165744Z
LAST-MODIFIED:20260303T224637Z
UID:10001335-1807097400-1807102800@cityofdelcity.gov
SUMMARY:Del City Kiwanis Club Meeting
DESCRIPTION:Click here for more information on the Kiwanis Club.
URL:https://cityofdelcity.gov/event/del-city-kiwanis-club-meeting/2027-04-07/
LOCATION:Del City Community Center\, 4505 SE 15th St.\, Del City\, 73115\, United States
ATTACH;FMTTYPE=image/webp:https://cityofdelcity.gov/wp-content/uploads/2025/06/Kiwanis-Logo.webp
END:VEVENT
BEGIN:VEVENT
DTSTART;TZID=America/Chicago:20270407T130000
DTEND;TZID=America/Chicago:20270407T140000
DTSTAMP:20260423T081608
CREATED:20251121T161409Z
LAST-MODIFIED:20260126T131616Z
UID:10004955-1807102800-1807106400@cityofdelcity.gov
SUMMARY:TAI CHI
DESCRIPTION:Mondays and Wednesdays\, from 1pm – 2pm. YMCA Tai Chi: Moving for Better Balance. Learning balance skills\, proper body alignment\, and coordinated Tai Chi movements.
URL:https://cityofdelcity.gov/event/tai-chi/2027-04-07/
LOCATION:Del City Community Center\, 4505 SE 15th St.\, Del City\, 73115\, United States
ATTACH;FMTTYPE=image/png:https://cityofdelcity.gov/wp-content/uploads/2025/11/TAI-CHI.png
END:VEVENT
BEGIN:VEVENT
DTSTART;TZID=America/Chicago:20270407T141500
DTEND;TZID=America/Chicago:20270407T151500
DTSTAMP:20260423T081608
CREATED:20251014T193852Z
LAST-MODIFIED:20260126T131653Z
UID:10003383-1807107300-1807110900@cityofdelcity.gov
SUMMARY:Forever Well\, Steady\, & Strong
DESCRIPTION:Mondays and Wednesdays\, from 2:15PM – 3:15PM\, YMCA Forever Well Steady & Strong. Senior focused fitness class that builds strength\, balance\, and flexibility through standing or chair supported exercises.
URL:https://cityofdelcity.gov/event/chair-based-strength-class-hosted-by-the-ymca-2/2027-04-07/
LOCATION:Del City Community Center\, 4505 SE 15th St.\, Del City\, 73115\, United States
ATTACH;FMTTYPE=image/png:https://cityofdelcity.gov/wp-content/uploads/2025/10/FOREVER-WELL-STEADY-STRONG.png
END:VEVENT
BEGIN:VEVENT
DTSTART;TZID=America/Chicago:20270408T093000
DTEND;TZID=America/Chicago:20270408T123000
DTSTAMP:20260423T081608
CREATED:20260413T214135Z
LAST-MODIFIED:20260422T201409Z
UID:10002803-1807176600-1807187400@cityofdelcity.gov
SUMMARY:Del City Crafters hosted by Diane
DESCRIPTION:This is a craft and quilting class for all ages and skill levels. Contact Diane at (405)677-1821 for information. \n***Space is limited***
URL:https://cityofdelcity.gov/event/del-city-crafters-hosted-by-diane-3/2027-04-08/
LOCATION:Del City Community Center\, 4505 SE 15th St.\, Del City\, 73115\, United States
ATTACH;FMTTYPE=image/jpeg:https://cityofdelcity.gov/wp-content/uploads/2026/04/IMG_3565-2-scaled.jpeg
END:VEVENT
BEGIN:VEVENT
DTSTART;TZID=America/Chicago:20270408T190000
DTEND;TZID=America/Chicago:20270408T200000
DTSTAMP:20260423T081608
CREATED:20260227T163144Z
LAST-MODIFIED:20260309T133111Z
UID:10005620-1807210800-1807214400@cityofdelcity.gov
SUMMARY:Olde Towne Neighborhood Watch
DESCRIPTION:
URL:https://cityofdelcity.gov/event/olde-towne-neighborhood-watch/2027-04-08/
LOCATION:Del City Community Center\, 4505 SE 15th St.\, Del City\, 73115\, United States
ATTACH;FMTTYPE=image/png:https://cityofdelcity.gov/wp-content/uploads/2026/02/OLDE-TOWNE-IMG.png
END:VEVENT
BEGIN:VEVENT
DTSTART;TZID=America/Chicago:20270409T104500
DTEND;TZID=America/Chicago:20270409T114500
DTSTAMP:20260423T081608
CREATED:20260310T191458Z
LAST-MODIFIED:20260310T191459Z
UID:10003982-1807267500-1807271100@cityofdelcity.gov
SUMMARY:S.A.I.L
DESCRIPTION:Mondays\, Wednesdays\, Fridays\, beginning Dec 1st\, 2025. 10:45AM-11:45AM YMCA – S.A.I.L. (Staying Active and Independent for Life) Strength\, Balance\, and Fitness Program.
URL:https://cityofdelcity.gov/event/s-a-i-l-2-2/2027-04-09/
LOCATION:Del City Community Center\, 4505 SE 15th St.\, Del City\, 73115\, United States
ATTACH;FMTTYPE=image/png:https://cityofdelcity.gov/wp-content/uploads/2025/11/S.A.I.L.png
END:VEVENT
BEGIN:VEVENT
DTSTART;TZID=America/Chicago:20270412T104500
DTEND;TZID=America/Chicago:20270412T114500
DTSTAMP:20260423T081608
CREATED:20260310T191458Z
LAST-MODIFIED:20260310T191459Z
UID:10003983-1807526700-1807530300@cityofdelcity.gov
SUMMARY:S.A.I.L
DESCRIPTION:Mondays\, Wednesdays\, Fridays\, beginning Dec 1st\, 2025. 10:45AM-11:45AM YMCA – S.A.I.L. (Staying Active and Independent for Life) Strength\, Balance\, and Fitness Program.
URL:https://cityofdelcity.gov/event/s-a-i-l-2-2/2027-04-12/
LOCATION:Del City Community Center\, 4505 SE 15th St.\, Del City\, 73115\, United States
ATTACH;FMTTYPE=image/png:https://cityofdelcity.gov/wp-content/uploads/2025/11/S.A.I.L.png
END:VEVENT
BEGIN:VEVENT
DTSTART;TZID=America/Chicago:20270412T130000
DTEND;TZID=America/Chicago:20270412T140000
DTSTAMP:20260423T081608
CREATED:20251121T161409Z
LAST-MODIFIED:20260126T131616Z
UID:10004621-1807534800-1807538400@cityofdelcity.gov
SUMMARY:TAI CHI
DESCRIPTION:Mondays and Wednesdays\, from 1pm – 2pm. YMCA Tai Chi: Moving for Better Balance. Learning balance skills\, proper body alignment\, and coordinated Tai Chi movements.
URL:https://cityofdelcity.gov/event/tai-chi/2027-04-12/
LOCATION:Del City Community Center\, 4505 SE 15th St.\, Del City\, 73115\, United States
ATTACH;FMTTYPE=image/png:https://cityofdelcity.gov/wp-content/uploads/2025/11/TAI-CHI.png
END:VEVENT
BEGIN:VEVENT
DTSTART;TZID=America/Chicago:20270412T141500
DTEND;TZID=America/Chicago:20270412T151500
DTSTAMP:20260423T081608
CREATED:20251014T193852Z
LAST-MODIFIED:20260126T131653Z
UID:10003384-1807539300-1807542900@cityofdelcity.gov
SUMMARY:Forever Well\, Steady\, & Strong
DESCRIPTION:Mondays and Wednesdays\, from 2:15PM – 3:15PM\, YMCA Forever Well Steady & Strong. Senior focused fitness class that builds strength\, balance\, and flexibility through standing or chair supported exercises.
URL:https://cityofdelcity.gov/event/chair-based-strength-class-hosted-by-the-ymca-2/2027-04-12/
LOCATION:Del City Community Center\, 4505 SE 15th St.\, Del City\, 73115\, United States
ATTACH;FMTTYPE=image/png:https://cityofdelcity.gov/wp-content/uploads/2025/10/FOREVER-WELL-STEADY-STRONG.png
END:VEVENT
BEGIN:VEVENT
DTSTART;TZID=America/Chicago:20270414T104500
DTEND;TZID=America/Chicago:20270414T114500
DTSTAMP:20260423T081608
CREATED:20260310T191458Z
LAST-MODIFIED:20260310T191459Z
UID:10003984-1807699500-1807703100@cityofdelcity.gov
SUMMARY:S.A.I.L
DESCRIPTION:Mondays\, Wednesdays\, Fridays\, beginning Dec 1st\, 2025. 10:45AM-11:45AM YMCA – S.A.I.L. (Staying Active and Independent for Life) Strength\, Balance\, and Fitness Program.
URL:https://cityofdelcity.gov/event/s-a-i-l-2-2/2027-04-14/
LOCATION:Del City Community Center\, 4505 SE 15th St.\, Del City\, 73115\, United States
ATTACH;FMTTYPE=image/png:https://cityofdelcity.gov/wp-content/uploads/2025/11/S.A.I.L.png
END:VEVENT
BEGIN:VEVENT
DTSTART;TZID=America/Chicago:20270414T130000
DTEND;TZID=America/Chicago:20270414T140000
DTSTAMP:20260423T081608
CREATED:20251121T161409Z
LAST-MODIFIED:20260126T131616Z
UID:10004622-1807707600-1807711200@cityofdelcity.gov
SUMMARY:TAI CHI
DESCRIPTION:Mondays and Wednesdays\, from 1pm – 2pm. YMCA Tai Chi: Moving for Better Balance. Learning balance skills\, proper body alignment\, and coordinated Tai Chi movements.
URL:https://cityofdelcity.gov/event/tai-chi/2027-04-14/
LOCATION:Del City Community Center\, 4505 SE 15th St.\, Del City\, 73115\, United States
ATTACH;FMTTYPE=image/png:https://cityofdelcity.gov/wp-content/uploads/2025/11/TAI-CHI.png
END:VEVENT
BEGIN:VEVENT
DTSTART;TZID=America/Chicago:20270414T141500
DTEND;TZID=America/Chicago:20270414T151500
DTSTAMP:20260423T081608
CREATED:20251014T193852Z
LAST-MODIFIED:20260126T131653Z
UID:10003385-1807712100-1807715700@cityofdelcity.gov
SUMMARY:Forever Well\, Steady\, & Strong
DESCRIPTION:Mondays and Wednesdays\, from 2:15PM – 3:15PM\, YMCA Forever Well Steady & Strong. Senior focused fitness class that builds strength\, balance\, and flexibility through standing or chair supported exercises.
URL:https://cityofdelcity.gov/event/chair-based-strength-class-hosted-by-the-ymca-2/2027-04-14/
LOCATION:Del City Community Center\, 4505 SE 15th St.\, Del City\, 73115\, United States
ATTACH;FMTTYPE=image/png:https://cityofdelcity.gov/wp-content/uploads/2025/10/FOREVER-WELL-STEADY-STRONG.png
END:VEVENT
BEGIN:VEVENT
DTSTART;TZID=America/Chicago:20270415T093000
DTEND;TZID=America/Chicago:20270415T123000
DTSTAMP:20260423T081608
CREATED:20260413T214135Z
LAST-MODIFIED:20260422T201409Z
UID:10002804-1807781400-1807792200@cityofdelcity.gov
SUMMARY:Del City Crafters hosted by Diane
DESCRIPTION:This is a craft and quilting class for all ages and skill levels. Contact Diane at (405)677-1821 for information. \n***Space is limited***
URL:https://cityofdelcity.gov/event/del-city-crafters-hosted-by-diane-3/2027-04-15/
LOCATION:Del City Community Center\, 4505 SE 15th St.\, Del City\, 73115\, United States
ATTACH;FMTTYPE=image/jpeg:https://cityofdelcity.gov/wp-content/uploads/2026/04/IMG_3565-2-scaled.jpeg
END:VEVENT
BEGIN:VEVENT
DTSTART;TZID=America/Chicago:20270415T190000
DTEND;TZID=America/Chicago:20270415T200000
DTSTAMP:20260423T081608
CREATED:20250611T164803Z
LAST-MODIFIED:20260227T164505Z
UID:10001275-1807815600-1807819200@cityofdelcity.gov
SUMMARY:Del North Neighborhood Watch Meeting
DESCRIPTION:Click here for more on the Del North Neighborhood Watch Association.
URL:https://cityofdelcity.gov/event/del-north-neighborhood-watch-meeting-3/2027-04-15/
LOCATION:Del City Community Center\, 4505 SE 15th St.\, Del City\, 73115\, United States
ATTACH;FMTTYPE=image/png:https://cityofdelcity.gov/wp-content/uploads/2025/06/DEL-CITY-NORTH-IMG.png
ORGANIZER;CN="Del North Neighborhood Watch Association":MAILTO:skluge9396@cox.net
END:VEVENT
BEGIN:VEVENT
DTSTART;TZID=America/Chicago:20270416T104500
DTEND;TZID=America/Chicago:20270416T114500
DTSTAMP:20260423T081608
CREATED:20260310T191458Z
LAST-MODIFIED:20260310T191459Z
UID:10003985-1807872300-1807875900@cityofdelcity.gov
SUMMARY:S.A.I.L
DESCRIPTION:Mondays\, Wednesdays\, Fridays\, beginning Dec 1st\, 2025. 10:45AM-11:45AM YMCA – S.A.I.L. (Staying Active and Independent for Life) Strength\, Balance\, and Fitness Program.
URL:https://cityofdelcity.gov/event/s-a-i-l-2-2/2027-04-16/
LOCATION:Del City Community Center\, 4505 SE 15th St.\, Del City\, 73115\, United States
ATTACH;FMTTYPE=image/png:https://cityofdelcity.gov/wp-content/uploads/2025/11/S.A.I.L.png
END:VEVENT
BEGIN:VEVENT
DTSTART;TZID=America/Chicago:20270419T104500
DTEND;TZID=America/Chicago:20270419T114500
DTSTAMP:20260423T081608
CREATED:20260310T191458Z
LAST-MODIFIED:20260310T191459Z
UID:10003986-1808131500-1808135100@cityofdelcity.gov
SUMMARY:S.A.I.L
DESCRIPTION:Mondays\, Wednesdays\, Fridays\, beginning Dec 1st\, 2025. 10:45AM-11:45AM YMCA – S.A.I.L. (Staying Active and Independent for Life) Strength\, Balance\, and Fitness Program.
URL:https://cityofdelcity.gov/event/s-a-i-l-2-2/2027-04-19/
LOCATION:Del City Community Center\, 4505 SE 15th St.\, Del City\, 73115\, United States
ATTACH;FMTTYPE=image/png:https://cityofdelcity.gov/wp-content/uploads/2025/11/S.A.I.L.png
END:VEVENT
BEGIN:VEVENT
DTSTART;TZID=America/Chicago:20270419T130000
DTEND;TZID=America/Chicago:20270419T140000
DTSTAMP:20260423T081608
CREATED:20251121T161409Z
LAST-MODIFIED:20260126T131616Z
UID:10004956-1808139600-1808143200@cityofdelcity.gov
SUMMARY:TAI CHI
DESCRIPTION:Mondays and Wednesdays\, from 1pm – 2pm. YMCA Tai Chi: Moving for Better Balance. Learning balance skills\, proper body alignment\, and coordinated Tai Chi movements.
URL:https://cityofdelcity.gov/event/tai-chi/2027-04-19/
LOCATION:Del City Community Center\, 4505 SE 15th St.\, Del City\, 73115\, United States
ATTACH;FMTTYPE=image/png:https://cityofdelcity.gov/wp-content/uploads/2025/11/TAI-CHI.png
END:VEVENT
BEGIN:VEVENT
DTSTART;TZID=America/Chicago:20270419T141500
DTEND;TZID=America/Chicago:20270419T151500
DTSTAMP:20260423T081608
CREATED:20251014T193852Z
LAST-MODIFIED:20260126T131653Z
UID:10003386-1808144100-1808147700@cityofdelcity.gov
SUMMARY:Forever Well\, Steady\, & Strong
DESCRIPTION:Mondays and Wednesdays\, from 2:15PM – 3:15PM\, YMCA Forever Well Steady & Strong. Senior focused fitness class that builds strength\, balance\, and flexibility through standing or chair supported exercises.
URL:https://cityofdelcity.gov/event/chair-based-strength-class-hosted-by-the-ymca-2/2027-04-19/
LOCATION:Del City Community Center\, 4505 SE 15th St.\, Del City\, 73115\, United States
ATTACH;FMTTYPE=image/png:https://cityofdelcity.gov/wp-content/uploads/2025/10/FOREVER-WELL-STEADY-STRONG.png
END:VEVENT
BEGIN:VEVENT
DTSTART;TZID=America/Chicago:20270421T104500
DTEND;TZID=America/Chicago:20270421T114500
DTSTAMP:20260423T081608
CREATED:20260310T191458Z
LAST-MODIFIED:20260310T191459Z
UID:10003987-1808304300-1808307900@cityofdelcity.gov
SUMMARY:S.A.I.L
DESCRIPTION:Mondays\, Wednesdays\, Fridays\, beginning Dec 1st\, 2025. 10:45AM-11:45AM YMCA – S.A.I.L. (Staying Active and Independent for Life) Strength\, Balance\, and Fitness Program.
URL:https://cityofdelcity.gov/event/s-a-i-l-2-2/2027-04-21/
LOCATION:Del City Community Center\, 4505 SE 15th St.\, Del City\, 73115\, United States
ATTACH;FMTTYPE=image/png:https://cityofdelcity.gov/wp-content/uploads/2025/11/S.A.I.L.png
END:VEVENT
BEGIN:VEVENT
DTSTART;TZID=America/Chicago:20270421T113000
DTEND;TZID=America/Chicago:20270421T130000
DTSTAMP:20260423T081608
CREATED:20250611T170019Z
LAST-MODIFIED:20260303T204921Z
UID:10001396-1808307000-1808312400@cityofdelcity.gov
SUMMARY:Del City Kiwanis Club Meeting
DESCRIPTION:Click here for more information on the Kiwanis Club.
URL:https://cityofdelcity.gov/event/del-city-kiwanis-club-meeting-2/2027-04-21/
LOCATION:Del City Community Center\, 4505 SE 15th St.\, Del City\, 73115\, United States
ATTACH;FMTTYPE=image/webp:https://cityofdelcity.gov/wp-content/uploads/2025/06/Kiwanis-Logo.webp
END:VEVENT
BEGIN:VEVENT
DTSTART;TZID=America/Chicago:20270421T130000
DTEND;TZID=America/Chicago:20270421T140000
DTSTAMP:20260423T081608
CREATED:20251121T161409Z
LAST-MODIFIED:20260126T131616Z
UID:10004957-1808312400-1808316000@cityofdelcity.gov
SUMMARY:TAI CHI
DESCRIPTION:Mondays and Wednesdays\, from 1pm – 2pm. YMCA Tai Chi: Moving for Better Balance. Learning balance skills\, proper body alignment\, and coordinated Tai Chi movements.
URL:https://cityofdelcity.gov/event/tai-chi/2027-04-21/
LOCATION:Del City Community Center\, 4505 SE 15th St.\, Del City\, 73115\, United States
ATTACH;FMTTYPE=image/png:https://cityofdelcity.gov/wp-content/uploads/2025/11/TAI-CHI.png
END:VEVENT
BEGIN:VEVENT
DTSTART;TZID=America/Chicago:20270421T141500
DTEND;TZID=America/Chicago:20270421T151500
DTSTAMP:20260423T081608
CREATED:20251014T193852Z
LAST-MODIFIED:20260126T131653Z
UID:10003387-1808316900-1808320500@cityofdelcity.gov
SUMMARY:Forever Well\, Steady\, & Strong
DESCRIPTION:Mondays and Wednesdays\, from 2:15PM – 3:15PM\, YMCA Forever Well Steady & Strong. Senior focused fitness class that builds strength\, balance\, and flexibility through standing or chair supported exercises.
URL:https://cityofdelcity.gov/event/chair-based-strength-class-hosted-by-the-ymca-2/2027-04-21/
LOCATION:Del City Community Center\, 4505 SE 15th St.\, Del City\, 73115\, United States
ATTACH;FMTTYPE=image/png:https://cityofdelcity.gov/wp-content/uploads/2025/10/FOREVER-WELL-STEADY-STRONG.png
END:VEVENT
BEGIN:VEVENT
DTSTART;TZID=America/Chicago:20270422T093000
DTEND;TZID=America/Chicago:20270422T123000
DTSTAMP:20260423T081608
CREATED:20260413T214135Z
LAST-MODIFIED:20260422T201409Z
UID:10002805-1808386200-1808397000@cityofdelcity.gov
SUMMARY:Del City Crafters hosted by Diane
DESCRIPTION:This is a craft and quilting class for all ages and skill levels. Contact Diane at (405)677-1821 for information. \n***Space is limited***
URL:https://cityofdelcity.gov/event/del-city-crafters-hosted-by-diane-3/2027-04-22/
LOCATION:Del City Community Center\, 4505 SE 15th St.\, Del City\, 73115\, United States
ATTACH;FMTTYPE=image/jpeg:https://cityofdelcity.gov/wp-content/uploads/2026/04/IMG_3565-2-scaled.jpeg
END:VEVENT
BEGIN:VEVENT
DTSTART;TZID=America/Chicago:20270423T104500
DTEND;TZID=America/Chicago:20270423T114500
DTSTAMP:20260423T081608
CREATED:20260310T191458Z
LAST-MODIFIED:20260310T191459Z
UID:10003988-1808477100-1808480700@cityofdelcity.gov
SUMMARY:S.A.I.L
DESCRIPTION:Mondays\, Wednesdays\, Fridays\, beginning Dec 1st\, 2025. 10:45AM-11:45AM YMCA – S.A.I.L. (Staying Active and Independent for Life) Strength\, Balance\, and Fitness Program.
URL:https://cityofdelcity.gov/event/s-a-i-l-2-2/2027-04-23/
LOCATION:Del City Community Center\, 4505 SE 15th St.\, Del City\, 73115\, United States
ATTACH;FMTTYPE=image/png:https://cityofdelcity.gov/wp-content/uploads/2025/11/S.A.I.L.png
END:VEVENT
BEGIN:VEVENT
DTSTART;TZID=America/Chicago:20270426T104500
DTEND;TZID=America/Chicago:20270426T114500
DTSTAMP:20260423T081608
CREATED:20260310T191458Z
LAST-MODIFIED:20260310T191459Z
UID:10003989-1808736300-1808739900@cityofdelcity.gov
SUMMARY:S.A.I.L
DESCRIPTION:Mondays\, Wednesdays\, Fridays\, beginning Dec 1st\, 2025. 10:45AM-11:45AM YMCA – S.A.I.L. (Staying Active and Independent for Life) Strength\, Balance\, and Fitness Program.
URL:https://cityofdelcity.gov/event/s-a-i-l-2-2/2027-04-26/
LOCATION:Del City Community Center\, 4505 SE 15th St.\, Del City\, 73115\, United States
ATTACH;FMTTYPE=image/png:https://cityofdelcity.gov/wp-content/uploads/2025/11/S.A.I.L.png
END:VEVENT
BEGIN:VEVENT
DTSTART;TZID=America/Chicago:20270426T130000
DTEND;TZID=America/Chicago:20270426T140000
DTSTAMP:20260423T081608
CREATED:20251121T161409Z
LAST-MODIFIED:20260126T131616Z
UID:10004623-1808744400-1808748000@cityofdelcity.gov
SUMMARY:TAI CHI
DESCRIPTION:Mondays and Wednesdays\, from 1pm – 2pm. YMCA Tai Chi: Moving for Better Balance. Learning balance skills\, proper body alignment\, and coordinated Tai Chi movements.
URL:https://cityofdelcity.gov/event/tai-chi/2027-04-26/
LOCATION:Del City Community Center\, 4505 SE 15th St.\, Del City\, 73115\, United States
ATTACH;FMTTYPE=image/png:https://cityofdelcity.gov/wp-content/uploads/2025/11/TAI-CHI.png
END:VEVENT
END:VCALENDAR