BEGIN:VCALENDAR
VERSION:2.0
PRODID:-//The City of Del City - ECPv6.15.20//NONSGML v1.0//EN
CALSCALE:GREGORIAN
METHOD:PUBLISH
X-ORIGINAL-URL:https://cityofdelcity.gov
X-WR-CALDESC:Events for The City of Del City
REFRESH-INTERVAL;VALUE=DURATION:PT1H
X-Robots-Tag:noindex
X-PUBLISHED-TTL:PT1H
BEGIN:VTIMEZONE
TZID:America/Chicago
BEGIN:DAYLIGHT
TZOFFSETFROM:-0600
TZOFFSETTO:-0500
TZNAME:CDT
DTSTART:20250309T080000
END:DAYLIGHT
BEGIN:STANDARD
TZOFFSETFROM:-0500
TZOFFSETTO:-0600
TZNAME:CST
DTSTART:20251102T070000
END:STANDARD
BEGIN:DAYLIGHT
TZOFFSETFROM:-0600
TZOFFSETTO:-0500
TZNAME:CDT
DTSTART:20260308T080000
END:DAYLIGHT
BEGIN:STANDARD
TZOFFSETFROM:-0500
TZOFFSETTO:-0600
TZNAME:CST
DTSTART:20261101T070000
END:STANDARD
BEGIN:DAYLIGHT
TZOFFSETFROM:-0600
TZOFFSETTO:-0500
TZNAME:CDT
DTSTART:20270314T080000
END:DAYLIGHT
BEGIN:STANDARD
TZOFFSETFROM:-0500
TZOFFSETTO:-0600
TZNAME:CST
DTSTART:20271107T070000
END:STANDARD
END:VTIMEZONE
BEGIN:VEVENT
DTSTART;TZID=America/Chicago:20260507T100000
DTEND;TZID=America/Chicago:20260507T110000
DTSTAMP:20260421T000453
CREATED:20250611T170613Z
LAST-MODIFIED:20251125T191434Z
UID:10001445-1778148000-1778151600@cityofdelcity.gov
SUMMARY:S.A.L.T - Seniors and Law Enforcement Together
DESCRIPTION:This is a FREE Community Service program provided by the OK County Sheriff’s Office and the Del City Police Dept that focuses on senior safety\, education\, and crime prevention. Class is held at the Community Center on the first Thursday of each month at 10AM. Contact Tara Hardin @ 405-869-2555 for more information.
URL:https://cityofdelcity.gov/event/s-a-l-t-seniors-and-law-enforcement-together/2026-05-07/
LOCATION:Del City Community Center\, 4505 SE 15th St.\, Del City\, 73115\, United States
ORGANIZER;CN="Oklahoma County Sheriff's Office":MAILTO:tara.hardin@oklahomacounty.org
END:VEVENT
BEGIN:VEVENT
DTSTART;TZID=America/Chicago:20260508T104500
DTEND;TZID=America/Chicago:20260508T114500
DTSTAMP:20260421T000453
CREATED:20260310T191458Z
LAST-MODIFIED:20260310T191459Z
UID:10003838-1778237100-1778240700@cityofdelcity.gov
SUMMARY:S.A.I.L
DESCRIPTION:Mondays\, Wednesdays\, Fridays\, beginning Dec 1st\, 2025. 10:45AM-11:45AM YMCA – S.A.I.L. (Staying Active and Independent for Life) Strength\, Balance\, and Fitness Program.
URL:https://cityofdelcity.gov/event/s-a-i-l-2-2/2026-05-08/
LOCATION:Del City Community Center\, 4505 SE 15th St.\, Del City\, 73115\, United States
ATTACH;FMTTYPE=image/png:https://cityofdelcity.gov/wp-content/uploads/2025/11/S.A.I.L.png
END:VEVENT
BEGIN:VEVENT
DTSTART;TZID=America/Chicago:20260509T090000
DTEND;TZID=America/Chicago:20260509T160000
DTSTAMP:20260421T000453
CREATED:20260310T212315Z
LAST-MODIFIED:20260403T140627Z
UID:10005681-1778317200-1778342400@cityofdelcity.gov
SUMMARY:405 Toy Expo
DESCRIPTION: 405 Toy Expo is coming to Del City!  \nJoin us for a fun day of collectibles\, figurines\, and memorabilia for all ages. \n Location: 4505 SE 15th St\, Del City\, OK Admission: $3 Kids 12 & under: Free \nFor more details\, visit:https://www.facebook.com/profile.php?id=61559249571395 \nSee you there!
URL:https://cityofdelcity.gov/event/405-toy-expo-4/
LOCATION:Del City Community Center\, 4505 SE 15th St.\, Del City\, 73115\, United States
ATTACH;FMTTYPE=image/jpeg:https://cityofdelcity.gov/wp-content/uploads/2026/03/405-Toy-Expo-May-26.jpg
END:VEVENT
BEGIN:VEVENT
DTSTART;TZID=America/Chicago:20260511T104500
DTEND;TZID=America/Chicago:20260511T114500
DTSTAMP:20260421T000453
CREATED:20260310T191458Z
LAST-MODIFIED:20260310T191459Z
UID:10003839-1778496300-1778499900@cityofdelcity.gov
SUMMARY:S.A.I.L
DESCRIPTION:Mondays\, Wednesdays\, Fridays\, beginning Dec 1st\, 2025. 10:45AM-11:45AM YMCA – S.A.I.L. (Staying Active and Independent for Life) Strength\, Balance\, and Fitness Program.
URL:https://cityofdelcity.gov/event/s-a-i-l-2-2/2026-05-11/
LOCATION:Del City Community Center\, 4505 SE 15th St.\, Del City\, 73115\, United States
ATTACH;FMTTYPE=image/png:https://cityofdelcity.gov/wp-content/uploads/2025/11/S.A.I.L.png
END:VEVENT
BEGIN:VEVENT
DTSTART;TZID=America/Chicago:20260511T130000
DTEND;TZID=America/Chicago:20260511T140000
DTSTAMP:20260421T000453
CREATED:20251121T161409Z
LAST-MODIFIED:20260126T131616Z
UID:10004573-1778504400-1778508000@cityofdelcity.gov
SUMMARY:TAI CHI
DESCRIPTION:Mondays and Wednesdays\, from 1pm – 2pm. YMCA Tai Chi: Moving for Better Balance. Learning balance skills\, proper body alignment\, and coordinated Tai Chi movements.
URL:https://cityofdelcity.gov/event/tai-chi/2026-05-11/
LOCATION:Del City Community Center\, 4505 SE 15th St.\, Del City\, 73115\, United States
ATTACH;FMTTYPE=image/png:https://cityofdelcity.gov/wp-content/uploads/2025/11/TAI-CHI.png
END:VEVENT
BEGIN:VEVENT
DTSTART;TZID=America/Chicago:20260511T141500
DTEND;TZID=America/Chicago:20260511T151500
DTSTAMP:20260421T000453
CREATED:20251014T193852Z
LAST-MODIFIED:20260126T131653Z
UID:10003288-1778508900-1778512500@cityofdelcity.gov
SUMMARY:Forever Well\, Steady\, & Strong
DESCRIPTION:Mondays and Wednesdays\, from 2:15PM – 3:15PM\, YMCA Forever Well Steady & Strong. Senior focused fitness class that builds strength\, balance\, and flexibility through standing or chair supported exercises.
URL:https://cityofdelcity.gov/event/chair-based-strength-class-hosted-by-the-ymca-2/2026-05-11/
LOCATION:Del City Community Center\, 4505 SE 15th St.\, Del City\, 73115\, United States
ATTACH;FMTTYPE=image/png:https://cityofdelcity.gov/wp-content/uploads/2025/10/FOREVER-WELL-STEADY-STRONG.png
END:VEVENT
BEGIN:VEVENT
DTSTART;TZID=America/Chicago:20260513T104500
DTEND;TZID=America/Chicago:20260513T114500
DTSTAMP:20260421T000453
CREATED:20260310T191458Z
LAST-MODIFIED:20260310T191459Z
UID:10003840-1778669100-1778672700@cityofdelcity.gov
SUMMARY:S.A.I.L
DESCRIPTION:Mondays\, Wednesdays\, Fridays\, beginning Dec 1st\, 2025. 10:45AM-11:45AM YMCA – S.A.I.L. (Staying Active and Independent for Life) Strength\, Balance\, and Fitness Program.
URL:https://cityofdelcity.gov/event/s-a-i-l-2-2/2026-05-13/
LOCATION:Del City Community Center\, 4505 SE 15th St.\, Del City\, 73115\, United States
ATTACH;FMTTYPE=image/png:https://cityofdelcity.gov/wp-content/uploads/2025/11/S.A.I.L.png
END:VEVENT
BEGIN:VEVENT
DTSTART;TZID=America/Chicago:20260513T130000
DTEND;TZID=America/Chicago:20260513T140000
DTSTAMP:20260421T000453
CREATED:20251121T161409Z
LAST-MODIFIED:20260126T131616Z
UID:10004574-1778677200-1778680800@cityofdelcity.gov
SUMMARY:TAI CHI
DESCRIPTION:Mondays and Wednesdays\, from 1pm – 2pm. YMCA Tai Chi: Moving for Better Balance. Learning balance skills\, proper body alignment\, and coordinated Tai Chi movements.
URL:https://cityofdelcity.gov/event/tai-chi/2026-05-13/
LOCATION:Del City Community Center\, 4505 SE 15th St.\, Del City\, 73115\, United States
ATTACH;FMTTYPE=image/png:https://cityofdelcity.gov/wp-content/uploads/2025/11/TAI-CHI.png
END:VEVENT
BEGIN:VEVENT
DTSTART;TZID=America/Chicago:20260513T141500
DTEND;TZID=America/Chicago:20260513T151500
DTSTAMP:20260421T000453
CREATED:20251014T193852Z
LAST-MODIFIED:20260126T131653Z
UID:10003289-1778681700-1778685300@cityofdelcity.gov
SUMMARY:Forever Well\, Steady\, & Strong
DESCRIPTION:Mondays and Wednesdays\, from 2:15PM – 3:15PM\, YMCA Forever Well Steady & Strong. Senior focused fitness class that builds strength\, balance\, and flexibility through standing or chair supported exercises.
URL:https://cityofdelcity.gov/event/chair-based-strength-class-hosted-by-the-ymca-2/2026-05-13/
LOCATION:Del City Community Center\, 4505 SE 15th St.\, Del City\, 73115\, United States
ATTACH;FMTTYPE=image/png:https://cityofdelcity.gov/wp-content/uploads/2025/10/FOREVER-WELL-STEADY-STRONG.png
END:VEVENT
BEGIN:VEVENT
DTSTART;TZID=America/Chicago:20260514T093000
DTEND;TZID=America/Chicago:20260514T123000
DTSTAMP:20260421T000453
CREATED:20260413T214135Z
LAST-MODIFIED:20260413T214432Z
UID:10002756-1778751000-1778761800@cityofdelcity.gov
SUMMARY:Del City Crafters hosted by Diane
DESCRIPTION:This is a craft and quilting class for all ages and skill levels. Contact Diane at (405)677-1821 for information. \n***Space is limited***
URL:https://cityofdelcity.gov/event/del-city-crafters-hosted-by-diane-3/2026-05-14/
LOCATION:Del City Community Center\, 4505 SE 15th St.\, Del City\, 73115\, United States
ATTACH;FMTTYPE=image/jpeg:https://cityofdelcity.gov/wp-content/uploads/2025/09/AdobeStock_289525974-scaled.jpeg
END:VEVENT
BEGIN:VEVENT
DTSTART;TZID=America/Chicago:20260514T190000
DTEND;TZID=America/Chicago:20260514T200000
DTSTAMP:20260421T000453
CREATED:20260227T163144Z
LAST-MODIFIED:20260309T133111Z
UID:10005609-1778785200-1778788800@cityofdelcity.gov
SUMMARY:Olde Towne Neighborhood Watch
DESCRIPTION:
URL:https://cityofdelcity.gov/event/olde-towne-neighborhood-watch/2026-05-14/
LOCATION:Del City Community Center\, 4505 SE 15th St.\, Del City\, 73115\, United States
ATTACH;FMTTYPE=image/png:https://cityofdelcity.gov/wp-content/uploads/2026/02/OLDE-TOWNE-IMG.png
END:VEVENT
BEGIN:VEVENT
DTSTART;TZID=America/Chicago:20260515T104500
DTEND;TZID=America/Chicago:20260515T114500
DTSTAMP:20260421T000453
CREATED:20260310T191458Z
LAST-MODIFIED:20260310T191459Z
UID:10003841-1778841900-1778845500@cityofdelcity.gov
SUMMARY:S.A.I.L
DESCRIPTION:Mondays\, Wednesdays\, Fridays\, beginning Dec 1st\, 2025. 10:45AM-11:45AM YMCA – S.A.I.L. (Staying Active and Independent for Life) Strength\, Balance\, and Fitness Program.
URL:https://cityofdelcity.gov/event/s-a-i-l-2-2/2026-05-15/
LOCATION:Del City Community Center\, 4505 SE 15th St.\, Del City\, 73115\, United States
ATTACH;FMTTYPE=image/png:https://cityofdelcity.gov/wp-content/uploads/2025/11/S.A.I.L.png
END:VEVENT
BEGIN:VEVENT
DTSTART;TZID=America/Chicago:20260518T104500
DTEND;TZID=America/Chicago:20260518T114500
DTSTAMP:20260421T000453
CREATED:20260310T191458Z
LAST-MODIFIED:20260310T191459Z
UID:10003842-1779101100-1779104700@cityofdelcity.gov
SUMMARY:S.A.I.L
DESCRIPTION:Mondays\, Wednesdays\, Fridays\, beginning Dec 1st\, 2025. 10:45AM-11:45AM YMCA – S.A.I.L. (Staying Active and Independent for Life) Strength\, Balance\, and Fitness Program.
URL:https://cityofdelcity.gov/event/s-a-i-l-2-2/2026-05-18/
LOCATION:Del City Community Center\, 4505 SE 15th St.\, Del City\, 73115\, United States
ATTACH;FMTTYPE=image/png:https://cityofdelcity.gov/wp-content/uploads/2025/11/S.A.I.L.png
END:VEVENT
BEGIN:VEVENT
DTSTART;TZID=America/Chicago:20260518T130000
DTEND;TZID=America/Chicago:20260518T140000
DTSTAMP:20260421T000453
CREATED:20251121T161409Z
LAST-MODIFIED:20260126T131616Z
UID:10004908-1779109200-1779112800@cityofdelcity.gov
SUMMARY:TAI CHI
DESCRIPTION:Mondays and Wednesdays\, from 1pm – 2pm. YMCA Tai Chi: Moving for Better Balance. Learning balance skills\, proper body alignment\, and coordinated Tai Chi movements.
URL:https://cityofdelcity.gov/event/tai-chi/2026-05-18/
LOCATION:Del City Community Center\, 4505 SE 15th St.\, Del City\, 73115\, United States
ATTACH;FMTTYPE=image/png:https://cityofdelcity.gov/wp-content/uploads/2025/11/TAI-CHI.png
END:VEVENT
BEGIN:VEVENT
DTSTART;TZID=America/Chicago:20260518T141500
DTEND;TZID=America/Chicago:20260518T151500
DTSTAMP:20260421T000453
CREATED:20251014T193852Z
LAST-MODIFIED:20260126T131653Z
UID:10003290-1779113700-1779117300@cityofdelcity.gov
SUMMARY:Forever Well\, Steady\, & Strong
DESCRIPTION:Mondays and Wednesdays\, from 2:15PM – 3:15PM\, YMCA Forever Well Steady & Strong. Senior focused fitness class that builds strength\, balance\, and flexibility through standing or chair supported exercises.
URL:https://cityofdelcity.gov/event/chair-based-strength-class-hosted-by-the-ymca-2/2026-05-18/
LOCATION:Del City Community Center\, 4505 SE 15th St.\, Del City\, 73115\, United States
ATTACH;FMTTYPE=image/png:https://cityofdelcity.gov/wp-content/uploads/2025/10/FOREVER-WELL-STEADY-STRONG.png
END:VEVENT
BEGIN:VEVENT
DTSTART;TZID=America/Chicago:20260520T104500
DTEND;TZID=America/Chicago:20260520T114500
DTSTAMP:20260421T000453
CREATED:20260310T191458Z
LAST-MODIFIED:20260310T191459Z
UID:10003843-1779273900-1779277500@cityofdelcity.gov
SUMMARY:S.A.I.L
DESCRIPTION:Mondays\, Wednesdays\, Fridays\, beginning Dec 1st\, 2025. 10:45AM-11:45AM YMCA – S.A.I.L. (Staying Active and Independent for Life) Strength\, Balance\, and Fitness Program.
URL:https://cityofdelcity.gov/event/s-a-i-l-2-2/2026-05-20/
LOCATION:Del City Community Center\, 4505 SE 15th St.\, Del City\, 73115\, United States
ATTACH;FMTTYPE=image/png:https://cityofdelcity.gov/wp-content/uploads/2025/11/S.A.I.L.png
END:VEVENT
BEGIN:VEVENT
DTSTART;TZID=America/Chicago:20260520T113000
DTEND;TZID=America/Chicago:20260520T130000
DTSTAMP:20260421T000453
CREATED:20250611T170019Z
LAST-MODIFIED:20260303T204921Z
UID:10001385-1779276600-1779282000@cityofdelcity.gov
SUMMARY:Del City Kiwanis Club Meeting
DESCRIPTION:Click here for more information on the Kiwanis Club.
URL:https://cityofdelcity.gov/event/del-city-kiwanis-club-meeting-2/2026-05-20/
LOCATION:Del City Community Center\, 4505 SE 15th St.\, Del City\, 73115\, United States
ATTACH;FMTTYPE=image/webp:https://cityofdelcity.gov/wp-content/uploads/2025/06/Kiwanis-Logo.webp
END:VEVENT
BEGIN:VEVENT
DTSTART;TZID=America/Chicago:20260520T130000
DTEND;TZID=America/Chicago:20260520T140000
DTSTAMP:20260421T000453
CREATED:20251121T161409Z
LAST-MODIFIED:20260126T131616Z
UID:10004909-1779282000-1779285600@cityofdelcity.gov
SUMMARY:TAI CHI
DESCRIPTION:Mondays and Wednesdays\, from 1pm – 2pm. YMCA Tai Chi: Moving for Better Balance. Learning balance skills\, proper body alignment\, and coordinated Tai Chi movements.
URL:https://cityofdelcity.gov/event/tai-chi/2026-05-20/
LOCATION:Del City Community Center\, 4505 SE 15th St.\, Del City\, 73115\, United States
ATTACH;FMTTYPE=image/png:https://cityofdelcity.gov/wp-content/uploads/2025/11/TAI-CHI.png
END:VEVENT
BEGIN:VEVENT
DTSTART;TZID=America/Chicago:20260520T141500
DTEND;TZID=America/Chicago:20260520T151500
DTSTAMP:20260421T000453
CREATED:20251014T193852Z
LAST-MODIFIED:20260126T131653Z
UID:10003291-1779286500-1779290100@cityofdelcity.gov
SUMMARY:Forever Well\, Steady\, & Strong
DESCRIPTION:Mondays and Wednesdays\, from 2:15PM – 3:15PM\, YMCA Forever Well Steady & Strong. Senior focused fitness class that builds strength\, balance\, and flexibility through standing or chair supported exercises.
URL:https://cityofdelcity.gov/event/chair-based-strength-class-hosted-by-the-ymca-2/2026-05-20/
LOCATION:Del City Community Center\, 4505 SE 15th St.\, Del City\, 73115\, United States
ATTACH;FMTTYPE=image/png:https://cityofdelcity.gov/wp-content/uploads/2025/10/FOREVER-WELL-STEADY-STRONG.png
END:VEVENT
BEGIN:VEVENT
DTSTART;TZID=America/Chicago:20260521T093000
DTEND;TZID=America/Chicago:20260521T123000
DTSTAMP:20260421T000453
CREATED:20260413T214135Z
LAST-MODIFIED:20260413T214432Z
UID:10002757-1779355800-1779366600@cityofdelcity.gov
SUMMARY:Del City Crafters hosted by Diane
DESCRIPTION:This is a craft and quilting class for all ages and skill levels. Contact Diane at (405)677-1821 for information. \n***Space is limited***
URL:https://cityofdelcity.gov/event/del-city-crafters-hosted-by-diane-3/2026-05-21/
LOCATION:Del City Community Center\, 4505 SE 15th St.\, Del City\, 73115\, United States
ATTACH;FMTTYPE=image/jpeg:https://cityofdelcity.gov/wp-content/uploads/2025/09/AdobeStock_289525974-scaled.jpeg
END:VEVENT
BEGIN:VEVENT
DTSTART;TZID=America/Chicago:20260521T190000
DTEND;TZID=America/Chicago:20260521T200000
DTSTAMP:20260421T000453
CREATED:20250611T164803Z
LAST-MODIFIED:20260227T164505Z
UID:10001264-1779390000-1779393600@cityofdelcity.gov
SUMMARY:Del North Neighborhood Watch Meeting
DESCRIPTION:Click here for more on the Del North Neighborhood Watch Association.
URL:https://cityofdelcity.gov/event/del-north-neighborhood-watch-meeting-3/2026-05-21/
LOCATION:Del City Community Center\, 4505 SE 15th St.\, Del City\, 73115\, United States
ATTACH;FMTTYPE=image/png:https://cityofdelcity.gov/wp-content/uploads/2025/06/DEL-CITY-NORTH-IMG.png
ORGANIZER;CN="Del North Neighborhood Watch Association":MAILTO:skluge9396@cox.net
END:VEVENT
BEGIN:VEVENT
DTSTART;TZID=America/Chicago:20260522T104500
DTEND;TZID=America/Chicago:20260522T114500
DTSTAMP:20260421T000453
CREATED:20260310T191458Z
LAST-MODIFIED:20260310T191459Z
UID:10003844-1779446700-1779450300@cityofdelcity.gov
SUMMARY:S.A.I.L
DESCRIPTION:Mondays\, Wednesdays\, Fridays\, beginning Dec 1st\, 2025. 10:45AM-11:45AM YMCA – S.A.I.L. (Staying Active and Independent for Life) Strength\, Balance\, and Fitness Program.
URL:https://cityofdelcity.gov/event/s-a-i-l-2-2/2026-05-22/
LOCATION:Del City Community Center\, 4505 SE 15th St.\, Del City\, 73115\, United States
ATTACH;FMTTYPE=image/png:https://cityofdelcity.gov/wp-content/uploads/2025/11/S.A.I.L.png
END:VEVENT
BEGIN:VEVENT
DTSTART;TZID=America/Chicago:20260525T073000
DTEND;TZID=America/Chicago:20260525T173000
DTSTAMP:20260421T000453
CREATED:20260127T204134Z
LAST-MODIFIED:20260127T223947Z
UID:10005371-1779694200-1779730200@cityofdelcity.gov
SUMMARY:Memorial Day
DESCRIPTION:Administrative Buildings: Administrative Buildings will be closed on Monday\, May 25 in observance of the Memorial Day holiday. Administrative Buildings will reopen Tuesday\, May 26 at 7:30 AM. \nSanitation Pick Up: See Sanitation/Bulk Calendar HERE. \nEmergency or Non-Emergency Contact Numbers: Click the ‘Get Help’ tab to head to the Action Center for a list of helpful contact numbers and information. \nOr \nClick Here: https://cityofdelcity.gov/connect/city-directory/
URL:https://cityofdelcity.gov/event/memorial-day-2/
LOCATION:Administrative Buildings\, OK\, 73115\, United States
ATTACH;FMTTYPE=image/png:https://cityofdelcity.gov/wp-content/uploads/2026/01/NOC-MEMORIAL-DAY-.png
ORGANIZER;CN="City of Del City":MAILTO:info@cityofdelcity.org
END:VEVENT
BEGIN:VEVENT
DTSTART;TZID=America/Chicago:20260527T104500
DTEND;TZID=America/Chicago:20260527T114500
DTSTAMP:20260421T000453
CREATED:20260310T191458Z
LAST-MODIFIED:20260310T191459Z
UID:10003846-1779878700-1779882300@cityofdelcity.gov
SUMMARY:S.A.I.L
DESCRIPTION:Mondays\, Wednesdays\, Fridays\, beginning Dec 1st\, 2025. 10:45AM-11:45AM YMCA – S.A.I.L. (Staying Active and Independent for Life) Strength\, Balance\, and Fitness Program.
URL:https://cityofdelcity.gov/event/s-a-i-l-2-2/2026-05-27/
LOCATION:Del City Community Center\, 4505 SE 15th St.\, Del City\, 73115\, United States
ATTACH;FMTTYPE=image/png:https://cityofdelcity.gov/wp-content/uploads/2025/11/S.A.I.L.png
END:VEVENT
BEGIN:VEVENT
DTSTART;TZID=America/Chicago:20260527T130000
DTEND;TZID=America/Chicago:20260527T140000
DTSTAMP:20260421T000453
CREATED:20251121T161409Z
LAST-MODIFIED:20260126T131616Z
UID:10004576-1779886800-1779890400@cityofdelcity.gov
SUMMARY:TAI CHI
DESCRIPTION:Mondays and Wednesdays\, from 1pm – 2pm. YMCA Tai Chi: Moving for Better Balance. Learning balance skills\, proper body alignment\, and coordinated Tai Chi movements.
URL:https://cityofdelcity.gov/event/tai-chi/2026-05-27/
LOCATION:Del City Community Center\, 4505 SE 15th St.\, Del City\, 73115\, United States
ATTACH;FMTTYPE=image/png:https://cityofdelcity.gov/wp-content/uploads/2025/11/TAI-CHI.png
END:VEVENT
BEGIN:VEVENT
DTSTART;TZID=America/Chicago:20260527T141500
DTEND;TZID=America/Chicago:20260527T151500
DTSTAMP:20260421T000453
CREATED:20251014T193852Z
LAST-MODIFIED:20260126T131653Z
UID:10003293-1779891300-1779894900@cityofdelcity.gov
SUMMARY:Forever Well\, Steady\, & Strong
DESCRIPTION:Mondays and Wednesdays\, from 2:15PM – 3:15PM\, YMCA Forever Well Steady & Strong. Senior focused fitness class that builds strength\, balance\, and flexibility through standing or chair supported exercises.
URL:https://cityofdelcity.gov/event/chair-based-strength-class-hosted-by-the-ymca-2/2026-05-27/
LOCATION:Del City Community Center\, 4505 SE 15th St.\, Del City\, 73115\, United States
ATTACH;FMTTYPE=image/png:https://cityofdelcity.gov/wp-content/uploads/2025/10/FOREVER-WELL-STEADY-STRONG.png
END:VEVENT
BEGIN:VEVENT
DTSTART;TZID=America/Chicago:20260528T093000
DTEND;TZID=America/Chicago:20260528T123000
DTSTAMP:20260421T000453
CREATED:20260413T214135Z
LAST-MODIFIED:20260413T214432Z
UID:10002758-1779960600-1779971400@cityofdelcity.gov
SUMMARY:Del City Crafters hosted by Diane
DESCRIPTION:This is a craft and quilting class for all ages and skill levels. Contact Diane at (405)677-1821 for information. \n***Space is limited***
URL:https://cityofdelcity.gov/event/del-city-crafters-hosted-by-diane-3/2026-05-28/
LOCATION:Del City Community Center\, 4505 SE 15th St.\, Del City\, 73115\, United States
ATTACH;FMTTYPE=image/jpeg:https://cityofdelcity.gov/wp-content/uploads/2025/09/AdobeStock_289525974-scaled.jpeg
END:VEVENT
BEGIN:VEVENT
DTSTART;TZID=America/Chicago:20260528T140000
DTEND;TZID=America/Chicago:20260528T160000
DTSTAMP:20260421T000453
CREATED:20250930T154216Z
LAST-MODIFIED:20251124T225046Z
UID:10003052-1779976800-1779984000@cityofdelcity.gov
SUMMARY:Bingo with Diane
DESCRIPTION:
URL:https://cityofdelcity.gov/event/bingo-with-diane/2026-05-28/
LOCATION:Del City Community Center\, 4505 SE 15th St.\, Del City\, 73115\, United States
ATTACH;FMTTYPE=image/jpeg:https://cityofdelcity.gov/wp-content/uploads/2025/09/AdobeStock_393911855-scaled.jpeg
END:VEVENT
BEGIN:VEVENT
DTSTART;TZID=America/Chicago:20260529T104500
DTEND;TZID=America/Chicago:20260529T114500
DTSTAMP:20260421T000453
CREATED:20260310T191458Z
LAST-MODIFIED:20260310T191459Z
UID:10003847-1780051500-1780055100@cityofdelcity.gov
SUMMARY:S.A.I.L
DESCRIPTION:Mondays\, Wednesdays\, Fridays\, beginning Dec 1st\, 2025. 10:45AM-11:45AM YMCA – S.A.I.L. (Staying Active and Independent for Life) Strength\, Balance\, and Fitness Program.
URL:https://cityofdelcity.gov/event/s-a-i-l-2-2/2026-05-29/
LOCATION:Del City Community Center\, 4505 SE 15th St.\, Del City\, 73115\, United States
ATTACH;FMTTYPE=image/png:https://cityofdelcity.gov/wp-content/uploads/2025/11/S.A.I.L.png
END:VEVENT
BEGIN:VEVENT
DTSTART;TZID=America/Chicago:20260601T104500
DTEND;TZID=America/Chicago:20260601T114500
DTSTAMP:20260421T000453
CREATED:20260310T191458Z
LAST-MODIFIED:20260310T191459Z
UID:10003848-1780310700-1780314300@cityofdelcity.gov
SUMMARY:S.A.I.L
DESCRIPTION:Mondays\, Wednesdays\, Fridays\, beginning Dec 1st\, 2025. 10:45AM-11:45AM YMCA – S.A.I.L. (Staying Active and Independent for Life) Strength\, Balance\, and Fitness Program.
URL:https://cityofdelcity.gov/event/s-a-i-l-2-2/2026-06-01/
LOCATION:Del City Community Center\, 4505 SE 15th St.\, Del City\, 73115\, United States
ATTACH;FMTTYPE=image/png:https://cityofdelcity.gov/wp-content/uploads/2025/11/S.A.I.L.png
END:VEVENT
END:VCALENDAR