BEGIN:VCALENDAR
VERSION:2.0
PRODID:-//The City of Del City - ECPv6.15.20//NONSGML v1.0//EN
CALSCALE:GREGORIAN
METHOD:PUBLISH
X-WR-CALNAME:The City of Del City
X-ORIGINAL-URL:https://cityofdelcity.gov
X-WR-CALDESC:Events for The City of Del City
REFRESH-INTERVAL;VALUE=DURATION:PT1H
X-Robots-Tag:noindex
X-PUBLISHED-TTL:PT1H
BEGIN:VTIMEZONE
TZID:America/Chicago
BEGIN:DAYLIGHT
TZOFFSETFROM:-0600
TZOFFSETTO:-0500
TZNAME:CDT
DTSTART:20240310T080000
END:DAYLIGHT
BEGIN:STANDARD
TZOFFSETFROM:-0500
TZOFFSETTO:-0600
TZNAME:CST
DTSTART:20241103T070000
END:STANDARD
BEGIN:DAYLIGHT
TZOFFSETFROM:-0600
TZOFFSETTO:-0500
TZNAME:CDT
DTSTART:20250309T080000
END:DAYLIGHT
BEGIN:STANDARD
TZOFFSETFROM:-0500
TZOFFSETTO:-0600
TZNAME:CST
DTSTART:20251102T070000
END:STANDARD
BEGIN:DAYLIGHT
TZOFFSETFROM:-0600
TZOFFSETTO:-0500
TZNAME:CDT
DTSTART:20260308T080000
END:DAYLIGHT
BEGIN:STANDARD
TZOFFSETFROM:-0500
TZOFFSETTO:-0600
TZNAME:CST
DTSTART:20261101T070000
END:STANDARD
BEGIN:DAYLIGHT
TZOFFSETFROM:-0600
TZOFFSETTO:-0500
TZNAME:CDT
DTSTART:20270314T080000
END:DAYLIGHT
BEGIN:STANDARD
TZOFFSETFROM:-0500
TZOFFSETTO:-0600
TZNAME:CST
DTSTART:20271107T070000
END:STANDARD
END:VTIMEZONE
BEGIN:VTIMEZONE
TZID:UTC
BEGIN:STANDARD
TZOFFSETFROM:+0000
TZOFFSETTO:+0000
TZNAME:UTC
DTSTART:20240101T000000
END:STANDARD
END:VTIMEZONE
BEGIN:VEVENT
DTSTART;VALUE=DATE:20260105
DTEND;VALUE=DATE:20260110
DTSTAMP:20260421T013425
CREATED:20250630T164125Z
LAST-MODIFIED:20250703T190918Z
UID:10001876-1767571200-1768003199@cityofdelcity.gov
SUMMARY:Ward 1 Bulk Trash - Pickup Week
DESCRIPTION:***Bulk Trash must be placed at the curb by the Monday of your pickup week at 6 AM. If the Monday of your scheduled Bulk Trash Week falls on a federal holiday\, Sanitation will continue with pickup the next business day. Expect possible delays as Sanitation resumes its schedule. \nFor more information on Bulk Trash\, click here or visit www.cityofdelcity.gov/bulk-trash.
URL:https://cityofdelcity.gov/event/ward-1-bulk-trash-pickup-week/2026-01-05/
LOCATION:Del City\, OK\, 73115\, United States
ORGANIZER;CN="City of Del City":MAILTO:info@cityofdelcity.org
END:VEVENT
BEGIN:VEVENT
DTSTART;VALUE=DATE:20260101
DTEND;VALUE=DATE:20260102
DTSTAMP:20260421T013425
CREATED:20251231T202809Z
LAST-MODIFIED:20251231T205046Z
UID:10005274-1767225600-1767311999@cityofdelcity.gov
SUMMARY:New Year's Day
DESCRIPTION:Administrative Buildings: Administrative Buildings will be closed in observance of New Year’s Day on Thursday\, January 1 in observance of the New Year holiday. Administrative Buildings will reopen Friday\, January 2 at 7:30 AM. \nSanitation Pick Up: If your trash day falls on Thursday\, January 1\, pick up will resume Friday\, January 2. See Sanitation/Bulk Calendar HERE. \nEmergency or Non-Emergency Contact Numbers: Click the ‘Get Help’ tab to head to the Action Center for a list of helpful contact numbers and information.
URL:https://cityofdelcity.gov/event/new-years-day-3/
LOCATION:Del City Community Center\, 4505 SE 15th St.\, Del City\, 73115\, United States
ATTACH;FMTTYPE=image/png:https://cityofdelcity.gov/wp-content/uploads/2025/12/NYE-POST-26.png
ORGANIZER;CN="City of Del City":MAILTO:info@cityofdelcity.org
END:VEVENT
BEGIN:VEVENT
DTSTART;TZID=America/Chicago:20251231T073000
DTEND;TZID=America/Chicago:20251231T153000
DTSTAMP:20260421T013425
CREATED:20251231T202539Z
LAST-MODIFIED:20251231T205153Z
UID:10005298-1767166200-1767195000@cityofdelcity.gov
SUMMARY:New Year's Eve
DESCRIPTION:Administrative Buildings: Administrative Buildings will be closing at 3:30 PM TODAY\, Wednesday\, December 31 and closed in observance of New Year’s Day on Thursday\, January 1 in observance of the New Year holiday.  Administrative Buildings will reopen Friday\, January 2 at 7:30 AM. \nSanitation Pick Up: If your trash day falls on Thursday\, January 1\, pick up will resume Friday\, January 2. \nEmergency or Non-Emergency Contact Numbers: Click the ‘Get Help’ tab to head to the Action Center for a list of helpful contact numbers and information.
URL:https://cityofdelcity.gov/event/new-years-eve/
LOCATION:Administrative Buildings\, OK\, 73115\, United States
ATTACH;FMTTYPE=image/png:https://cityofdelcity.gov/wp-content/uploads/2025/12/NYE-POST-26.png
ORGANIZER;CN="City of Del City":MAILTO:info@cityofdelcity.org
END:VEVENT
BEGIN:VEVENT
DTSTART;VALUE=DATE:20251226
DTEND;VALUE=DATE:20251227
DTSTAMP:20260421T013425
CREATED:20250125T023022Z
LAST-MODIFIED:20251209T154004Z
UID:10003106-1766734200-1766770200@cityofdelcity.gov
SUMMARY:Christmas Holiday
DESCRIPTION:Administrative Buildings: Administrative Buildings will be closing at 11:30 AM\, Wednesday\, December 24\, 2025\, and remain closed through Friday\, December 26\, 2025\,  in observance of the Christmas holiday. Administrative buildings will reopen on Monday\, December 29\, 2025\, at 7:30 AM. \nSanitation Pick Up: \n\n\nWednesday\, 12/24: Normal routes \n\n\nThursday\, 12/25: No routes \n\n\nFriday\, 12/26: Crews will run Thursday’s routes \n\n\nEmergency or Non-Emergency Contact Numbers: Click the ‘Get Help’ tab to head to the Action Center for a list of helpful contact numbers and information.
URL:https://cityofdelcity.gov/event/christmas-day/2025-12-26/
LOCATION:City Offices
ATTACH;FMTTYPE=image/jpeg:https://cityofdelcity.gov/wp-content/uploads/2024/11/00B_Del-City_MASTER_City-Hall.jpg
ORGANIZER;CN="City of Del City":MAILTO:info@cityofdelcity.org
END:VEVENT
BEGIN:VEVENT
DTSTART;VALUE=DATE:20251225
DTEND;VALUE=DATE:20251226
DTSTAMP:20260421T013425
CREATED:20250125T023022Z
LAST-MODIFIED:20251209T154004Z
UID:10001230-1766620800-1766707199@cityofdelcity.gov
SUMMARY:Christmas Holiday
DESCRIPTION:Administrative Buildings: Administrative Buildings will be closing at 11:30 AM\, Wednesday\, December 24\, 2025\, and remain closed through Friday\, December 26\, 2025\,  in observance of the Christmas holiday. Administrative buildings will reopen on Monday\, December 29\, 2025\, at 7:30 AM. \nSanitation Pick Up: \n\n\nWednesday\, 12/24: Normal routes \n\n\nThursday\, 12/25: No routes \n\n\nFriday\, 12/26: Crews will run Thursday’s routes \n\n\nEmergency or Non-Emergency Contact Numbers: Click the ‘Get Help’ tab to head to the Action Center for a list of helpful contact numbers and information.
URL:https://cityofdelcity.gov/event/christmas-day/2025-12-25/
LOCATION:City Offices
ATTACH;FMTTYPE=image/jpeg:https://cityofdelcity.gov/wp-content/uploads/2024/11/00B_Del-City_MASTER_City-Hall.jpg
ORGANIZER;CN="City of Del City":MAILTO:info@cityofdelcity.org
END:VEVENT
BEGIN:VEVENT
DTSTART;TZID=America/Chicago:20251224T073000
DTEND;TZID=America/Chicago:20251224T113000
DTSTAMP:20260421T013425
CREATED:20250930T160628Z
LAST-MODIFIED:20251023T182832Z
UID:10003107-1766561400-1766575800@cityofdelcity.gov
SUMMARY:Christmas Eve
DESCRIPTION:Administrative Buildings: Administrative Buildings will be closing at 11:30 AM\, Wednesday\, December 24\, 2025\, and remain closed through Friday\, December 26\, 2025\,  in observance of the Christmas holiday. Administrative buildings will reopen on Monday\, December 29\, 2025\, at 7:30 AM. \nSanitation Pick Up: TBA \nEmergency or Non-Emergency Contact Numbers: Click the ‘Get Help’ tab to head to the Action Center for a list of helpful contact numbers and information.
URL:https://cityofdelcity.gov/event/christmas-eve/
LOCATION:City Offices
ORGANIZER;CN="City of Del City":MAILTO:info@cityofdelcity.org
END:VEVENT
BEGIN:VEVENT
DTSTART;VALUE=DATE:20251222
DTEND;VALUE=DATE:20251227
DTSTAMP:20260421T013425
CREATED:20250630T164628Z
LAST-MODIFIED:20250630T165736Z
UID:10001662-1766361600-1766793599@cityofdelcity.gov
SUMMARY:Ward 4 Bulk Trash - Pickup Week
DESCRIPTION:***Bulk Trash must be placed at the curb by the Monday of your pickup week at 6 AM. If the Monday of your scheduled Bulk Trash Week falls on a federal holiday\, Sanitation will continue with pickup the next business day. Expect possible delays as Sanitation resumes its schedule. \nFor more information on Bulk Trash\, click here or visit www.cityofdelcity.gov/bulk-trash. \n 
URL:https://cityofdelcity.gov/event/ward-4-bulk-trash-pickup-week/2025-12-22/
LOCATION:Del City\, OK\, 73115\, United States
ORGANIZER;CN="City of Del City":MAILTO:info@cityofdelcity.org
END:VEVENT
BEGIN:VEVENT
DTSTART;TZID=UTC:20251215T180000
DTEND;TZID=UTC:20251215T200000
DTSTAMP:20260421T013425
CREATED:20250124T230429Z
LAST-MODIFIED:20260407T161521Z
UID:10000898-1765821600-1765828800@cityofdelcity.gov
SUMMARY:City Council Meeting
DESCRIPTION:
URL:https://cityofdelcity.gov/event/city-council-meeting-8/2025-12-15/
LOCATION:Council Chambers at City Hall\, 3701 SE 15th St\, Del City\, 73115\, United States
ATTACH;FMTTYPE=image/jpeg:https://cityofdelcity.gov/wp-content/uploads/2024/07/Council-Chambers-2-stock-e1749646917966.jpg
ORGANIZER;CN="City of Del City":MAILTO:info@cityofdelcity.org
END:VEVENT
BEGIN:VEVENT
DTSTART;VALUE=DATE:20251215
DTEND;VALUE=DATE:20251220
DTSTAMP:20260421T013425
CREATED:20250630T164449Z
LAST-MODIFIED:20250630T165651Z
UID:10001602-1765756800-1766188799@cityofdelcity.gov
SUMMARY:Ward 3 Bulk Trash - Pickup Week
DESCRIPTION:***Bulk Trash must be placed at the curb by the Monday of your pickup week at 6 AM. If the Monday of your scheduled Bulk Trash Week falls on a federal holiday\, Sanitation will continue with pickup the next business day. Expect possible delays as Sanitation resumes its schedule. \nFor more information on Bulk Trash\, click here or visit www.cityofdelcity.gov/bulk-trash. \n 
URL:https://cityofdelcity.gov/event/ward-3-bulk-trash-pickup-week/2025-12-15/
LOCATION:Del City\, OK\, 73115\, United States
ORGANIZER;CN="City of Del City":MAILTO:info@cityofdelcity.org
END:VEVENT
BEGIN:VEVENT
DTSTART;TZID=UTC:20251208T180000
DTEND;TZID=UTC:20251208T200000
DTSTAMP:20260421T013425
CREATED:20250125T015432Z
LAST-MODIFIED:20251124T223623Z
UID:10001175-1765216800-1765224000@cityofdelcity.gov
SUMMARY:Board of Adjustment Meeting
DESCRIPTION:
URL:https://cityofdelcity.gov/event/board-of-adjustment-meeting-4-2-2/2025-12-08/
LOCATION:Council Chambers at City Hall\, 3701 SE 15th St\, Del City\, 73115\, United States
ATTACH;FMTTYPE=image/jpeg:https://cityofdelcity.gov/wp-content/uploads/2024/11/00B_Del-City_MASTER_City-Hall.jpg
ORGANIZER;CN="City of Del City":MAILTO:info@cityofdelcity.org
END:VEVENT
BEGIN:VEVENT
DTSTART;VALUE=DATE:20251208
DTEND;VALUE=DATE:20251213
DTSTAMP:20260421T013425
CREATED:20250630T164341Z
LAST-MODIFIED:20250630T165712Z
UID:10001719-1765152000-1765583999@cityofdelcity.gov
SUMMARY:Ward 2 Bulk Trash - Pickup Week
DESCRIPTION:***Bulk Trash must be placed at the curb by the Monday of your pickup week at 6 AM. If the Monday of your scheduled Bulk Trash Week falls on a federal holiday\, Sanitation will continue with pickup the next business day. Expect possible delays as Sanitation resumes its schedule. \nFor more information on Bulk Trash\, click here or visit www.cityofdelcity.gov/bulk-trash. \n 
URL:https://cityofdelcity.gov/event/ward-2-bulk-trash-pickup-week/2025-12-08/
LOCATION:Del City\, OK\, 73115\, United States
ORGANIZER;CN="City of Del City":MAILTO:info@cityofdelcity.org
END:VEVENT
BEGIN:VEVENT
DTSTART;TZID=UTC:20251205T180000
DTEND;TZID=UTC:20251205T200000
DTSTAMP:20260421T013425
CREATED:20250128T212132Z
LAST-MODIFIED:20251112T145131Z
UID:10001229-1764957600-1764964800@cityofdelcity.gov
SUMMARY:The Mayor's Tree Lighting Ceremony
DESCRIPTION:🎄 Mark your calendars! Join us for the Mayor’s Tree Lighting on Friday\, December 5\, from 6-8 PM as we kick off the holiday season together in Del City! Let’s ring in the season as one community\, united in spirit and joy.
URL:https://cityofdelcity.gov/event/the-mayors-tree-lighting-ceremony/
LOCATION:Del City Community Center\, 4505 SE 15th St.\, Del City\, 73115\, United States
ATTACH;FMTTYPE=image/png:https://cityofdelcity.gov/wp-content/uploads/2025/01/Mayors-Tree-Lighting-6.png
ORGANIZER;CN="City of Del City":MAILTO:info@cityofdelcity.org
END:VEVENT
BEGIN:VEVENT
DTSTART;TZID=UTC:20251201T180000
DTEND;TZID=UTC:20251201T200000
DTSTAMP:20260421T013425
CREATED:20250124T230239Z
LAST-MODIFIED:20260407T161758Z
UID:10000840-1764612000-1764619200@cityofdelcity.gov
SUMMARY:City Council Meeting
DESCRIPTION:
URL:https://cityofdelcity.gov/event/city-council-meeting-7/2025-12-01/
LOCATION:Council Chambers at City Hall\, 3701 SE 15th St\, Del City\, 73115\, United States
ATTACH;FMTTYPE=image/jpeg:https://cityofdelcity.gov/wp-content/uploads/2024/07/Council-Chambers-2-stock-e1749646917966.jpg
ORGANIZER;CN="City of Del City":MAILTO:info@cityofdelcity.org
END:VEVENT
BEGIN:VEVENT
DTSTART;VALUE=DATE:20251201
DTEND;VALUE=DATE:20251206
DTSTAMP:20260421T013425
CREATED:20250630T164125Z
LAST-MODIFIED:20250703T190918Z
UID:10001875-1764547200-1764979199@cityofdelcity.gov
SUMMARY:Ward 1 Bulk Trash - Pickup Week
DESCRIPTION:***Bulk Trash must be placed at the curb by the Monday of your pickup week at 6 AM. If the Monday of your scheduled Bulk Trash Week falls on a federal holiday\, Sanitation will continue with pickup the next business day. Expect possible delays as Sanitation resumes its schedule. \nFor more information on Bulk Trash\, click here or visit www.cityofdelcity.gov/bulk-trash.
URL:https://cityofdelcity.gov/event/ward-1-bulk-trash-pickup-week/2025-12-01/
LOCATION:Del City\, OK\, 73115\, United States
ORGANIZER;CN="City of Del City":MAILTO:info@cityofdelcity.org
END:VEVENT
BEGIN:VEVENT
DTSTART;VALUE=DATE:20251128
DTEND;VALUE=DATE:20251129
DTSTAMP:20260421T013425
CREATED:20251112T181753Z
LAST-MODIFIED:20251112T181753Z
UID:10003105-1764288000-1764374399@cityofdelcity.gov
SUMMARY:Thanksgiving Holiday
DESCRIPTION:Administrative Buildings: Administrative Buildings will be closed in observance of the Thanksgiving holiday on Thursday\, November 27\, 2025\, and Friday\, November 28\, 2025. Administrative buildings will reopen on Monday\, January 1\, 2025\, at 7:30 AM. \nSanitation Pick Up: If your trash day falls on Thanksgiving\, pick up will resume the following day\, Friday\, November 28\, 2025. \nEmergency or Non-Emergency Contact Numbers: Click the ‘Get Help’ tab to head to the Action Center for a list of helpful contact numbers and information.
URL:https://cityofdelcity.gov/event/thanksgiving-3/
LOCATION:City Offices
ORGANIZER;CN="City of Del City":MAILTO:info@cityofdelcity.org
END:VEVENT
BEGIN:VEVENT
DTSTART;VALUE=DATE:20251127
DTEND;VALUE=DATE:20251128
DTSTAMP:20260421T013425
CREATED:20251112T181650Z
LAST-MODIFIED:20251112T181651Z
UID:10001227-1764201600-1764287999@cityofdelcity.gov
SUMMARY:Thanksgiving Holiday
DESCRIPTION:Administrative Buildings: Administrative Buildings will be closed in observance of the Thanksgiving holiday on Thursday\, November 27\, 2025\, and Friday\, November 28\, 2025. Administrative buildings will reopen on Monday\, January 1\, 2025\, at 7:30 AM. \nSanitation Pick Up: If your trash day falls on Thanksgiving\, pick up will resume the following day\, Friday\, November 28\, 2025. \nEmergency or Non-Emergency Contact Numbers: Click the ‘Get Help’ tab to head to the Action Center for a list of helpful contact numbers and information.
URL:https://cityofdelcity.gov/event/thanksgiving-2/
LOCATION:City Offices
ORGANIZER;CN="City of Del City":MAILTO:info@cityofdelcity.org
END:VEVENT
BEGIN:VEVENT
DTSTART;TZID=America/Chicago:20251125T180000
DTEND;TZID=America/Chicago:20251125T190000
DTSTAMP:20260421T013425
CREATED:20251118T164021Z
LAST-MODIFIED:20251118T165513Z
UID:10003757-1764093600-1764097200@cityofdelcity.gov
SUMMARY:Parks & Beautification Meeting
DESCRIPTION:*Meeting moved from Tuesday\, November 18\, 2025.
URL:https://cityofdelcity.gov/event/parks-beautification-meeting-4/
LOCATION:Council Chambers at City Hall\, 3701 SE 15th St\, Del City\, 73115\, United States
ATTACH;FMTTYPE=image/jpeg:https://cityofdelcity.gov/wp-content/uploads/2024/07/D18A5349.jpg
ORGANIZER;CN="City of Del City":MAILTO:info@cityofdelcity.org
END:VEVENT
BEGIN:VEVENT
DTSTART;VALUE=DATE:20251124
DTEND;VALUE=DATE:20251129
DTSTAMP:20260421T013425
CREATED:20250630T164628Z
LAST-MODIFIED:20250630T165736Z
UID:10001661-1763942400-1764374399@cityofdelcity.gov
SUMMARY:Ward 4 Bulk Trash - Pickup Week
DESCRIPTION:***Bulk Trash must be placed at the curb by the Monday of your pickup week at 6 AM. If the Monday of your scheduled Bulk Trash Week falls on a federal holiday\, Sanitation will continue with pickup the next business day. Expect possible delays as Sanitation resumes its schedule. \nFor more information on Bulk Trash\, click here or visit www.cityofdelcity.gov/bulk-trash. \n 
URL:https://cityofdelcity.gov/event/ward-4-bulk-trash-pickup-week/2025-11-24/
LOCATION:Del City\, OK\, 73115\, United States
ORGANIZER;CN="City of Del City":MAILTO:info@cityofdelcity.org
END:VEVENT
BEGIN:VEVENT
DTSTART;TZID=UTC:20251118T180000
DTEND;TZID=UTC:20251118T200000
DTSTAMP:20260421T013425
CREATED:20251118T163641Z
LAST-MODIFIED:20251118T163642Z
UID:10000664-1763488800-1763496000@cityofdelcity.gov
SUMMARY:Parks & Beautification Meeting
DESCRIPTION:
URL:https://cityofdelcity.gov/event/parks-beautification-meeting-2-4/
LOCATION:Council Chambers at City Hall\, 3701 SE 15th St\, Del City\, 73115\, United States
ATTACH;FMTTYPE=image/jpeg:https://cityofdelcity.gov/wp-content/uploads/2024/07/D18A5349.jpg
ORGANIZER;CN="City of Del City":MAILTO:info@cityofdelcity.org
END:VEVENT
BEGIN:VEVENT
DTSTART;TZID=UTC:20251117T180000
DTEND;TZID=UTC:20251117T200000
DTSTAMP:20260421T013425
CREATED:20250124T230429Z
LAST-MODIFIED:20260407T161521Z
UID:10000897-1763402400-1763409600@cityofdelcity.gov
SUMMARY:City Council Meeting
DESCRIPTION:
URL:https://cityofdelcity.gov/event/city-council-meeting-8/2025-11-17/
LOCATION:Council Chambers at City Hall\, 3701 SE 15th St\, Del City\, 73115\, United States
ATTACH;FMTTYPE=image/jpeg:https://cityofdelcity.gov/wp-content/uploads/2024/07/Council-Chambers-2-stock-e1749646917966.jpg
ORGANIZER;CN="City of Del City":MAILTO:info@cityofdelcity.org
END:VEVENT
BEGIN:VEVENT
DTSTART;VALUE=DATE:20251117
DTEND;VALUE=DATE:20251122
DTSTAMP:20260421T013425
CREATED:20250630T164449Z
LAST-MODIFIED:20250630T165651Z
UID:10001601-1763337600-1763769599@cityofdelcity.gov
SUMMARY:Ward 3 Bulk Trash - Pickup Week
DESCRIPTION:***Bulk Trash must be placed at the curb by the Monday of your pickup week at 6 AM. If the Monday of your scheduled Bulk Trash Week falls on a federal holiday\, Sanitation will continue with pickup the next business day. Expect possible delays as Sanitation resumes its schedule. \nFor more information on Bulk Trash\, click here or visit www.cityofdelcity.gov/bulk-trash. \n 
URL:https://cityofdelcity.gov/event/ward-3-bulk-trash-pickup-week/2025-11-17/
LOCATION:Del City\, OK\, 73115\, United States
ORGANIZER;CN="City of Del City":MAILTO:info@cityofdelcity.org
END:VEVENT
BEGIN:VEVENT
DTSTART;TZID=UTC:20251111T110000
DTEND;TZID=UTC:20251111T120000
DTSTAMP:20260421T013425
CREATED:20250128T211927Z
LAST-MODIFIED:20250128T211927Z
UID:10001232-1762858800-1762862400@cityofdelcity.gov
SUMMARY:Veterans Day Ceremony
DESCRIPTION:Details TBD.
URL:https://cityofdelcity.gov/event/veterans-day-ceremony/
LOCATION:Del City Community Center\, 4505 SE 15th St.\, Del City\, 73115\, United States
ATTACH;FMTTYPE=image/jpeg:https://cityofdelcity.gov/wp-content/uploads/2025/01/luke-michael-Tdwu35bCUj0-unsplash-scaled.jpg
ORGANIZER;CN="City of Del City":MAILTO:info@cityofdelcity.org
END:VEVENT
BEGIN:VEVENT
DTSTART;VALUE=DATE:20251111
DTEND;VALUE=DATE:20251112
DTSTAMP:20260421T013425
CREATED:20250125T015913Z
LAST-MODIFIED:20251104T182140Z
UID:10001225-1762819200-1762905599@cityofdelcity.gov
SUMMARY:Veterans Day
DESCRIPTION:Administrative Buildings: Administrative Buildings will be closed in the observance of the Veterans Day holiday Tuesday\, November 11\, 2025. Administrative buildings will reopen on Wednesday\, November 12\, 2025 at 7:30 AM. \nSanitation Pick Up: If your trash day falls on this date\, pick up will resume the following business day Wednesday\, November 12\, 2025. \nBulk Trash: Bulk trash pick up will continue throughout this week for Ward 3. Expect possible delays as Sanitation resumes its schedule after the holiday. \nEmergency or Non-Emergency Contact Numbers: Click the ‘Get Help’ tab to head to the Action Center for a list of helpful contact numbers and information.
URL:https://cityofdelcity.gov/event/veterans-day/
LOCATION:City Offices
ATTACH;FMTTYPE=image/png:https://cityofdelcity.gov/wp-content/uploads/2025/01/VETERANS-DAY-2025X.png
ORGANIZER;CN="City of Del City":MAILTO:info@cityofdelcity.org
END:VEVENT
BEGIN:VEVENT
DTSTART;TZID=UTC:20251110T180000
DTEND;TZID=UTC:20251110T200000
DTSTAMP:20260421T013425
CREATED:20250125T015432Z
LAST-MODIFIED:20251124T223623Z
UID:10001122-1762797600-1762804800@cityofdelcity.gov
SUMMARY:Board of Adjustment Meeting
DESCRIPTION:
URL:https://cityofdelcity.gov/event/board-of-adjustment-meeting-4-2-2/2025-11-10/
LOCATION:Council Chambers at City Hall\, 3701 SE 15th St\, Del City\, 73115\, United States
ATTACH;FMTTYPE=image/jpeg:https://cityofdelcity.gov/wp-content/uploads/2024/11/00B_Del-City_MASTER_City-Hall.jpg
ORGANIZER;CN="City of Del City":MAILTO:info@cityofdelcity.org
END:VEVENT
BEGIN:VEVENT
DTSTART;VALUE=DATE:20251110
DTEND;VALUE=DATE:20251115
DTSTAMP:20260421T013425
CREATED:20250630T164341Z
LAST-MODIFIED:20250630T165712Z
UID:10001569-1762732800-1763164799@cityofdelcity.gov
SUMMARY:Ward 2 Bulk Trash - Pickup Week
DESCRIPTION:***Bulk Trash must be placed at the curb by the Monday of your pickup week at 6 AM. If the Monday of your scheduled Bulk Trash Week falls on a federal holiday\, Sanitation will continue with pickup the next business day. Expect possible delays as Sanitation resumes its schedule. \nFor more information on Bulk Trash\, click here or visit www.cityofdelcity.gov/bulk-trash. \n 
URL:https://cityofdelcity.gov/event/ward-2-bulk-trash-pickup-week/2025-11-10/
LOCATION:Del City\, OK\, 73115\, United States
ORGANIZER;CN="City of Del City":MAILTO:info@cityofdelcity.org
END:VEVENT
BEGIN:VEVENT
DTSTART;TZID=America/Chicago:20251104T170000
DTEND;TZID=America/Chicago:20251104T190000
DTSTAMP:20260421T013425
CREATED:20251028T162921Z
LAST-MODIFIED:20251029T143546Z
UID:10003752-1762275600-1762282800@cityofdelcity.gov
SUMMARY:Fall Town Hall
DESCRIPTION:Join us on Tuesday\, November 4th from 5:00-7:00 PM at the Huey Long Community Center\, located at 4505 SE 15th Street\, Del City\, OK 73115\, for an evening of connection\, conversation\, and community fun!\n\n\n\nTown Hall Q&A:\n5-6 PM in the Activity Center\n\n\nBring questions and hear updates directly from City leadership. This is your chance to share ideas\, voice concerns\, and stay informed on the progress happening across Del City.\n\n\n\nChili Cook-Off Fundraiser:\n6-7 PM in the All Purpose Room\n\n\n\nAfter the discussion\, stick around for a friendly competition to see who’s got the best chili in Del City! All proceeds will help bring joy to children in need this holiday season.\n\n\n\nLet’s come together\, share a meal\, celebrate the relentless spirit that makes Del City strong\, and keep Del City moving forward – together.\n\n\nUpdates on this event can be found on our Facebook page @dcokgov 
URL:https://cityofdelcity.gov/event/fall-town-hall/
LOCATION:Del City Community Center\, 4505 SE 15th St.\, Del City\, 73115\, United States
ATTACH;FMTTYPE=image/jpeg:https://cityofdelcity.gov/wp-content/uploads/2024/07/IMG_2975-scaled.jpeg
ORGANIZER;CN="City of Del City":MAILTO:info@cityofdelcity.org
END:VEVENT
BEGIN:VEVENT
DTSTART;TZID=UTC:20251103T180000
DTEND;TZID=UTC:20251103T200000
DTSTAMP:20260421T013425
CREATED:20250124T230239Z
LAST-MODIFIED:20260407T161758Z
UID:10000839-1762192800-1762200000@cityofdelcity.gov
SUMMARY:City Council Meeting
DESCRIPTION:
URL:https://cityofdelcity.gov/event/city-council-meeting-7/2025-11-03/
LOCATION:Council Chambers at City Hall\, 3701 SE 15th St\, Del City\, 73115\, United States
ATTACH;FMTTYPE=image/jpeg:https://cityofdelcity.gov/wp-content/uploads/2024/07/Council-Chambers-2-stock-e1749646917966.jpg
ORGANIZER;CN="City of Del City":MAILTO:info@cityofdelcity.org
END:VEVENT
BEGIN:VEVENT
DTSTART;VALUE=DATE:20251103
DTEND;VALUE=DATE:20251108
DTSTAMP:20260421T013425
CREATED:20250630T164125Z
LAST-MODIFIED:20250703T190918Z
UID:10001874-1762128000-1762559999@cityofdelcity.gov
SUMMARY:Ward 1 Bulk Trash - Pickup Week
DESCRIPTION:***Bulk Trash must be placed at the curb by the Monday of your pickup week at 6 AM. If the Monday of your scheduled Bulk Trash Week falls on a federal holiday\, Sanitation will continue with pickup the next business day. Expect possible delays as Sanitation resumes its schedule. \nFor more information on Bulk Trash\, click here or visit www.cityofdelcity.gov/bulk-trash.
URL:https://cityofdelcity.gov/event/ward-1-bulk-trash-pickup-week/2025-11-03/
LOCATION:Del City\, OK\, 73115\, United States
ORGANIZER;CN="City of Del City":MAILTO:info@cityofdelcity.org
END:VEVENT
BEGIN:VEVENT
DTSTART;VALUE=DATE:20251027
DTEND;VALUE=DATE:20251101
DTSTAMP:20260421T013425
CREATED:20250630T164628Z
LAST-MODIFIED:20250630T165736Z
UID:10001660-1761523200-1761955199@cityofdelcity.gov
SUMMARY:Ward 4 Bulk Trash - Pickup Week
DESCRIPTION:***Bulk Trash must be placed at the curb by the Monday of your pickup week at 6 AM. If the Monday of your scheduled Bulk Trash Week falls on a federal holiday\, Sanitation will continue with pickup the next business day. Expect possible delays as Sanitation resumes its schedule. \nFor more information on Bulk Trash\, click here or visit www.cityofdelcity.gov/bulk-trash. \n 
URL:https://cityofdelcity.gov/event/ward-4-bulk-trash-pickup-week/2025-10-27/
LOCATION:Del City\, OK\, 73115\, United States
ORGANIZER;CN="City of Del City":MAILTO:info@cityofdelcity.org
END:VEVENT
BEGIN:VEVENT
DTSTART;TZID=UTC:20251022T180000
DTEND;TZID=UTC:20251022T200000
DTSTAMP:20260421T013425
CREATED:20250125T012819Z
LAST-MODIFIED:20250125T012820Z
UID:10001068-1761156000-1761163200@cityofdelcity.gov
SUMMARY:Planning Commission Meeting
DESCRIPTION:
URL:https://cityofdelcity.gov/event/planning-commission-meeting-6-2/2025-10-22/
LOCATION:Council Chambers at City Hall\, 3701 SE 15th St\, Del City\, 73115\, United States
ATTACH;FMTTYPE=image/jpeg:https://cityofdelcity.gov/wp-content/uploads/2024/11/00B_Del-City_MASTER_City-Hall.jpg
ORGANIZER;CN="City of Del City":MAILTO:info@cityofdelcity.org
END:VEVENT
END:VCALENDAR