BEGIN:VCALENDAR
VERSION:2.0
PRODID:-//The City of Del City - ECPv6.15.20//NONSGML v1.0//EN
CALSCALE:GREGORIAN
METHOD:PUBLISH
X-WR-CALNAME:The City of Del City
X-ORIGINAL-URL:https://cityofdelcity.gov
X-WR-CALDESC:Events for The City of Del City
REFRESH-INTERVAL;VALUE=DURATION:PT1H
X-Robots-Tag:noindex
X-PUBLISHED-TTL:PT1H
BEGIN:VTIMEZONE
TZID:America/Chicago
BEGIN:DAYLIGHT
TZOFFSETFROM:-0600
TZOFFSETTO:-0500
TZNAME:CDT
DTSTART:20240310T080000
END:DAYLIGHT
BEGIN:STANDARD
TZOFFSETFROM:-0500
TZOFFSETTO:-0600
TZNAME:CST
DTSTART:20241103T070000
END:STANDARD
BEGIN:DAYLIGHT
TZOFFSETFROM:-0600
TZOFFSETTO:-0500
TZNAME:CDT
DTSTART:20250309T080000
END:DAYLIGHT
BEGIN:STANDARD
TZOFFSETFROM:-0500
TZOFFSETTO:-0600
TZNAME:CST
DTSTART:20251102T070000
END:STANDARD
BEGIN:DAYLIGHT
TZOFFSETFROM:-0600
TZOFFSETTO:-0500
TZNAME:CDT
DTSTART:20260308T080000
END:DAYLIGHT
BEGIN:STANDARD
TZOFFSETFROM:-0500
TZOFFSETTO:-0600
TZNAME:CST
DTSTART:20261101T070000
END:STANDARD
END:VTIMEZONE
BEGIN:VTIMEZONE
TZID:UTC
BEGIN:STANDARD
TZOFFSETFROM:+0000
TZOFFSETTO:+0000
TZNAME:UTC
DTSTART:20230101T000000
END:STANDARD
END:VTIMEZONE
BEGIN:VEVENT
DTSTART;TZID=America/Chicago:20250612T110000
DTEND;TZID=America/Chicago:20250612T120000
DTSTAMP:20260421T134217
CREATED:20250611T130233Z
LAST-MODIFIED:20250611T130337Z
UID:10001247-1749726000-1749729600@cityofdelcity.gov
SUMMARY:City Council Meeting - Special
DESCRIPTION:
URL:https://cityofdelcity.gov/event/city-council-meeting-special/
LOCATION:Council Chambers at City Hall\, 3701 SE 15th St\, Del City\, 73115\, United States
ATTACH;FMTTYPE=image/jpeg:https://cityofdelcity.gov/wp-content/uploads/2024/07/Council-Chambers-2-stock-e1749646917966.jpg
ORGANIZER;CN="City of Del City":MAILTO:info@cityofdelcity.org
END:VEVENT
BEGIN:VEVENT
DTSTART;TZID=UTC:20250609T180000
DTEND;TZID=UTC:20250609T200000
DTSTAMP:20260421T134217
CREATED:20250125T001728Z
LAST-MODIFIED:20250125T001728Z
UID:10000953-1749492000-1749499200@cityofdelcity.gov
SUMMARY:Board of Adjustment Meeting
DESCRIPTION:
URL:https://cityofdelcity.gov/event/board-of-adjustment-meeting-4/2025-06-09/
LOCATION:Council Chambers at City Hall\, 3701 SE 15th St\, Del City\, 73115\, United States
ATTACH;FMTTYPE=image/jpeg:https://cityofdelcity.gov/wp-content/uploads/2024/11/00B_Del-City_MASTER_City-Hall.jpg
ORGANIZER;CN="City of Del City":MAILTO:info@cityofdelcity.org
END:VEVENT
BEGIN:VEVENT
DTSTART;TZID=UTC:20250602T180000
DTEND;TZID=UTC:20250602T200000
DTSTAMP:20260421T134217
CREATED:20250124T230239Z
LAST-MODIFIED:20260407T161758Z
UID:10000834-1748887200-1748894400@cityofdelcity.gov
SUMMARY:City Council Meeting
DESCRIPTION:
URL:https://cityofdelcity.gov/event/city-council-meeting-7/2025-06-02/
LOCATION:Council Chambers at City Hall\, 3701 SE 15th St\, Del City\, 73115\, United States
ATTACH;FMTTYPE=image/jpeg:https://cityofdelcity.gov/wp-content/uploads/2024/07/Council-Chambers-2-stock-e1749646917966.jpg
ORGANIZER;CN="City of Del City":MAILTO:info@cityofdelcity.org
END:VEVENT
BEGIN:VEVENT
DTSTART;VALUE=DATE:20250526
DTEND;VALUE=DATE:20250527
DTSTAMP:20260421T134217
CREATED:20250128T213426Z
LAST-MODIFIED:20250128T213426Z
UID:10001235-1748217600-1748303999@cityofdelcity.gov
SUMMARY:Memorial Day
DESCRIPTION:Administrative Buildings: Administrative Buildings will be closed in the observance of the Memorial Day holiday May 26\, 2025. Administrative buildings will reopen on Tuesday\, May 27\, 2025 at 7:30 AM. \nSanitation Pick Up: If your trash day falls on this date\, pick up will resume the following business day Tuesday\, May 27\, 2025. \nEmergency or Non-Emergency Contact Numbers: Click the ‘Get Help’ tab to head to the Action Center for a list of helpful contact numbers and information.
URL:https://cityofdelcity.gov/event/memorial-day/
LOCATION:City Offices
ATTACH;FMTTYPE=image/jpeg:https://cityofdelcity.gov/wp-content/uploads/2025/01/luke-michael-Tdwu35bCUj0-unsplash-scaled.jpg
ORGANIZER;CN="City of Del City":MAILTO:info@cityofdelcity.org
END:VEVENT
BEGIN:VEVENT
DTSTART;TZID=UTC:20250522T180000
DTEND;TZID=UTC:20250522T190000
DTSTAMP:20260421T134217
CREATED:20250128T213100Z
LAST-MODIFIED:20250128T213100Z
UID:10001234-1747936800-1747940400@cityofdelcity.gov
SUMMARY:Planning Commission Meeting
DESCRIPTION:
URL:https://cityofdelcity.gov/event/planning-commission-meeting-7/
LOCATION:Council Chambers at City Hall\, 3701 SE 15th St\, Del City\, 73115\, United States
ATTACH;FMTTYPE=image/jpeg:https://cityofdelcity.gov/wp-content/uploads/2025/01/luke-michael-Tdwu35bCUj0-unsplash-scaled.jpg
ORGANIZER;CN="City of Del City":MAILTO:info@cityofdelcity.org
END:VEVENT
BEGIN:VEVENT
DTSTART;TZID=UTC:20250519T180000
DTEND;TZID=UTC:20250519T200000
DTSTAMP:20260421T134217
CREATED:20250124T230429Z
LAST-MODIFIED:20260407T161521Z
UID:10000891-1747677600-1747684800@cityofdelcity.gov
SUMMARY:City Council Meeting
DESCRIPTION:
URL:https://cityofdelcity.gov/event/city-council-meeting-8/2025-05-19/
LOCATION:Council Chambers at City Hall\, 3701 SE 15th St\, Del City\, 73115\, United States
ATTACH;FMTTYPE=image/jpeg:https://cityofdelcity.gov/wp-content/uploads/2024/07/Council-Chambers-2-stock-e1749646917966.jpg
ORGANIZER;CN="City of Del City":MAILTO:info@cityofdelcity.org
END:VEVENT
BEGIN:VEVENT
DTSTART;TZID=UTC:20250512T180000
DTEND;TZID=UTC:20250512T200000
DTSTAMP:20260421T134217
CREATED:20250125T001728Z
LAST-MODIFIED:20250125T001728Z
UID:10000952-1747072800-1747080000@cityofdelcity.gov
SUMMARY:Board of Adjustment Meeting
DESCRIPTION:
URL:https://cityofdelcity.gov/event/board-of-adjustment-meeting-4/2025-05-12/
LOCATION:Council Chambers at City Hall\, 3701 SE 15th St\, Del City\, 73115\, United States
ATTACH;FMTTYPE=image/jpeg:https://cityofdelcity.gov/wp-content/uploads/2024/11/00B_Del-City_MASTER_City-Hall.jpg
ORGANIZER;CN="City of Del City":MAILTO:info@cityofdelcity.org
END:VEVENT
BEGIN:VEVENT
DTSTART;TZID=UTC:20250505T180000
DTEND;TZID=UTC:20250505T200000
DTSTAMP:20260421T134217
CREATED:20250124T230239Z
LAST-MODIFIED:20260407T161758Z
UID:10000833-1746468000-1746475200@cityofdelcity.gov
SUMMARY:City Council Meeting
DESCRIPTION:
URL:https://cityofdelcity.gov/event/city-council-meeting-7/2025-05-05/
LOCATION:Council Chambers at City Hall\, 3701 SE 15th St\, Del City\, 73115\, United States
ATTACH;FMTTYPE=image/jpeg:https://cityofdelcity.gov/wp-content/uploads/2024/07/Council-Chambers-2-stock-e1749646917966.jpg
ORGANIZER;CN="City of Del City":MAILTO:info@cityofdelcity.org
END:VEVENT
BEGIN:VEVENT
DTSTART;TZID=UTC:20250424T180000
DTEND;TZID=UTC:20250424T200000
DTSTAMP:20260421T134217
CREATED:20250124T231835Z
LAST-MODIFIED:20250124T231835Z
UID:10000948-1745517600-1745524800@cityofdelcity.gov
SUMMARY:Planning Commission Meeting
DESCRIPTION:
URL:https://cityofdelcity.gov/event/planning-commission-meeting-3/
LOCATION:Council Chambers at City Hall\, 3701 SE 15th St\, Del City\, 73115\, United States
ATTACH;FMTTYPE=image/jpeg:https://cityofdelcity.gov/wp-content/uploads/2024/11/D18A5349.jpg
ORGANIZER;CN="City of Del City":MAILTO:info@cityofdelcity.org
END:VEVENT
BEGIN:VEVENT
DTSTART;VALUE=DATE:20250422
DTEND;VALUE=DATE:20250423
DTSTAMP:20260421T134217
CREATED:20250416T215434Z
LAST-MODIFIED:20250416T215434Z
UID:10001245-1745280000-1745366399@cityofdelcity.gov
SUMMARY:NOTICE OF CLOSURE: ADMINISTRATIVE BUILDINGS CLOSED TO THE PUBLIC
DESCRIPTION:Heads up\, neighbors! Our administrative buildings will be closed to the public on Tuesday\, April 22 while we make some important software upgrades behind the scenes. This temporary closure will affect in-person services including CITY PLANNING\, CODE ENFORCEMENT\, COMMUNITY CENTER(ROOM RENTALS)\, COURT\, HUMAN RESOURCES\, PERMITS\, PUBLIC WORKS\, AND UTILITY BILLING. This is just the beginning of some exciting software improvements that will help us serve you better—faster\, simpler\, and more connected services are on the way! We appreciate your understanding and can’t wait to show you what’s coming.
URL:https://cityofdelcity.gov/event/notice-of-closure-administrative-buildings-closed-to-the-public/
LOCATION:City Offices
ATTACH;FMTTYPE=image/png:https://cityofdelcity.gov/wp-content/uploads/2025/04/INCODE-UPDATE-APR-15-2025-website-NOC.png
ORGANIZER;CN="City of Del City":MAILTO:info@cityofdelcity.org
END:VEVENT
BEGIN:VEVENT
DTSTART;TZID=UTC:20250421T180000
DTEND;TZID=UTC:20250421T200000
DTSTAMP:20260421T134218
CREATED:20250124T230429Z
LAST-MODIFIED:20260407T161521Z
UID:10000890-1745258400-1745265600@cityofdelcity.gov
SUMMARY:City Council Meeting
DESCRIPTION:
URL:https://cityofdelcity.gov/event/city-council-meeting-8/2025-04-21/
LOCATION:Council Chambers at City Hall\, 3701 SE 15th St\, Del City\, 73115\, United States
ATTACH;FMTTYPE=image/jpeg:https://cityofdelcity.gov/wp-content/uploads/2024/07/Council-Chambers-2-stock-e1749646917966.jpg
ORGANIZER;CN="City of Del City":MAILTO:info@cityofdelcity.org
END:VEVENT
BEGIN:VEVENT
DTSTART;TZID=UTC:20250414T180000
DTEND;TZID=UTC:20250414T200000
DTSTAMP:20260421T134218
CREATED:20250125T001728Z
LAST-MODIFIED:20250125T001728Z
UID:10000951-1744653600-1744660800@cityofdelcity.gov
SUMMARY:Board of Adjustment Meeting
DESCRIPTION:
URL:https://cityofdelcity.gov/event/board-of-adjustment-meeting-4/2025-04-14/
LOCATION:Council Chambers at City Hall\, 3701 SE 15th St\, Del City\, 73115\, United States
ATTACH;FMTTYPE=image/jpeg:https://cityofdelcity.gov/wp-content/uploads/2024/11/00B_Del-City_MASTER_City-Hall.jpg
ORGANIZER;CN="City of Del City":MAILTO:info@cityofdelcity.org
END:VEVENT
BEGIN:VEVENT
DTSTART;TZID=UTC:20250407T180000
DTEND;TZID=UTC:20250407T200000
DTSTAMP:20260421T134218
CREATED:20250124T230239Z
LAST-MODIFIED:20260407T161758Z
UID:10000832-1744048800-1744056000@cityofdelcity.gov
SUMMARY:City Council Meeting
DESCRIPTION:
URL:https://cityofdelcity.gov/event/city-council-meeting-7/2025-04-07/
LOCATION:Council Chambers at City Hall\, 3701 SE 15th St\, Del City\, 73115\, United States
ATTACH;FMTTYPE=image/jpeg:https://cityofdelcity.gov/wp-content/uploads/2024/07/Council-Chambers-2-stock-e1749646917966.jpg
ORGANIZER;CN="City of Del City":MAILTO:info@cityofdelcity.org
END:VEVENT
BEGIN:VEVENT
DTSTART;TZID=America/Chicago:20250328T100000
DTEND;TZID=America/Chicago:20250328T120000
DTSTAMP:20260421T134218
CREATED:20250326T154619Z
LAST-MODIFIED:20250326T154729Z
UID:10001240-1743156000-1743163200@cityofdelcity.gov
SUMMARY:City Council Special Meeting (Study Session)
DESCRIPTION:
URL:https://cityofdelcity.gov/event/city-council-special-meeting-study-session/
LOCATION:City Offices
ATTACH;FMTTYPE=image/jpeg:https://cityofdelcity.gov/wp-content/uploads/2024/07/Council-Chambers-2-stock-e1749646917966.jpg
ORGANIZER;CN="City of Del City":MAILTO:info@cityofdelcity.org
END:VEVENT
BEGIN:VEVENT
DTSTART;TZID=UTC:20250326T180000
DTEND;TZID=UTC:20250326T190000
DTSTAMP:20260421T134218
CREATED:20250124T220808Z
LAST-MODIFIED:20250124T220808Z
UID:10000596-1743012000-1743015600@cityofdelcity.gov
SUMMARY:Planning Commission Meeting
DESCRIPTION:
URL:https://cityofdelcity.gov/event/planning-commission-meeting-2/
LOCATION:Council Chambers at City Hall\, 3701 SE 15th St\, Del City\, 73115\, United States
ATTACH;FMTTYPE=image/jpeg:https://cityofdelcity.gov/wp-content/uploads/2024/07/D18A5349.jpg
ORGANIZER;CN="City of Del City":MAILTO:info@cityofdelcity.org
END:VEVENT
BEGIN:VEVENT
DTSTART;TZID=UTC:20250325T180000
DTEND;TZID=UTC:20250325T200000
DTSTAMP:20260421T134218
CREATED:20250319T131041Z
LAST-MODIFIED:20250319T131154Z
UID:10000592-1742925600-1742932800@cityofdelcity.gov
SUMMARY:Parks & Beautification Meeting
DESCRIPTION:
URL:https://cityofdelcity.gov/event/parks-beautification-meeting-3/
LOCATION:Council Chambers at City Hall\, 3701 SE 15th St\, Del City\, 73115\, United States
ATTACH;FMTTYPE=image/jpeg:https://cityofdelcity.gov/wp-content/uploads/2024/07/D18A5349.jpg
ORGANIZER;CN="City of Del City":MAILTO:info@cityofdelcity.org
END:VEVENT
BEGIN:VEVENT
DTSTART;TZID=UTC:20250317T180000
DTEND;TZID=UTC:20250317T200000
DTSTAMP:20260421T134218
CREATED:20250124T215759Z
LAST-MODIFIED:20250124T215759Z
UID:10000591-1742234400-1742241600@cityofdelcity.gov
SUMMARY:City Council Meeting
DESCRIPTION:
URL:https://cityofdelcity.gov/event/city-council-meeting-6/
LOCATION:Council Chambers at City Hall\, 3701 SE 15th St\, Del City\, 73115\, United States
ATTACH;FMTTYPE=image/jpeg:https://cityofdelcity.gov/wp-content/uploads/2024/07/Council-Chambers-2-stock-e1749646917966.jpg
ORGANIZER;CN="City of Del City":MAILTO:info@cityofdelcity.org
END:VEVENT
BEGIN:VEVENT
DTSTART;TZID=UTC:20250310T180000
DTEND;TZID=UTC:20250310T190000
DTSTAMP:20260421T134218
CREATED:20250124T215346Z
LAST-MODIFIED:20250124T215346Z
UID:10000590-1741629600-1741633200@cityofdelcity.gov
SUMMARY:Board of Adjustment Meeting
DESCRIPTION:
URL:https://cityofdelcity.gov/event/board-of-adjustment-meeting-2/
LOCATION:Council Chambers at City Hall\, 3701 SE 15th St\, Del City\, 73115\, United States
ATTACH;FMTTYPE=image/jpeg:https://cityofdelcity.gov/wp-content/uploads/2024/07/D18A5349.jpg
ORGANIZER;CN="City of Del City":MAILTO:info@cityofdelcity.org
END:VEVENT
BEGIN:VEVENT
DTSTART;TZID=UTC:20250303T180000
DTEND;TZID=UTC:20250303T200000
DTSTAMP:20260421T134218
CREATED:20250124T214809Z
LAST-MODIFIED:20250124T214809Z
UID:10000588-1741024800-1741032000@cityofdelcity.gov
SUMMARY:City Council Meeting
DESCRIPTION:
URL:https://cityofdelcity.gov/event/city-council-meeting-5/
LOCATION:Council Chambers at City Hall\, 3701 SE 15th St\, Del City\, 73115\, United States
ATTACH;FMTTYPE=image/jpeg:https://cityofdelcity.gov/wp-content/uploads/2024/07/Council-Chambers-2-stock-e1749646917966.jpg
ORGANIZER;CN="City of Del City":MAILTO:info@cityofdelcity.org
END:VEVENT
BEGIN:VEVENT
DTSTART;TZID=UTC:20250227T180000
DTEND;TZID=UTC:20250227T200000
DTSTAMP:20260421T134218
CREATED:20250124T211551Z
LAST-MODIFIED:20250124T211551Z
UID:10000585-1740679200-1740686400@cityofdelcity.gov
SUMMARY:Planning Commission Meeting
DESCRIPTION:
URL:https://cityofdelcity.gov/event/planning-commission-meeting/
LOCATION:Council Chambers at City Hall\, 3701 SE 15th St\, Del City\, 73115\, United States
ATTACH;FMTTYPE=image/jpeg:https://cityofdelcity.gov/wp-content/uploads/2024/07/D18A5349.jpg
ORGANIZER;CN="City of Del City":MAILTO:info@cityofdelcity.org
END:VEVENT
BEGIN:VEVENT
DTSTART;TZID=America/Chicago:20250225T110000
DTEND;TZID=America/Chicago:20250225T130000
DTSTAMP:20260421T134218
CREATED:20250225T172046Z
LAST-MODIFIED:20250225T172046Z
UID:10001236-1740481200-1740488400@cityofdelcity.gov
SUMMARY:Special City Council Meeting
DESCRIPTION:
URL:https://cityofdelcity.gov/event/special-city-council-meeting/
LOCATION:Council Chambers at City Hall\, 3701 SE 15th St\, Del City\, 73115\, United States
ATTACH;FMTTYPE=image/jpeg:https://cityofdelcity.gov/wp-content/uploads/2024/07/Council-Chambers-2-stock-e1749646917966.jpg
ORGANIZER;CN="City of Del City":MAILTO:info@cityofdelcity.org
END:VEVENT
BEGIN:VEVENT
DTSTART;TZID=UTC:20250218T180000
DTEND;TZID=UTC:20250218T200000
DTSTAMP:20260421T134218
CREATED:20250225T171909Z
LAST-MODIFIED:20250225T171909Z
UID:10000580-1739901600-1739908800@cityofdelcity.gov
SUMMARY:Rescheduled Due to Inclement Weather: City Council Meeting
DESCRIPTION:
URL:https://cityofdelcity.gov/event/city-council-meeting-2-2/
LOCATION:Council Chambers at City Hall\, 3701 SE 15th St\, Del City\, 73115\, United States
ATTACH;FMTTYPE=image/jpeg:https://cityofdelcity.gov/wp-content/uploads/2024/07/Council-Chambers-2-stock-e1749646917966.jpg
ORGANIZER;CN="City of Del City":MAILTO:info@cityofdelcity.org
END:VEVENT
BEGIN:VEVENT
DTSTART;TZID=UTC:20250217T073000
DTEND;TZID=UTC:20250217T173000
DTSTAMP:20260421T134218
CREATED:20250103T050512Z
LAST-MODIFIED:20250108T231539Z
UID:10000392-1739777400-1739813400@cityofdelcity.gov
SUMMARY:Closed in Observance of PRESIDENT'S DAY
DESCRIPTION:Administrative Buildings: Administrative Buildings will be closed in the observance of the President’s Day holiday February 17\, 2025. Administrative buildings will reopen on Tuesday\, February 18\, 2025 at 7:30 AM. \nSanitation Pick Up: If your trash day falls on this date\, pick up will resume the following business day Tuesday\, February 18\, 2025. \nEmergency or Non-Emergency Contact Numbers: Click the ‘Get Help’ tab to head to the Action Center for a list of helpful contact numbers and information.
URL:https://cityofdelcity.gov/event/presidents-day/
LOCATION:City Offices
ATTACH;FMTTYPE=image/png:https://cityofdelcity.gov/wp-content/uploads/2025/01/PRESIDENTS-DAY.png
ORGANIZER;CN="City of Del City":MAILTO:info@cityofdelcity.org
END:VEVENT
BEGIN:VEVENT
DTSTART;TZID=UTC:20250210T180000
DTEND;TZID=UTC:20250210T200000
DTSTAMP:20260421T134218
CREATED:20250124T205730Z
LAST-MODIFIED:20250124T205838Z
UID:10000581-1739210400-1739217600@cityofdelcity.gov
SUMMARY:Board of Adjustment Meeting
DESCRIPTION:
URL:https://cityofdelcity.gov/event/board-of-adjustment-meeting/
LOCATION:Council Chambers at City Hall\, 3701 SE 15th St\, Del City\, 73115\, United States
ATTACH;FMTTYPE=image/jpeg:https://cityofdelcity.gov/wp-content/uploads/2024/07/D18A5349.jpg
ORGANIZER;CN="City of Del City":MAILTO:info@cityofdelcity.org
END:VEVENT
BEGIN:VEVENT
DTSTART;TZID=UTC:20250203T180000
DTEND;TZID=UTC:20250203T200000
DTSTAMP:20260421T134218
CREATED:20250117T051824Z
LAST-MODIFIED:20250117T051932Z
UID:10000579-1738605600-1738612800@cityofdelcity.gov
SUMMARY:City Council Meeting
DESCRIPTION:
URL:https://cityofdelcity.gov/event/city-council-meeting-2/
LOCATION:Council Chambers at City Hall\, 3701 SE 15th St\, Del City\, 73115\, United States
ATTACH;FMTTYPE=image/jpeg:https://cityofdelcity.gov/wp-content/uploads/2024/07/Council-Chambers-2-stock-e1749646917966.jpg
ORGANIZER;CN="City of Del City":MAILTO:info@cityofdelcity.org
END:VEVENT
BEGIN:VEVENT
DTSTART;TZID=UTC:20250121T180000
DTEND;TZID=UTC:20250121T203000
DTSTAMP:20260421T134218
CREATED:20241108T033323Z
LAST-MODIFIED:20250102T200418Z
UID:10000374-1737482400-1737491400@cityofdelcity.gov
SUMMARY:City Council Meeting
DESCRIPTION:
URL:https://cityofdelcity.gov/event/city-council-meeting/
LOCATION:Council Chambers at City Hall\, 3701 SE 15th St\, Del City\, 73115\, United States
ATTACH;FMTTYPE=image/jpeg:https://cityofdelcity.gov/wp-content/uploads/2024/07/Council-Chambers-2-stock-e1749646917966.jpg
ORGANIZER;CN="City of Del City":MAILTO:info@cityofdelcity.org
END:VEVENT
BEGIN:VEVENT
DTSTART;TZID=UTC:20250101T073000
DTEND;TZID=UTC:20250101T173000
DTSTAMP:20260421T134218
CREATED:20241108T033747Z
LAST-MODIFIED:20241224T024244Z
UID:10000379-1735716600-1735752600@cityofdelcity.gov
SUMMARY:Closed in Observance of the New Year’s Holiday
DESCRIPTION:Administrative buildings will be closed on Wednesday\, January 1\, 2025 fom 7:30AM-5:30PM  in observance of the New Year’s Day holiday. \nAdministrative buildings will reopen Thursday\, January 2\, 2024 at 7:30AM. \nSanitation will NOT run on this day. Trash pick-up will resume Thursday\, January 2\, 2024. \nPlease plan accordingly and have a safe holiday!
URL:https://cityofdelcity.gov/event/closed-in-observance-of-the-new-years-holiday/
LOCATION:City Offices
ATTACH;FMTTYPE=image/png:https://cityofdelcity.gov/wp-content/uploads/2024/12/NOC-ChristmasNew-Years-24-25-REV.png
ORGANIZER;CN="City of Del City":MAILTO:info@cityofdelcity.org
END:VEVENT
BEGIN:VEVENT
DTSTART;TZID=UTC:20241225T073000
DTEND;TZID=UTC:20241225T173000
DTSTAMP:20260421T134218
CREATED:20241108T033546Z
LAST-MODIFIED:20241224T023707Z
UID:10000377-1735111800-1735147800@cityofdelcity.gov
SUMMARY:Closed in Observance of the Christmas Holiday
DESCRIPTION:Administrative buildings will be closed on Wednesday\, December 25\, 2024 fom 7:30AM-5:30PM  in observance of the Christmas holiday. \nAdministrative buildings will reopen Thursday\, December 26\, 2024 at 7:30AM. \nSanitation will NOT run on this day. Please call Sanitation at (405)677-5741 ext. 6211 to confirm what day your trash will be picked up if your trash falls on this day. \nPlease plan accordingly and have a safe holiday!
URL:https://cityofdelcity.gov/event/closed-in-observance-of-the-christmas-holiday/
LOCATION:City Offices
ATTACH;FMTTYPE=image/png:https://cityofdelcity.gov/wp-content/uploads/2024/12/NOC-ChristmasNew-Years-24-25-REV.png
ORGANIZER;CN="City of Del City":MAILTO:info@cityofdelcity.org
END:VEVENT
BEGIN:VEVENT
DTSTART;TZID=UTC:20241224T073000
DTEND;TZID=UTC:20241224T173000
DTSTAMP:20260421T134218
CREATED:20241224T023344Z
LAST-MODIFIED:20241224T023344Z
UID:10000390-1735025400-1735061400@cityofdelcity.gov
SUMMARY:Closed in the Observance of the Christmas Holiday
DESCRIPTION:Administrative buildings will be closed on Tuesday\, December 24\, 2024 fom 7:30AM-5:30PM  in observance of the Christmas holiday. \nAdministrative buildings will reopen Thursday\, December 26\, 2024 at 7:30AM. \nSanitation will continue as scheduled on this day. \nPlease plan accordingly and have a safe holiday!
URL:https://cityofdelcity.gov/event/closed-in-the-observance-of-the-christmas-holiday/
LOCATION:City Offices
ATTACH;FMTTYPE=image/png:https://cityofdelcity.gov/wp-content/uploads/2024/12/NOC-ChristmasNew-Years-24-25-REV.png
ORGANIZER;CN="City of Del City":MAILTO:info@cityofdelcity.org
END:VEVENT
BEGIN:VEVENT
DTSTART;TZID=UTC:20241216T180000
DTEND;TZID=UTC:20241216T200000
DTSTAMP:20260421T134218
CREATED:20240719T003110Z
LAST-MODIFIED:20241205T203934Z
UID:10000004-1734372000-1734379200@cityofdelcity.gov
SUMMARY:City Council Meeting
DESCRIPTION:
URL:https://cityofdelcity.gov/event/del-city-government-council-meeting-3/
LOCATION:Council Chambers at City Hall\, 3701 SE 15th St\, Del City\, 73115\, United States
ATTACH;FMTTYPE=image/jpeg:https://cityofdelcity.gov/wp-content/uploads/2024/07/Council-Chambers-2-stock-e1749646917966.jpg
ORGANIZER;CN="City of Del City":MAILTO:info@cityofdelcity.org
END:VEVENT
END:VCALENDAR