BEGIN:VCALENDAR
VERSION:2.0
PRODID:-//The City of Del City - ECPv6.15.20//NONSGML v1.0//EN
CALSCALE:GREGORIAN
METHOD:PUBLISH
X-ORIGINAL-URL:https://cityofdelcity.gov
X-WR-CALDESC:Events for The City of Del City
REFRESH-INTERVAL;VALUE=DURATION:PT1H
X-Robots-Tag:noindex
X-PUBLISHED-TTL:PT1H
BEGIN:VTIMEZONE
TZID:America/Chicago
BEGIN:DAYLIGHT
TZOFFSETFROM:-0600
TZOFFSETTO:-0500
TZNAME:CDT
DTSTART:20270314T080000
END:DAYLIGHT
BEGIN:STANDARD
TZOFFSETFROM:-0500
TZOFFSETTO:-0600
TZNAME:CST
DTSTART:20271107T070000
END:STANDARD
BEGIN:DAYLIGHT
TZOFFSETFROM:-0600
TZOFFSETTO:-0500
TZNAME:CDT
DTSTART:20280312T080000
END:DAYLIGHT
BEGIN:STANDARD
TZOFFSETFROM:-0500
TZOFFSETTO:-0600
TZNAME:CST
DTSTART:20281105T070000
END:STANDARD
BEGIN:DAYLIGHT
TZOFFSETFROM:-0600
TZOFFSETTO:-0500
TZNAME:CDT
DTSTART:20290311T080000
END:DAYLIGHT
BEGIN:STANDARD
TZOFFSETFROM:-0500
TZOFFSETTO:-0600
TZNAME:CST
DTSTART:20291104T070000
END:STANDARD
END:VTIMEZONE
BEGIN:VTIMEZONE
TZID:UTC
BEGIN:STANDARD
TZOFFSETFROM:+0000
TZOFFSETTO:+0000
TZNAME:UTC
DTSTART:20270101T000000
END:STANDARD
END:VTIMEZONE
BEGIN:VEVENT
DTSTART;VALUE=DATE:20281113
DTEND;VALUE=DATE:20281118
DTSTAMP:20260423T181550
CREATED:20250630T164341Z
LAST-MODIFIED:20250630T165712Z
UID:10001587-1857686400-1858118399@cityofdelcity.gov
SUMMARY:Ward 2 Bulk Trash - Pickup Week
DESCRIPTION:***Bulk Trash must be placed at the curb by the Monday of your pickup week at 6 AM. If the Monday of your scheduled Bulk Trash Week falls on a federal holiday\, Sanitation will continue with pickup the next business day. Expect possible delays as Sanitation resumes its schedule. \nFor more information on Bulk Trash\, click here or visit www.cityofdelcity.gov/bulk-trash. \n 
URL:https://cityofdelcity.gov/event/ward-2-bulk-trash-pickup-week/2028-11-13/
LOCATION:Del City\, OK\, 73115\, United States
ORGANIZER;CN="City of Del City":MAILTO:info@cityofdelcity.org
END:VEVENT
BEGIN:VEVENT
DTSTART;TZID=America/Chicago:20281113T104500
DTEND;TZID=America/Chicago:20281113T114500
DTSTAMP:20260423T181550
CREATED:20260310T191458Z
LAST-MODIFIED:20260310T191459Z
UID:10004232-1857725100-1857728700@cityofdelcity.gov
SUMMARY:S.A.I.L
DESCRIPTION:Mondays\, Wednesdays\, Fridays\, beginning Dec 1st\, 2025. 10:45AM-11:45AM YMCA – S.A.I.L. (Staying Active and Independent for Life) Strength\, Balance\, and Fitness Program.
URL:https://cityofdelcity.gov/event/s-a-i-l-2-2/2028-11-13/
LOCATION:Del City Community Center\, 4505 SE 15th St.\, Del City\, 73115\, United States
ATTACH;FMTTYPE=image/png:https://cityofdelcity.gov/wp-content/uploads/2025/11/S.A.I.L.png
END:VEVENT
BEGIN:VEVENT
DTSTART;TZID=America/Chicago:20281113T130000
DTEND;TZID=America/Chicago:20281113T140000
DTSTAMP:20260423T181550
CREATED:20251121T161409Z
LAST-MODIFIED:20260126T131616Z
UID:10005038-1857733200-1857736800@cityofdelcity.gov
SUMMARY:TAI CHI
DESCRIPTION:Mondays and Wednesdays\, from 1pm – 2pm. YMCA Tai Chi: Moving for Better Balance. Learning balance skills\, proper body alignment\, and coordinated Tai Chi movements.
URL:https://cityofdelcity.gov/event/tai-chi/2028-11-13/
LOCATION:Del City Community Center\, 4505 SE 15th St.\, Del City\, 73115\, United States
ATTACH;FMTTYPE=image/png:https://cityofdelcity.gov/wp-content/uploads/2025/11/TAI-CHI.png
END:VEVENT
BEGIN:VEVENT
DTSTART;TZID=America/Chicago:20281113T141500
DTEND;TZID=America/Chicago:20281113T151500
DTSTAMP:20260423T181550
CREATED:20251014T193852Z
LAST-MODIFIED:20260126T131653Z
UID:10003550-1857737700-1857741300@cityofdelcity.gov
SUMMARY:Forever Well\, Steady\, & Strong
DESCRIPTION:Mondays and Wednesdays\, from 2:15PM – 3:15PM\, YMCA Forever Well Steady & Strong. Senior focused fitness class that builds strength\, balance\, and flexibility through standing or chair supported exercises.
URL:https://cityofdelcity.gov/event/chair-based-strength-class-hosted-by-the-ymca-2/2028-11-13/
LOCATION:Del City Community Center\, 4505 SE 15th St.\, Del City\, 73115\, United States
ATTACH;FMTTYPE=image/png:https://cityofdelcity.gov/wp-content/uploads/2025/10/FOREVER-WELL-STEADY-STRONG.png
END:VEVENT
BEGIN:VEVENT
DTSTART;TZID=UTC:20281113T180000
DTEND;TZID=UTC:20281113T200000
DTSTAMP:20260423T181550
CREATED:20250125T015432Z
LAST-MODIFIED:20251124T223623Z
UID:10001210-1857751200-1857758400@cityofdelcity.gov
SUMMARY:Board of Adjustment Meeting
DESCRIPTION:
URL:https://cityofdelcity.gov/event/board-of-adjustment-meeting-4-2-2/2028-11-13/
LOCATION:Council Chambers at City Hall\, 3701 SE 15th St\, Del City\, 73115\, United States
ATTACH;FMTTYPE=image/jpeg:https://cityofdelcity.gov/wp-content/uploads/2024/11/00B_Del-City_MASTER_City-Hall.jpg
ORGANIZER;CN="City of Del City":MAILTO:info@cityofdelcity.org
END:VEVENT
BEGIN:VEVENT
DTSTART;TZID=UTC:20281113T190000
DTEND;TZID=UTC:20281113T200000
DTSTAMP:20260423T181550
CREATED:20250108T223354Z
LAST-MODIFIED:20260227T164813Z
UID:10000565-1857754800-1857758400@cityofdelcity.gov
SUMMARY:Del Aire Neighborhood Watch
DESCRIPTION:Contact:\n\n\n\n\n\n\n\n\n Website \n Facebook \n Neighborhood Map
URL:https://cityofdelcity.gov/event/del-aire-neighborhood-watch/2028-11-13/
LOCATION:Calvary Christian Church Youth Center\, 3900 Epperly Dr\, Del City\, 73115\, United States
ATTACH;FMTTYPE=image/png:https://cityofdelcity.gov/wp-content/uploads/2025/01/DEL-AIRE-IMG.png
END:VEVENT
BEGIN:VEVENT
DTSTART;TZID=America/Chicago:20281114T200000
DTEND;TZID=America/Chicago:20281114T210000
DTSTAMP:20260423T181550
CREATED:20260423T145307Z
LAST-MODIFIED:20260423T154413Z
UID:10005849-1857844800-1857848400@cityofdelcity.gov
SUMMARY:Del City Rotary Meeting
DESCRIPTION:Join us at the Rotary Club of Del City!\n\n\n\nWe meet every Tuesday at 8:00 AM at the Dignity Event Center\, located at 3900 SE 29th\, Del City\, OK 73115. Rotary is a place where community leaders come together to build friendships\, serve others\, and make a positive impact locally and around the world. If you’re interested in service\, networking\, and connecting with others who care about the community\, we’d love to have you join us for a meeting!\n\n\n\n\n\n\nQuestions?\nPhone: (405)650-5464 or (405)316-0479 | Email: lhopper572@gmail.com
URL:https://cityofdelcity.gov/event/rotary-meeting/2028-11-14/
LOCATION:Dignity Event Center\, 3900 SE 29th\, Del City\, OK\, 73115\, United States
ATTACH;FMTTYPE=image/svg+xml:https://cityofdelcity.gov/wp-content/uploads/2026/04/rotary-logo-color-2019-simplified.svg
END:VEVENT
BEGIN:VEVENT
DTSTART;TZID=America/Chicago:20281115T104500
DTEND;TZID=America/Chicago:20281115T114500
DTSTAMP:20260423T181550
CREATED:20260310T191458Z
LAST-MODIFIED:20260310T191459Z
UID:10004233-1857897900-1857901500@cityofdelcity.gov
SUMMARY:S.A.I.L
DESCRIPTION:Mondays\, Wednesdays\, Fridays\, beginning Dec 1st\, 2025. 10:45AM-11:45AM YMCA – S.A.I.L. (Staying Active and Independent for Life) Strength\, Balance\, and Fitness Program.
URL:https://cityofdelcity.gov/event/s-a-i-l-2-2/2028-11-15/
LOCATION:Del City Community Center\, 4505 SE 15th St.\, Del City\, 73115\, United States
ATTACH;FMTTYPE=image/png:https://cityofdelcity.gov/wp-content/uploads/2025/11/S.A.I.L.png
END:VEVENT
BEGIN:VEVENT
DTSTART;TZID=America/Chicago:20281115T113000
DTEND;TZID=America/Chicago:20281115T130000
DTSTAMP:20260423T181550
CREATED:20250611T170019Z
LAST-MODIFIED:20260303T204921Z
UID:10001415-1857900600-1857906000@cityofdelcity.gov
SUMMARY:Del City Kiwanis Club Meeting
DESCRIPTION:Click here for more information on the Kiwanis Club.
URL:https://cityofdelcity.gov/event/del-city-kiwanis-club-meeting-2/2028-11-15/
LOCATION:Del City Community Center\, 4505 SE 15th St.\, Del City\, 73115\, United States
ATTACH;FMTTYPE=image/webp:https://cityofdelcity.gov/wp-content/uploads/2025/06/Kiwanis-Logo.webp
END:VEVENT
BEGIN:VEVENT
DTSTART;TZID=America/Chicago:20281115T130000
DTEND;TZID=America/Chicago:20281115T140000
DTSTAMP:20260423T181550
CREATED:20251121T161409Z
LAST-MODIFIED:20260126T131616Z
UID:10005039-1857906000-1857909600@cityofdelcity.gov
SUMMARY:TAI CHI
DESCRIPTION:Mondays and Wednesdays\, from 1pm – 2pm. YMCA Tai Chi: Moving for Better Balance. Learning balance skills\, proper body alignment\, and coordinated Tai Chi movements.
URL:https://cityofdelcity.gov/event/tai-chi/2028-11-15/
LOCATION:Del City Community Center\, 4505 SE 15th St.\, Del City\, 73115\, United States
ATTACH;FMTTYPE=image/png:https://cityofdelcity.gov/wp-content/uploads/2025/11/TAI-CHI.png
END:VEVENT
BEGIN:VEVENT
DTSTART;TZID=America/Chicago:20281115T141500
DTEND;TZID=America/Chicago:20281115T151500
DTSTAMP:20260423T181550
CREATED:20251014T193852Z
LAST-MODIFIED:20260126T131653Z
UID:10003551-1857910500-1857914100@cityofdelcity.gov
SUMMARY:Forever Well\, Steady\, & Strong
DESCRIPTION:Mondays and Wednesdays\, from 2:15PM – 3:15PM\, YMCA Forever Well Steady & Strong. Senior focused fitness class that builds strength\, balance\, and flexibility through standing or chair supported exercises.
URL:https://cityofdelcity.gov/event/chair-based-strength-class-hosted-by-the-ymca-2/2028-11-15/
LOCATION:Del City Community Center\, 4505 SE 15th St.\, Del City\, 73115\, United States
ATTACH;FMTTYPE=image/png:https://cityofdelcity.gov/wp-content/uploads/2025/10/FOREVER-WELL-STEADY-STRONG.png
END:VEVENT
BEGIN:VEVENT
DTSTART;TZID=America/Chicago:20281116T093000
DTEND;TZID=America/Chicago:20281116T123000
DTSTAMP:20260423T181550
CREATED:20260413T214135Z
LAST-MODIFIED:20260422T201409Z
UID:10002887-1857979800-1857990600@cityofdelcity.gov
SUMMARY:Del City Crafters hosted by Diane
DESCRIPTION:This is a craft and quilting class for all ages and skill levels. Contact Diane at (405)677-1821 for information. \n***Space is limited***
URL:https://cityofdelcity.gov/event/del-city-crafters-hosted-by-diane-3/2028-11-16/
LOCATION:Del City Community Center\, 4505 SE 15th St.\, Del City\, 73115\, United States
ATTACH;FMTTYPE=image/jpeg:https://cityofdelcity.gov/wp-content/uploads/2026/04/IMG_3565-2-scaled.jpeg
END:VEVENT
BEGIN:VEVENT
DTSTART;TZID=America/Chicago:20281116T190000
DTEND;TZID=America/Chicago:20281116T200000
DTSTAMP:20260423T181550
CREATED:20250611T164803Z
LAST-MODIFIED:20260227T164505Z
UID:10001294-1858014000-1858017600@cityofdelcity.gov
SUMMARY:Del North Neighborhood Watch Meeting
DESCRIPTION:Click here for more on the Del North Neighborhood Watch Association.
URL:https://cityofdelcity.gov/event/del-north-neighborhood-watch-meeting-3/2028-11-16/
LOCATION:Del City Community Center\, 4505 SE 15th St.\, Del City\, 73115\, United States
ATTACH;FMTTYPE=image/png:https://cityofdelcity.gov/wp-content/uploads/2025/06/DEL-CITY-NORTH-IMG.png
ORGANIZER;CN="Del North Neighborhood Watch Association":MAILTO:skluge9396@cox.net
END:VEVENT
BEGIN:VEVENT
DTSTART;TZID=America/Chicago:20281117T104500
DTEND;TZID=America/Chicago:20281117T114500
DTSTAMP:20260423T181550
CREATED:20260310T191458Z
LAST-MODIFIED:20260310T191459Z
UID:10004234-1858070700-1858074300@cityofdelcity.gov
SUMMARY:S.A.I.L
DESCRIPTION:Mondays\, Wednesdays\, Fridays\, beginning Dec 1st\, 2025. 10:45AM-11:45AM YMCA – S.A.I.L. (Staying Active and Independent for Life) Strength\, Balance\, and Fitness Program.
URL:https://cityofdelcity.gov/event/s-a-i-l-2-2/2028-11-17/
LOCATION:Del City Community Center\, 4505 SE 15th St.\, Del City\, 73115\, United States
ATTACH;FMTTYPE=image/png:https://cityofdelcity.gov/wp-content/uploads/2025/11/S.A.I.L.png
END:VEVENT
END:VCALENDAR