BEGIN:VCALENDAR
VERSION:2.0
PRODID:-//The City of Del City - ECPv6.15.20//NONSGML v1.0//EN
CALSCALE:GREGORIAN
METHOD:PUBLISH
X-ORIGINAL-URL:https://cityofdelcity.gov
X-WR-CALDESC:Events for The City of Del City
REFRESH-INTERVAL;VALUE=DURATION:PT1H
X-Robots-Tag:noindex
X-PUBLISHED-TTL:PT1H
BEGIN:VTIMEZONE
TZID:America/Chicago
BEGIN:DAYLIGHT
TZOFFSETFROM:-0600
TZOFFSETTO:-0500
TZNAME:CDT
DTSTART:20260308T080000
END:DAYLIGHT
BEGIN:STANDARD
TZOFFSETFROM:-0500
TZOFFSETTO:-0600
TZNAME:CST
DTSTART:20261101T070000
END:STANDARD
BEGIN:DAYLIGHT
TZOFFSETFROM:-0600
TZOFFSETTO:-0500
TZNAME:CDT
DTSTART:20270314T080000
END:DAYLIGHT
BEGIN:STANDARD
TZOFFSETFROM:-0500
TZOFFSETTO:-0600
TZNAME:CST
DTSTART:20271107T070000
END:STANDARD
BEGIN:DAYLIGHT
TZOFFSETFROM:-0600
TZOFFSETTO:-0500
TZNAME:CDT
DTSTART:20280312T080000
END:DAYLIGHT
BEGIN:STANDARD
TZOFFSETFROM:-0500
TZOFFSETTO:-0600
TZNAME:CST
DTSTART:20281105T070000
END:STANDARD
END:VTIMEZONE
BEGIN:VTIMEZONE
TZID:UTC
BEGIN:STANDARD
TZOFFSETFROM:+0000
TZOFFSETTO:+0000
TZNAME:UTC
DTSTART:20260101T000000
END:STANDARD
END:VTIMEZONE
BEGIN:VEVENT
DTSTART;VALUE=DATE:20270222
DTEND;VALUE=DATE:20270227
DTSTAMP:20260423T194206
CREATED:20250630T164628Z
LAST-MODIFIED:20250630T165736Z
UID:10001676-1803254400-1803686399@cityofdelcity.gov
SUMMARY:Ward 4 Bulk Trash - Pickup Week
DESCRIPTION:***Bulk Trash must be placed at the curb by the Monday of your pickup week at 6 AM. If the Monday of your scheduled Bulk Trash Week falls on a federal holiday\, Sanitation will continue with pickup the next business day. Expect possible delays as Sanitation resumes its schedule. \nFor more information on Bulk Trash\, click here or visit www.cityofdelcity.gov/bulk-trash. \n 
URL:https://cityofdelcity.gov/event/ward-4-bulk-trash-pickup-week/2027-02-22/
LOCATION:Del City\, OK\, 73115\, United States
ORGANIZER;CN="City of Del City":MAILTO:info@cityofdelcity.org
END:VEVENT
BEGIN:VEVENT
DTSTART;TZID=America/Chicago:20270222T104500
DTEND;TZID=America/Chicago:20270222T114500
DTSTAMP:20260423T194206
CREATED:20260310T191458Z
LAST-MODIFIED:20260310T191459Z
UID:10003962-1803293100-1803296700@cityofdelcity.gov
SUMMARY:S.A.I.L
DESCRIPTION:Mondays\, Wednesdays\, Fridays\, beginning Dec 1st\, 2025. 10:45AM-11:45AM YMCA – S.A.I.L. (Staying Active and Independent for Life) Strength\, Balance\, and Fitness Program.
URL:https://cityofdelcity.gov/event/s-a-i-l-2-2/2027-02-22/
LOCATION:Del City Community Center\, 4505 SE 15th St.\, Del City\, 73115\, United States
ATTACH;FMTTYPE=image/png:https://cityofdelcity.gov/wp-content/uploads/2025/11/S.A.I.L.png
END:VEVENT
BEGIN:VEVENT
DTSTART;TZID=America/Chicago:20270222T130000
DTEND;TZID=America/Chicago:20270222T140000
DTSTAMP:20260423T194206
CREATED:20251121T161409Z
LAST-MODIFIED:20260126T131616Z
UID:10004948-1803301200-1803304800@cityofdelcity.gov
SUMMARY:TAI CHI
DESCRIPTION:Mondays and Wednesdays\, from 1pm – 2pm. YMCA Tai Chi: Moving for Better Balance. Learning balance skills\, proper body alignment\, and coordinated Tai Chi movements.
URL:https://cityofdelcity.gov/event/tai-chi/2027-02-22/
LOCATION:Del City Community Center\, 4505 SE 15th St.\, Del City\, 73115\, United States
ATTACH;FMTTYPE=image/png:https://cityofdelcity.gov/wp-content/uploads/2025/11/TAI-CHI.png
END:VEVENT
BEGIN:VEVENT
DTSTART;TZID=America/Chicago:20270222T141500
DTEND;TZID=America/Chicago:20270222T151500
DTSTAMP:20260423T194206
CREATED:20251014T193852Z
LAST-MODIFIED:20260126T131653Z
UID:10003370-1803305700-1803309300@cityofdelcity.gov
SUMMARY:Forever Well\, Steady\, & Strong
DESCRIPTION:Mondays and Wednesdays\, from 2:15PM – 3:15PM\, YMCA Forever Well Steady & Strong. Senior focused fitness class that builds strength\, balance\, and flexibility through standing or chair supported exercises.
URL:https://cityofdelcity.gov/event/chair-based-strength-class-hosted-by-the-ymca-2/2027-02-22/
LOCATION:Del City Community Center\, 4505 SE 15th St.\, Del City\, 73115\, United States
ATTACH;FMTTYPE=image/png:https://cityofdelcity.gov/wp-content/uploads/2025/10/FOREVER-WELL-STEADY-STRONG.png
END:VEVENT
BEGIN:VEVENT
DTSTART;TZID=UTC:20270223T190000
DTEND;TZID=UTC:20270223T200000
DTSTAMP:20260423T194206
CREATED:20250124T220614Z
LAST-MODIFIED:20260227T164153Z
UID:10000795-1803409200-1803412800@cityofdelcity.gov
SUMMARY:Epperly Heights Neighborhood Watch Meeting
DESCRIPTION:
URL:https://cityofdelcity.gov/event/epperly-heights-neighborhood-watch-meeting-2/2027-02-23/
LOCATION:Del Baptist Temple\, 3236 SE 15th Street\, Del City\, OK\, 73115\, United States
ATTACH;FMTTYPE=image/png:https://cityofdelcity.gov/wp-content/uploads/2025/01/EPPERLY-IMG.png
END:VEVENT
BEGIN:VEVENT
DTSTART;TZID=America/Chicago:20270223T200000
DTEND;TZID=America/Chicago:20270223T210000
DTSTAMP:20260423T194206
CREATED:20260423T145307Z
LAST-MODIFIED:20260423T154413Z
UID:10005759-1803412800-1803416400@cityofdelcity.gov
SUMMARY:Del City Rotary Meeting
DESCRIPTION:Join us at the Rotary Club of Del City!\n\n\n\nWe meet every Tuesday at 8:00 AM at the Dignity Event Center\, located at 3900 SE 29th\, Del City\, OK 73115. Rotary is a place where community leaders come together to build friendships\, serve others\, and make a positive impact locally and around the world. If you’re interested in service\, networking\, and connecting with others who care about the community\, we’d love to have you join us for a meeting!\n\n\n\n\n\n\nQuestions?\nPhone: (405)650-5464 or (405)316-0479 | Email: lhopper572@gmail.com
URL:https://cityofdelcity.gov/event/rotary-meeting/2027-02-23/
LOCATION:Dignity Event Center\, 3900 SE 29th\, Del City\, OK\, 73115\, United States
ATTACH;FMTTYPE=image/svg+xml:https://cityofdelcity.gov/wp-content/uploads/2026/04/rotary-logo-color-2019-simplified.svg
END:VEVENT
BEGIN:VEVENT
DTSTART;TZID=America/Chicago:20270224T104500
DTEND;TZID=America/Chicago:20270224T114500
DTSTAMP:20260423T194206
CREATED:20260310T191458Z
LAST-MODIFIED:20260310T191459Z
UID:10003963-1803465900-1803469500@cityofdelcity.gov
SUMMARY:S.A.I.L
DESCRIPTION:Mondays\, Wednesdays\, Fridays\, beginning Dec 1st\, 2025. 10:45AM-11:45AM YMCA – S.A.I.L. (Staying Active and Independent for Life) Strength\, Balance\, and Fitness Program.
URL:https://cityofdelcity.gov/event/s-a-i-l-2-2/2027-02-24/
LOCATION:Del City Community Center\, 4505 SE 15th St.\, Del City\, 73115\, United States
ATTACH;FMTTYPE=image/png:https://cityofdelcity.gov/wp-content/uploads/2025/11/S.A.I.L.png
END:VEVENT
BEGIN:VEVENT
DTSTART;TZID=America/Chicago:20270224T130000
DTEND;TZID=America/Chicago:20270224T140000
DTSTAMP:20260423T194206
CREATED:20251121T161409Z
LAST-MODIFIED:20260126T131616Z
UID:10004949-1803474000-1803477600@cityofdelcity.gov
SUMMARY:TAI CHI
DESCRIPTION:Mondays and Wednesdays\, from 1pm – 2pm. YMCA Tai Chi: Moving for Better Balance. Learning balance skills\, proper body alignment\, and coordinated Tai Chi movements.
URL:https://cityofdelcity.gov/event/tai-chi/2027-02-24/
LOCATION:Del City Community Center\, 4505 SE 15th St.\, Del City\, 73115\, United States
ATTACH;FMTTYPE=image/png:https://cityofdelcity.gov/wp-content/uploads/2025/11/TAI-CHI.png
END:VEVENT
BEGIN:VEVENT
DTSTART;TZID=America/Chicago:20270224T141500
DTEND;TZID=America/Chicago:20270224T151500
DTSTAMP:20260423T194206
CREATED:20251014T193852Z
LAST-MODIFIED:20260126T131653Z
UID:10003371-1803478500-1803482100@cityofdelcity.gov
SUMMARY:Forever Well\, Steady\, & Strong
DESCRIPTION:Mondays and Wednesdays\, from 2:15PM – 3:15PM\, YMCA Forever Well Steady & Strong. Senior focused fitness class that builds strength\, balance\, and flexibility through standing or chair supported exercises.
URL:https://cityofdelcity.gov/event/chair-based-strength-class-hosted-by-the-ymca-2/2027-02-24/
LOCATION:Del City Community Center\, 4505 SE 15th St.\, Del City\, 73115\, United States
ATTACH;FMTTYPE=image/png:https://cityofdelcity.gov/wp-content/uploads/2025/10/FOREVER-WELL-STEADY-STRONG.png
END:VEVENT
BEGIN:VEVENT
DTSTART;TZID=America/Chicago:20270225T093000
DTEND;TZID=America/Chicago:20270225T123000
DTSTAMP:20260423T194206
CREATED:20260413T214135Z
LAST-MODIFIED:20260422T201409Z
UID:10002797-1803547800-1803558600@cityofdelcity.gov
SUMMARY:Del City Crafters hosted by Diane
DESCRIPTION:This is a craft and quilting class for all ages and skill levels. Contact Diane at (405)677-1821 for information. \n***Space is limited***
URL:https://cityofdelcity.gov/event/del-city-crafters-hosted-by-diane-3/2027-02-25/
LOCATION:Del City Community Center\, 4505 SE 15th St.\, Del City\, 73115\, United States
ATTACH;FMTTYPE=image/jpeg:https://cityofdelcity.gov/wp-content/uploads/2026/04/IMG_3565-2-scaled.jpeg
END:VEVENT
BEGIN:VEVENT
DTSTART;TZID=America/Chicago:20270225T140000
DTEND;TZID=America/Chicago:20270225T160000
DTSTAMP:20260423T194206
CREATED:20250930T154216Z
LAST-MODIFIED:20251124T225046Z
UID:10003061-1803564000-1803571200@cityofdelcity.gov
SUMMARY:Bingo with Diane
DESCRIPTION:
URL:https://cityofdelcity.gov/event/bingo-with-diane/2027-02-25/
LOCATION:Del City Community Center\, 4505 SE 15th St.\, Del City\, 73115\, United States
ATTACH;FMTTYPE=image/jpeg:https://cityofdelcity.gov/wp-content/uploads/2025/09/AdobeStock_393911855-scaled.jpeg
END:VEVENT
BEGIN:VEVENT
DTSTART;TZID=UTC:20270225T180000
DTEND;TZID=UTC:20270225T200000
DTSTAMP:20260423T194206
CREATED:20251201T203707Z
LAST-MODIFIED:20260127T210936Z
UID:10005225-1803578400-1803585600@cityofdelcity.gov
SUMMARY:Planning Commission Meeting
DESCRIPTION:
URL:https://cityofdelcity.gov/event/planning-commission-meeting-6-2-2/2027-02-25/
LOCATION:Council Chambers at City Hall\, 3701 SE 15th St\, Del City\, 73115\, United States
ATTACH;FMTTYPE=image/jpeg:https://cityofdelcity.gov/wp-content/uploads/2024/11/00B_Del-City_MASTER_City-Hall.jpg
ORGANIZER;CN="City of Del City":MAILTO:info@cityofdelcity.org
END:VEVENT
BEGIN:VEVENT
DTSTART;TZID=America/Chicago:20270226T104500
DTEND;TZID=America/Chicago:20270226T114500
DTSTAMP:20260423T194206
CREATED:20260310T191458Z
LAST-MODIFIED:20260310T191459Z
UID:10003964-1803638700-1803642300@cityofdelcity.gov
SUMMARY:S.A.I.L
DESCRIPTION:Mondays\, Wednesdays\, Fridays\, beginning Dec 1st\, 2025. 10:45AM-11:45AM YMCA – S.A.I.L. (Staying Active and Independent for Life) Strength\, Balance\, and Fitness Program.
URL:https://cityofdelcity.gov/event/s-a-i-l-2-2/2027-02-26/
LOCATION:Del City Community Center\, 4505 SE 15th St.\, Del City\, 73115\, United States
ATTACH;FMTTYPE=image/png:https://cityofdelcity.gov/wp-content/uploads/2025/11/S.A.I.L.png
END:VEVENT
END:VCALENDAR