BEGIN:VCALENDAR
VERSION:2.0
PRODID:-//The City of Del City - ECPv6.15.20//NONSGML v1.0//EN
CALSCALE:GREGORIAN
METHOD:PUBLISH
X-ORIGINAL-URL:https://cityofdelcity.gov
X-WR-CALDESC:Events for The City of Del City
REFRESH-INTERVAL;VALUE=DURATION:PT1H
X-Robots-Tag:noindex
X-PUBLISHED-TTL:PT1H
BEGIN:VTIMEZONE
TZID:America/Chicago
BEGIN:DAYLIGHT
TZOFFSETFROM:-0600
TZOFFSETTO:-0500
TZNAME:CDT
DTSTART:20240310T080000
END:DAYLIGHT
BEGIN:STANDARD
TZOFFSETFROM:-0500
TZOFFSETTO:-0600
TZNAME:CST
DTSTART:20241103T070000
END:STANDARD
BEGIN:DAYLIGHT
TZOFFSETFROM:-0600
TZOFFSETTO:-0500
TZNAME:CDT
DTSTART:20250309T080000
END:DAYLIGHT
BEGIN:STANDARD
TZOFFSETFROM:-0500
TZOFFSETTO:-0600
TZNAME:CST
DTSTART:20251102T070000
END:STANDARD
BEGIN:DAYLIGHT
TZOFFSETFROM:-0600
TZOFFSETTO:-0500
TZNAME:CDT
DTSTART:20260308T080000
END:DAYLIGHT
BEGIN:STANDARD
TZOFFSETFROM:-0500
TZOFFSETTO:-0600
TZNAME:CST
DTSTART:20261101T070000
END:STANDARD
END:VTIMEZONE
BEGIN:VTIMEZONE
TZID:UTC
BEGIN:STANDARD
TZOFFSETFROM:+0000
TZOFFSETTO:+0000
TZNAME:UTC
DTSTART:20240101T000000
END:STANDARD
END:VTIMEZONE
BEGIN:VEVENT
DTSTART;VALUE=DATE:20251222
DTEND;VALUE=DATE:20251227
DTSTAMP:20260423T214252
CREATED:20250630T164628Z
LAST-MODIFIED:20250630T165736Z
UID:10001662-1766361600-1766793599@cityofdelcity.gov
SUMMARY:Ward 4 Bulk Trash - Pickup Week
DESCRIPTION:***Bulk Trash must be placed at the curb by the Monday of your pickup week at 6 AM. If the Monday of your scheduled Bulk Trash Week falls on a federal holiday\, Sanitation will continue with pickup the next business day. Expect possible delays as Sanitation resumes its schedule. \nFor more information on Bulk Trash\, click here or visit www.cityofdelcity.gov/bulk-trash. \n 
URL:https://cityofdelcity.gov/event/ward-4-bulk-trash-pickup-week/2025-12-22/
LOCATION:Del City\, OK\, 73115\, United States
ORGANIZER;CN="City of Del City":MAILTO:info@cityofdelcity.org
END:VEVENT
BEGIN:VEVENT
DTSTART;TZID=America/Chicago:20251222T104500
DTEND;TZID=America/Chicago:20251222T114500
DTSTAMP:20260423T214252
CREATED:20260213T143259Z
LAST-MODIFIED:20260213T143321Z
UID:10003779-1766400300-1766403900@cityofdelcity.gov
SUMMARY:S.A.I.L
DESCRIPTION:Mondays\, Wednesdays\, Fridays\, beginning Dec 1st\, 2025. 10:45AM-11:45AM YMCA – S.A.I.L. (Staying Active and Independent for Life) Strength\, Balance\, and Fitness Program.
URL:https://cityofdelcity.gov/event/s-a-i-l-3/
LOCATION:Del City Community Center\, 4505 SE 15th St.\, Del City\, 73115\, United States
ATTACH;FMTTYPE=image/png:https://cityofdelcity.gov/wp-content/uploads/2025/11/S.A.I.L.png
END:VEVENT
BEGIN:VEVENT
DTSTART;TZID=America/Chicago:20251222T130000
DTEND;TZID=America/Chicago:20251222T140000
DTSTAMP:20260423T214252
CREATED:20251121T161409Z
LAST-MODIFIED:20260126T131616Z
UID:10004553-1766408400-1766412000@cityofdelcity.gov
SUMMARY:TAI CHI
DESCRIPTION:Mondays and Wednesdays\, from 1pm – 2pm. YMCA Tai Chi: Moving for Better Balance. Learning balance skills\, proper body alignment\, and coordinated Tai Chi movements.
URL:https://cityofdelcity.gov/event/tai-chi/2025-12-22/
LOCATION:Del City Community Center\, 4505 SE 15th St.\, Del City\, 73115\, United States
ATTACH;FMTTYPE=image/png:https://cityofdelcity.gov/wp-content/uploads/2025/11/TAI-CHI.png
END:VEVENT
BEGIN:VEVENT
DTSTART;TZID=America/Chicago:20251222T141500
DTEND;TZID=America/Chicago:20251222T151500
DTSTAMP:20260423T214252
CREATED:20251014T193852Z
LAST-MODIFIED:20260126T131653Z
UID:10003248-1766412900-1766416500@cityofdelcity.gov
SUMMARY:Forever Well\, Steady\, & Strong
DESCRIPTION:Mondays and Wednesdays\, from 2:15PM – 3:15PM\, YMCA Forever Well Steady & Strong. Senior focused fitness class that builds strength\, balance\, and flexibility through standing or chair supported exercises.
URL:https://cityofdelcity.gov/event/chair-based-strength-class-hosted-by-the-ymca-2/2025-12-22/
LOCATION:Del City Community Center\, 4505 SE 15th St.\, Del City\, 73115\, United States
ATTACH;FMTTYPE=image/png:https://cityofdelcity.gov/wp-content/uploads/2025/10/FOREVER-WELL-STEADY-STRONG.png
END:VEVENT
BEGIN:VEVENT
DTSTART;TZID=UTC:20251223T190000
DTEND;TZID=UTC:20251223T200000
DTSTAMP:20260423T214252
CREATED:20250124T220614Z
LAST-MODIFIED:20260227T164153Z
UID:10000781-1766516400-1766520000@cityofdelcity.gov
SUMMARY:Epperly Heights Neighborhood Watch Meeting
DESCRIPTION:
URL:https://cityofdelcity.gov/event/epperly-heights-neighborhood-watch-meeting-2/2025-12-23/
LOCATION:Del Baptist Temple\, 3236 SE 15th Street\, Del City\, OK\, 73115\, United States
ATTACH;FMTTYPE=image/png:https://cityofdelcity.gov/wp-content/uploads/2025/01/EPPERLY-IMG.png
END:VEVENT
BEGIN:VEVENT
DTSTART;TZID=America/Chicago:20251224T073000
DTEND;TZID=America/Chicago:20251224T113000
DTSTAMP:20260423T214252
CREATED:20250930T160628Z
LAST-MODIFIED:20251023T182832Z
UID:10003107-1766561400-1766575800@cityofdelcity.gov
SUMMARY:Christmas Eve
DESCRIPTION:Administrative Buildings: Administrative Buildings will be closing at 11:30 AM\, Wednesday\, December 24\, 2025\, and remain closed through Friday\, December 26\, 2025\,  in observance of the Christmas holiday. Administrative buildings will reopen on Monday\, December 29\, 2025\, at 7:30 AM. \nSanitation Pick Up: TBA \nEmergency or Non-Emergency Contact Numbers: Click the ‘Get Help’ tab to head to the Action Center for a list of helpful contact numbers and information.
URL:https://cityofdelcity.gov/event/christmas-eve/
LOCATION:City Offices
ORGANIZER;CN="City of Del City":MAILTO:info@cityofdelcity.org
END:VEVENT
BEGIN:VEVENT
DTSTART;TZID=America/Chicago:20251224T104500
DTEND;TZID=America/Chicago:20251224T114500
DTSTAMP:20260423T214252
CREATED:20251223T155732Z
LAST-MODIFIED:20260213T143531Z
UID:10003780-1766573100-1766576700@cityofdelcity.gov
SUMMARY:S.A.I.L
DESCRIPTION:Mondays\, Wednesdays\, Fridays\, beginning Dec 1st\, 2025. 10:45AM-11:45AM YMCA – S.A.I.L. (Staying Active and Independent for Life) Strength\, Balance\, and Fitness Program.
URL:https://cityofdelcity.gov/event/s-a-i-l-2/2025-12-24/
LOCATION:Del City Community Center\, 4505 SE 15th St.\, Del City\, 73115\, United States
ATTACH;FMTTYPE=image/png:https://cityofdelcity.gov/wp-content/uploads/2025/11/S.A.I.L.png
END:VEVENT
BEGIN:VEVENT
DTSTART;TZID=America/Chicago:20251224T130000
DTEND;TZID=America/Chicago:20251224T140000
DTSTAMP:20260423T214252
CREATED:20251121T161409Z
LAST-MODIFIED:20260126T131616Z
UID:10004554-1766581200-1766584800@cityofdelcity.gov
SUMMARY:TAI CHI
DESCRIPTION:Mondays and Wednesdays\, from 1pm – 2pm. YMCA Tai Chi: Moving for Better Balance. Learning balance skills\, proper body alignment\, and coordinated Tai Chi movements.
URL:https://cityofdelcity.gov/event/tai-chi/2025-12-24/
LOCATION:Del City Community Center\, 4505 SE 15th St.\, Del City\, 73115\, United States
ATTACH;FMTTYPE=image/png:https://cityofdelcity.gov/wp-content/uploads/2025/11/TAI-CHI.png
END:VEVENT
BEGIN:VEVENT
DTSTART;TZID=America/Chicago:20251224T141500
DTEND;TZID=America/Chicago:20251224T151500
DTSTAMP:20260423T214252
CREATED:20251014T193852Z
LAST-MODIFIED:20260126T131653Z
UID:10003249-1766585700-1766589300@cityofdelcity.gov
SUMMARY:Forever Well\, Steady\, & Strong
DESCRIPTION:Mondays and Wednesdays\, from 2:15PM – 3:15PM\, YMCA Forever Well Steady & Strong. Senior focused fitness class that builds strength\, balance\, and flexibility through standing or chair supported exercises.
URL:https://cityofdelcity.gov/event/chair-based-strength-class-hosted-by-the-ymca-2/2025-12-24/
LOCATION:Del City Community Center\, 4505 SE 15th St.\, Del City\, 73115\, United States
ATTACH;FMTTYPE=image/png:https://cityofdelcity.gov/wp-content/uploads/2025/10/FOREVER-WELL-STEADY-STRONG.png
END:VEVENT
BEGIN:VEVENT
DTSTART;VALUE=DATE:20251225
DTEND;VALUE=DATE:20251226
DTSTAMP:20260423T214252
CREATED:20250125T023022Z
LAST-MODIFIED:20251209T154004Z
UID:10001230-1766620800-1766707199@cityofdelcity.gov
SUMMARY:Christmas Holiday
DESCRIPTION:Administrative Buildings: Administrative Buildings will be closing at 11:30 AM\, Wednesday\, December 24\, 2025\, and remain closed through Friday\, December 26\, 2025\,  in observance of the Christmas holiday. Administrative buildings will reopen on Monday\, December 29\, 2025\, at 7:30 AM. \nSanitation Pick Up: \n\n\nWednesday\, 12/24: Normal routes \n\n\nThursday\, 12/25: No routes \n\n\nFriday\, 12/26: Crews will run Thursday’s routes \n\n\nEmergency or Non-Emergency Contact Numbers: Click the ‘Get Help’ tab to head to the Action Center for a list of helpful contact numbers and information.
URL:https://cityofdelcity.gov/event/christmas-day/2025-12-25/
LOCATION:City Offices
ATTACH;FMTTYPE=image/jpeg:https://cityofdelcity.gov/wp-content/uploads/2024/11/00B_Del-City_MASTER_City-Hall.jpg
ORGANIZER;CN="City of Del City":MAILTO:info@cityofdelcity.org
END:VEVENT
BEGIN:VEVENT
DTSTART;VALUE=DATE:20251226
DTEND;VALUE=DATE:20251227
DTSTAMP:20260423T214252
CREATED:20250125T023022Z
LAST-MODIFIED:20251209T154004Z
UID:10003106-1766734200-1766770200@cityofdelcity.gov
SUMMARY:Christmas Holiday
DESCRIPTION:Administrative Buildings: Administrative Buildings will be closing at 11:30 AM\, Wednesday\, December 24\, 2025\, and remain closed through Friday\, December 26\, 2025\,  in observance of the Christmas holiday. Administrative buildings will reopen on Monday\, December 29\, 2025\, at 7:30 AM. \nSanitation Pick Up: \n\n\nWednesday\, 12/24: Normal routes \n\n\nThursday\, 12/25: No routes \n\n\nFriday\, 12/26: Crews will run Thursday’s routes \n\n\nEmergency or Non-Emergency Contact Numbers: Click the ‘Get Help’ tab to head to the Action Center for a list of helpful contact numbers and information.
URL:https://cityofdelcity.gov/event/christmas-day/2025-12-26/
LOCATION:City Offices
ATTACH;FMTTYPE=image/jpeg:https://cityofdelcity.gov/wp-content/uploads/2024/11/00B_Del-City_MASTER_City-Hall.jpg
ORGANIZER;CN="City of Del City":MAILTO:info@cityofdelcity.org
END:VEVENT
END:VCALENDAR