BEGIN:VCALENDAR
VERSION:2.0
PRODID:-//The City of Del City - ECPv6.15.20//NONSGML v1.0//EN
CALSCALE:GREGORIAN
METHOD:PUBLISH
X-WR-CALNAME:The City of Del City
X-ORIGINAL-URL:https://cityofdelcity.gov
X-WR-CALDESC:Events for The City of Del City
REFRESH-INTERVAL;VALUE=DURATION:PT1H
X-Robots-Tag:noindex
X-PUBLISHED-TTL:PT1H
BEGIN:VTIMEZONE
TZID:America/Chicago
BEGIN:DAYLIGHT
TZOFFSETFROM:-0600
TZOFFSETTO:-0500
TZNAME:CDT
DTSTART:20240310T080000
END:DAYLIGHT
BEGIN:STANDARD
TZOFFSETFROM:-0500
TZOFFSETTO:-0600
TZNAME:CST
DTSTART:20241103T070000
END:STANDARD
BEGIN:DAYLIGHT
TZOFFSETFROM:-0600
TZOFFSETTO:-0500
TZNAME:CDT
DTSTART:20250309T080000
END:DAYLIGHT
BEGIN:STANDARD
TZOFFSETFROM:-0500
TZOFFSETTO:-0600
TZNAME:CST
DTSTART:20251102T070000
END:STANDARD
BEGIN:DAYLIGHT
TZOFFSETFROM:-0600
TZOFFSETTO:-0500
TZNAME:CDT
DTSTART:20260308T080000
END:DAYLIGHT
BEGIN:STANDARD
TZOFFSETFROM:-0500
TZOFFSETTO:-0600
TZNAME:CST
DTSTART:20261101T070000
END:STANDARD
END:VTIMEZONE
BEGIN:VTIMEZONE
TZID:UTC
BEGIN:STANDARD
TZOFFSETFROM:+0000
TZOFFSETTO:+0000
TZNAME:UTC
DTSTART:20240101T000000
END:STANDARD
END:VTIMEZONE
BEGIN:VEVENT
DTSTART;VALUE=DATE:20251020
DTEND;VALUE=DATE:20251025
DTSTAMP:20260424T154956
CREATED:20250630T164449Z
LAST-MODIFIED:20250630T165651Z
UID:10001600-1760918400-1761350399@cityofdelcity.gov
SUMMARY:Ward 3 Bulk Trash - Pickup Week
DESCRIPTION:***Bulk Trash must be placed at the curb by the Monday of your pickup week at 6 AM. If the Monday of your scheduled Bulk Trash Week falls on a federal holiday\, Sanitation will continue with pickup the next business day. Expect possible delays as Sanitation resumes its schedule. \nFor more information on Bulk Trash\, click here or visit www.cityofdelcity.gov/bulk-trash. \n 
URL:https://cityofdelcity.gov/event/ward-3-bulk-trash-pickup-week/2025-10-20/
LOCATION:Del City\, OK\, 73115\, United States
ORGANIZER;CN="City of Del City":MAILTO:info@cityofdelcity.org
END:VEVENT
BEGIN:VEVENT
DTSTART;TZID=America/Chicago:20251020T080000
DTEND;TZID=America/Chicago:20251020T170000
DTSTAMP:20260424T154956
CREATED:20251014T193852Z
LAST-MODIFIED:20260126T131653Z
UID:10003758-1760947200-1760979600@cityofdelcity.gov
SUMMARY:Forever Well\, Steady\, & Strong
DESCRIPTION:Mondays and Wednesdays\, from 2:15PM – 3:15PM\, YMCA Forever Well Steady & Strong. Senior focused fitness class that builds strength\, balance\, and flexibility through standing or chair supported exercises.
URL:https://cityofdelcity.gov/event/chair-based-strength-class-hosted-by-the-ymca-2/2025-10-20/1/
LOCATION:Del City Community Center\, 4505 SE 15th St.\, Del City\, 73115\, United States
ATTACH;FMTTYPE=image/png:https://cityofdelcity.gov/wp-content/uploads/2025/10/FOREVER-WELL-STEADY-STRONG.png
END:VEVENT
BEGIN:VEVENT
DTSTART;TZID=America/Chicago:20251020T141500
DTEND;TZID=America/Chicago:20251020T151500
DTSTAMP:20260424T154956
CREATED:20251014T193852Z
LAST-MODIFIED:20260126T131653Z
UID:10002465-1760969700-1760973300@cityofdelcity.gov
SUMMARY:Forever Well\, Steady\, & Strong
DESCRIPTION:Mondays and Wednesdays\, from 2:15PM – 3:15PM\, YMCA Forever Well Steady & Strong. Senior focused fitness class that builds strength\, balance\, and flexibility through standing or chair supported exercises.
URL:https://cityofdelcity.gov/event/chair-based-strength-class-hosted-by-the-ymca-2/2025-10-20/2/
LOCATION:Del City Community Center\, 4505 SE 15th St.\, Del City\, 73115\, United States
ATTACH;FMTTYPE=image/png:https://cityofdelcity.gov/wp-content/uploads/2025/10/FOREVER-WELL-STEADY-STRONG.png
END:VEVENT
BEGIN:VEVENT
DTSTART;TZID=UTC:20251020T180000
DTEND;TZID=UTC:20251020T200000
DTSTAMP:20260424T154956
CREATED:20250124T230429Z
LAST-MODIFIED:20260407T161521Z
UID:10000896-1760983200-1760990400@cityofdelcity.gov
SUMMARY:City Council Meeting
DESCRIPTION:
URL:https://cityofdelcity.gov/event/city-council-meeting-8/2025-10-20/
LOCATION:Council Chambers at City Hall\, 3701 SE 15th St\, Del City\, 73115\, United States
ATTACH;FMTTYPE=image/jpeg:https://cityofdelcity.gov/wp-content/uploads/2024/07/Council-Chambers-2-stock-e1749646917966.jpg
ORGANIZER;CN="City of Del City":MAILTO:info@cityofdelcity.org
END:VEVENT
BEGIN:VEVENT
DTSTART;TZID=UTC:20251021T190000
DTEND;TZID=UTC:20251021T200000
DTSTAMP:20260424T154956
CREATED:20250124T222142Z
LAST-MODIFIED:20260227T164256Z
UID:10000605-1761073200-1761076800@cityofdelcity.gov
SUMMARY:Midway Village Neighborhood Watch Meeting
DESCRIPTION:
URL:https://cityofdelcity.gov/event/midway-village-neighborhood-watch-meeting-3/2025-10-21/
LOCATION:Midway Village Baptist Church\, 4101 Thomas Dr\, Del City\, OK\, 73115\, United States
ATTACH;FMTTYPE=image/png:https://cityofdelcity.gov/wp-content/uploads/2025/01/MIDWAY-IMG.png
END:VEVENT
BEGIN:VEVENT
DTSTART;TZID=America/Chicago:20251022T141500
DTEND;TZID=America/Chicago:20251022T151500
DTSTAMP:20260424T154956
CREATED:20251014T193852Z
LAST-MODIFIED:20260126T131653Z
UID:10003231-1761142500-1761146100@cityofdelcity.gov
SUMMARY:Forever Well\, Steady\, & Strong
DESCRIPTION:Mondays and Wednesdays\, from 2:15PM – 3:15PM\, YMCA Forever Well Steady & Strong. Senior focused fitness class that builds strength\, balance\, and flexibility through standing or chair supported exercises.
URL:https://cityofdelcity.gov/event/chair-based-strength-class-hosted-by-the-ymca-2/2025-10-22/
LOCATION:Del City Community Center\, 4505 SE 15th St.\, Del City\, 73115\, United States
ATTACH;FMTTYPE=image/png:https://cityofdelcity.gov/wp-content/uploads/2025/10/FOREVER-WELL-STEADY-STRONG.png
END:VEVENT
BEGIN:VEVENT
DTSTART;TZID=UTC:20251022T180000
DTEND;TZID=UTC:20251022T200000
DTSTAMP:20260424T154956
CREATED:20250125T012819Z
LAST-MODIFIED:20250125T012820Z
UID:10001068-1761156000-1761163200@cityofdelcity.gov
SUMMARY:Planning Commission Meeting
DESCRIPTION:
URL:https://cityofdelcity.gov/event/planning-commission-meeting-6-2/2025-10-22/
LOCATION:Council Chambers at City Hall\, 3701 SE 15th St\, Del City\, 73115\, United States
ATTACH;FMTTYPE=image/jpeg:https://cityofdelcity.gov/wp-content/uploads/2024/11/00B_Del-City_MASTER_City-Hall.jpg
ORGANIZER;CN="City of Del City":MAILTO:info@cityofdelcity.org
END:VEVENT
BEGIN:VEVENT
DTSTART;TZID=America/Chicago:20251023T093000
DTEND;TZID=America/Chicago:20251023T123000
DTSTAMP:20260424T154956
CREATED:20250930T153425Z
LAST-MODIFIED:20251124T230615Z
UID:10002727-1761211800-1761222600@cityofdelcity.gov
SUMMARY:Del City Crafters hosted by Diane
DESCRIPTION:This is a craft and quilting class for all ages and skill levels. Contact Diane at (405)677-1821 for information. \n***Space is limited***
URL:https://cityofdelcity.gov/event/del-city-crafters-hosted-by-diane/2025-10-23/
LOCATION:Del City Community Center\, 4505 SE 15th St.\, Del City\, 73115\, United States
ATTACH;FMTTYPE=image/jpeg:https://cityofdelcity.gov/wp-content/uploads/2025/09/AdobeStock_289525974-scaled.jpeg
END:VEVENT
BEGIN:VEVENT
DTSTART;TZID=America/Chicago:20251023T170000
DTEND;TZID=America/Chicago:20251023T200000
DTSTAMP:20260424T154956
CREATED:20251015T162347Z
LAST-MODIFIED:20251015T162347Z
UID:10003751-1761238800-1761249600@cityofdelcity.gov
SUMMARY:Shop with a Cop Fundraiser
DESCRIPTION:Help the Del City Police Department and Neighborhood Watch Association raise funds to bring some extra holiday cheer to children and families this holiday season. Every donation makes a difference!
URL:https://cityofdelcity.gov/event/shop-with-a-cop-fundraiser/
LOCATION:McDonald’s\, 4502 SE 29th Street\, Del City\, OK\, 73115\, United States
ATTACH;FMTTYPE=image/jpeg:https://cityofdelcity.gov/wp-content/uploads/2024/07/D18A3921.jpg
ORGANIZER;CN="Del North Neighborhood Watch Association":MAILTO:skluge9396@cox.net
END:VEVENT
BEGIN:VEVENT
DTSTART;TZID=UTC:20251025T160000
DTEND;TZID=UTC:20251025T190000
DTSTAMP:20260424T154956
CREATED:20250128T211432Z
LAST-MODIFIED:20250930T200014Z
UID:10001174-1761408000-1761418800@cityofdelcity.gov
SUMMARY:Del City Chamber of Commerce Trunk or Treat
DESCRIPTION:Please visit the Chamber’s website at https://www.delcitychamber.com/ or their Facebook event page here.
URL:https://cityofdelcity.gov/event/del-city-chamber-of-commerce-trunk-or-treat/
LOCATION:Integris Health Community Hospital\, 4801 SE 15th Street\, Del City\, OK\, 73115\, United States
ATTACH;FMTTYPE=image/webp:https://cityofdelcity.gov/wp-content/uploads/2025/01/CopyofTrunkorTreat11x17PosterInstagramPost.png.webp
ORGANIZER;CN="Del City Chamber of Commerce":MAILTO:info@delcitychamber.com
END:VEVENT
END:VCALENDAR