BEGIN:VCALENDAR
VERSION:2.0
PRODID:-//The City of Del City - ECPv6.15.20//NONSGML v1.0//EN
CALSCALE:GREGORIAN
METHOD:PUBLISH
X-WR-CALNAME:The City of Del City
X-ORIGINAL-URL:https://cityofdelcity.gov
X-WR-CALDESC:Events for The City of Del City
REFRESH-INTERVAL;VALUE=DURATION:PT1H
X-Robots-Tag:noindex
X-PUBLISHED-TTL:PT1H
BEGIN:VTIMEZONE
TZID:UTC
BEGIN:STANDARD
TZOFFSETFROM:+0000
TZOFFSETTO:+0000
TZNAME:UTC
DTSTART:20240101T000000
END:STANDARD
END:VTIMEZONE
BEGIN:VTIMEZONE
TZID:America/Chicago
BEGIN:DAYLIGHT
TZOFFSETFROM:-0600
TZOFFSETTO:-0500
TZNAME:CDT
DTSTART:20240310T080000
END:DAYLIGHT
BEGIN:STANDARD
TZOFFSETFROM:-0500
TZOFFSETTO:-0600
TZNAME:CST
DTSTART:20241103T070000
END:STANDARD
BEGIN:DAYLIGHT
TZOFFSETFROM:-0600
TZOFFSETTO:-0500
TZNAME:CDT
DTSTART:20250309T080000
END:DAYLIGHT
BEGIN:STANDARD
TZOFFSETFROM:-0500
TZOFFSETTO:-0600
TZNAME:CST
DTSTART:20251102T070000
END:STANDARD
BEGIN:DAYLIGHT
TZOFFSETFROM:-0600
TZOFFSETTO:-0500
TZNAME:CDT
DTSTART:20260308T080000
END:DAYLIGHT
BEGIN:STANDARD
TZOFFSETFROM:-0500
TZOFFSETTO:-0600
TZNAME:CST
DTSTART:20261101T070000
END:STANDARD
END:VTIMEZONE
BEGIN:VEVENT
DTSTART;VALUE=DATE:20251013
DTEND;VALUE=DATE:20251014
DTSTAMP:20260424T171648
CREATED:20250125T014930Z
LAST-MODIFIED:20250930T182339Z
UID:10001173-1760313600-1760399999@cityofdelcity.gov
SUMMARY:Columbus Day
DESCRIPTION:Administrative Buildings: Administrative Buildings will be closed in the observance of the Columbus Day holiday Monday\, October 13\, 2025. Administrative buildings will reopen on Tuesday\, October 14\, 2025 at 7:30 AM. \nSanitation Pick Up: If your trash day falls on this date\, pick up will resume the following business day Tuesday\, October 14\, 2025. \nEmergency or Non-Emergency Contact Numbers: Click the ‘Get Help’ tab to head to the Action Center for a list of helpful contact numbers and information.
URL:https://cityofdelcity.gov/event/columbus-day/
LOCATION:City Offices
ATTACH;FMTTYPE=image/jpeg:https://cityofdelcity.gov/wp-content/uploads/2025/01/luke-michael-Tdwu35bCUj0-unsplash-scaled.jpg
ORGANIZER;CN="City of Del City":MAILTO:info@cityofdelcity.org
END:VEVENT
BEGIN:VEVENT
DTSTART;VALUE=DATE:20251013
DTEND;VALUE=DATE:20251018
DTSTAMP:20260424T171648
CREATED:20250630T164341Z
LAST-MODIFIED:20250630T165712Z
UID:10001718-1760313600-1760745599@cityofdelcity.gov
SUMMARY:Ward 2 Bulk Trash - Pickup Week
DESCRIPTION:***Bulk Trash must be placed at the curb by the Monday of your pickup week at 6 AM. If the Monday of your scheduled Bulk Trash Week falls on a federal holiday\, Sanitation will continue with pickup the next business day. Expect possible delays as Sanitation resumes its schedule. \nFor more information on Bulk Trash\, click here or visit www.cityofdelcity.gov/bulk-trash. \n 
URL:https://cityofdelcity.gov/event/ward-2-bulk-trash-pickup-week/2025-10-13/
LOCATION:Del City\, OK\, 73115\, United States
ORGANIZER;CN="City of Del City":MAILTO:info@cityofdelcity.org
END:VEVENT
BEGIN:VEVENT
DTSTART;TZID=UTC:20251013T190000
DTEND;TZID=UTC:20251013T200000
DTSTAMP:20260424T171648
CREATED:20250108T223354Z
LAST-MODIFIED:20260227T164813Z
UID:10000528-1760382000-1760385600@cityofdelcity.gov
SUMMARY:Del Aire Neighborhood Watch
DESCRIPTION:Contact:\n\n\n\n\n\n\n\n\n Website \n Facebook \n Neighborhood Map
URL:https://cityofdelcity.gov/event/del-aire-neighborhood-watch/2025-10-13/
LOCATION:Calvary Christian Church Youth Center\, 3900 Epperly Dr\, Del City\, 73115\, United States
ATTACH;FMTTYPE=image/png:https://cityofdelcity.gov/wp-content/uploads/2025/01/DEL-AIRE-IMG.png
END:VEVENT
BEGIN:VEVENT
DTSTART;TZID=UTC:20251014T180000
DTEND;TZID=UTC:20251014T200000
DTSTAMP:20260424T171648
CREATED:20250125T014415Z
LAST-MODIFIED:20250125T014415Z
UID:10000957-1760464800-1760472000@cityofdelcity.gov
SUMMARY:Board of Adjustment Meeting
DESCRIPTION:
URL:https://cityofdelcity.gov/event/board-of-adjustment-meeting-4-2/
LOCATION:Council Chambers at City Hall\, 3701 SE 15th St\, Del City\, 73115\, United States
ATTACH;FMTTYPE=image/jpeg:https://cityofdelcity.gov/wp-content/uploads/2024/11/00B_Del-City_MASTER_City-Hall.jpg
ORGANIZER;CN="City of Del City":MAILTO:info@cityofdelcity.org
END:VEVENT
BEGIN:VEVENT
DTSTART;TZID=America/Chicago:20251015T113000
DTEND;TZID=America/Chicago:20251015T130000
DTSTAMP:20260424T171648
CREATED:20250611T170019Z
LAST-MODIFIED:20260303T204921Z
UID:10001378-1760527800-1760533200@cityofdelcity.gov
SUMMARY:Del City Kiwanis Club Meeting
DESCRIPTION:Click here for more information on the Kiwanis Club.
URL:https://cityofdelcity.gov/event/del-city-kiwanis-club-meeting-2/2025-10-15/
LOCATION:Del City Community Center\, 4505 SE 15th St.\, Del City\, 73115\, United States
ATTACH;FMTTYPE=image/webp:https://cityofdelcity.gov/wp-content/uploads/2025/06/Kiwanis-Logo.webp
END:VEVENT
BEGIN:VEVENT
DTSTART;TZID=America/Chicago:20251016T093000
DTEND;TZID=America/Chicago:20251016T123000
DTSTAMP:20260424T171648
CREATED:20250930T153425Z
LAST-MODIFIED:20251124T230615Z
UID:10002726-1760607000-1760617800@cityofdelcity.gov
SUMMARY:Del City Crafters hosted by Diane
DESCRIPTION:This is a craft and quilting class for all ages and skill levels. Contact Diane at (405)677-1821 for information. \n***Space is limited***
URL:https://cityofdelcity.gov/event/del-city-crafters-hosted-by-diane/2025-10-16/
LOCATION:Del City Community Center\, 4505 SE 15th St.\, Del City\, 73115\, United States
ATTACH;FMTTYPE=image/jpeg:https://cityofdelcity.gov/wp-content/uploads/2025/09/AdobeStock_289525974-scaled.jpeg
END:VEVENT
BEGIN:VEVENT
DTSTART;TZID=America/Chicago:20251016T134500
DTEND;TZID=America/Chicago:20251016T144500
DTSTAMP:20260424T171648
CREATED:20250806T161327Z
LAST-MODIFIED:20250806T161414Z
UID:10001937-1760622300-1760625900@cityofdelcity.gov
SUMMARY:Del City High School's Homecoming Parade
DESCRIPTION:Mark your calendars for the Del City High School Homecoming Parade. This event will take place on October 16\, 2025 from 1:45 PM to 2:45 PM. Tune in to the high school’s social media page and website for parade route and other information. \nFacebook: @delcityhighschool \nDel City High School Website: DCHS Event Calendar
URL:https://cityofdelcity.gov/event/del-city-high-schools-homecoming-parade/
LOCATION:Del City High School\, 1900 S. Sunnylane RD.\, Del City\, OK\, 73115\, United States
ATTACH;FMTTYPE=image/jpeg:https://cityofdelcity.gov/wp-content/uploads/2025/08/480908248_938737835098676_7182489844568509614_n.jpg
END:VEVENT
BEGIN:VEVENT
DTSTART;TZID=America/Chicago:20251016T190000
DTEND;TZID=America/Chicago:20251016T200000
DTSTAMP:20260424T171648
CREATED:20250611T164803Z
LAST-MODIFIED:20260227T164505Z
UID:10001257-1760641200-1760644800@cityofdelcity.gov
SUMMARY:Del North Neighborhood Watch Meeting
DESCRIPTION:Click here for more on the Del North Neighborhood Watch Association.
URL:https://cityofdelcity.gov/event/del-north-neighborhood-watch-meeting-3/2025-10-16/
LOCATION:Del City Community Center\, 4505 SE 15th St.\, Del City\, 73115\, United States
ATTACH;FMTTYPE=image/png:https://cityofdelcity.gov/wp-content/uploads/2025/06/DEL-CITY-NORTH-IMG.png
ORGANIZER;CN="Del North Neighborhood Watch Association":MAILTO:skluge9396@cox.net
END:VEVENT
BEGIN:VEVENT
DTSTART;TZID=America/Chicago:20251017T140000
DTEND;TZID=America/Chicago:20251017T163000
DTSTAMP:20260424T171648
CREATED:20250930T182910Z
LAST-MODIFIED:20250930T182910Z
UID:10003169-1760709600-1760718600@cityofdelcity.gov
SUMMARY:Ice Cream Social hosted by ArchWell Health
DESCRIPTION:
URL:https://cityofdelcity.gov/event/ice-cream-social-hosted-by-archwell-health/
LOCATION:Del City Community Center\, 4505 SE 15th St.\, Del City\, 73115\, United States
ATTACH;FMTTYPE=image/jpeg:https://cityofdelcity.gov/wp-content/uploads/2025/09/ice-cream-social-scaled.jpeg
END:VEVENT
BEGIN:VEVENT
DTSTART;TZID=America/Chicago:20251018T090000
DTEND;TZID=America/Chicago:20251018T120000
DTSTAMP:20260424T171648
CREATED:20250930T193912Z
LAST-MODIFIED:20251020T195058Z
UID:10003170-1760778000-1760788800@cityofdelcity.gov
SUMMARY:Fishing Clinic at Eagle Lake hosted by Del City Chamber of Commerce
DESCRIPTION:Click Del City Chamber on Facebook and www.delcitychamber.com for more. \n 
URL:https://cityofdelcity.gov/event/fishing-clinic-at-eagle-lake-hosted-by-del-city-chamber-of-commerce/
LOCATION:Eagle Lake\, 3405 E Reno Avenue\, Del City\, OK\, 73115\, United States
ATTACH;FMTTYPE=image/jpeg:https://cityofdelcity.gov/wp-content/uploads/2025/09/FISHING-Large.jpeg
ORGANIZER;CN="Del City Chamber of Commerce":MAILTO:info@delcitychamber.com
END:VEVENT
BEGIN:VEVENT
DTSTART;TZID=America/Chicago:20251018T100000
DTEND;TZID=America/Chicago:20251018T140000
DTSTAMP:20260424T171648
CREATED:20250730T163804Z
LAST-MODIFIED:20251020T195013Z
UID:10001936-1760781600-1760796000@cityofdelcity.gov
SUMMARY:Public Safety Open House: Del City Fire and Police Department
DESCRIPTION:Save the date for the Public Safety Open House on October 18\, 2025 from 10 AM-2 PM! Details TBD.
URL:https://cityofdelcity.gov/event/public-safety-open-house-del-city-fire-and-police-department/
LOCATION:Fire Station 1\, 2800 Epperly Drive\, Del City\, OK\, 73115\, United States
ATTACH;FMTTYPE=image/jpeg:https://cityofdelcity.gov/wp-content/uploads/2025/07/295516079_103409905799675_867000210222098264_n-2-scaled.jpg
ORGANIZER;CN="City of Del City":MAILTO:info@cityofdelcity.org
END:VEVENT
END:VCALENDAR