BEGIN:VCALENDAR
VERSION:2.0
PRODID:-//The City of Del City - ECPv6.15.20//NONSGML v1.0//EN
CALSCALE:GREGORIAN
METHOD:PUBLISH
X-ORIGINAL-URL:https://cityofdelcity.gov
X-WR-CALDESC:Events for The City of Del City
REFRESH-INTERVAL;VALUE=DURATION:PT1H
X-Robots-Tag:noindex
X-PUBLISHED-TTL:PT1H
BEGIN:VTIMEZONE
TZID:America/Chicago
BEGIN:DAYLIGHT
TZOFFSETFROM:-0600
TZOFFSETTO:-0500
TZNAME:CDT
DTSTART:20240310T080000
END:DAYLIGHT
BEGIN:STANDARD
TZOFFSETFROM:-0500
TZOFFSETTO:-0600
TZNAME:CST
DTSTART:20241103T070000
END:STANDARD
BEGIN:DAYLIGHT
TZOFFSETFROM:-0600
TZOFFSETTO:-0500
TZNAME:CDT
DTSTART:20250309T080000
END:DAYLIGHT
BEGIN:STANDARD
TZOFFSETFROM:-0500
TZOFFSETTO:-0600
TZNAME:CST
DTSTART:20251102T070000
END:STANDARD
BEGIN:DAYLIGHT
TZOFFSETFROM:-0600
TZOFFSETTO:-0500
TZNAME:CDT
DTSTART:20260308T080000
END:DAYLIGHT
BEGIN:STANDARD
TZOFFSETFROM:-0500
TZOFFSETTO:-0600
TZNAME:CST
DTSTART:20261101T070000
END:STANDARD
END:VTIMEZONE
BEGIN:VTIMEZONE
TZID:UTC
BEGIN:STANDARD
TZOFFSETFROM:+0000
TZOFFSETTO:+0000
TZNAME:UTC
DTSTART:20240101T000000
END:STANDARD
END:VTIMEZONE
BEGIN:VEVENT
DTSTART;VALUE=DATE:20250915
DTEND;VALUE=DATE:20250920
DTSTAMP:20260424T225223
CREATED:20250630T164449Z
LAST-MODIFIED:20250630T165651Z
UID:10001599-1757894400-1758326399@cityofdelcity.gov
SUMMARY:Ward 3 Bulk Trash - Pickup Week
DESCRIPTION:***Bulk Trash must be placed at the curb by the Monday of your pickup week at 6 AM. If the Monday of your scheduled Bulk Trash Week falls on a federal holiday\, Sanitation will continue with pickup the next business day. Expect possible delays as Sanitation resumes its schedule. \nFor more information on Bulk Trash\, click here or visit www.cityofdelcity.gov/bulk-trash. \n 
URL:https://cityofdelcity.gov/event/ward-3-bulk-trash-pickup-week/2025-09-15/
LOCATION:Del City\, OK\, 73115\, United States
ORGANIZER;CN="City of Del City":MAILTO:info@cityofdelcity.org
END:VEVENT
BEGIN:VEVENT
DTSTART;TZID=UTC:20250915T180000
DTEND;TZID=UTC:20250915T200000
DTSTAMP:20260424T225223
CREATED:20250124T230429Z
LAST-MODIFIED:20260407T161521Z
UID:10000895-1757959200-1757966400@cityofdelcity.gov
SUMMARY:City Council Meeting
DESCRIPTION:
URL:https://cityofdelcity.gov/event/city-council-meeting-8/2025-09-15/
LOCATION:Council Chambers at City Hall\, 3701 SE 15th St\, Del City\, 73115\, United States
ATTACH;FMTTYPE=image/jpeg:https://cityofdelcity.gov/wp-content/uploads/2024/07/Council-Chambers-2-stock-e1749646917966.jpg
ORGANIZER;CN="City of Del City":MAILTO:info@cityofdelcity.org
END:VEVENT
BEGIN:VEVENT
DTSTART;TZID=UTC:20250916T190000
DTEND;TZID=UTC:20250916T200000
DTSTAMP:20260424T225223
CREATED:20250124T222142Z
LAST-MODIFIED:20260227T164256Z
UID:10000604-1758049200-1758052800@cityofdelcity.gov
SUMMARY:Midway Village Neighborhood Watch Meeting
DESCRIPTION:
URL:https://cityofdelcity.gov/event/midway-village-neighborhood-watch-meeting-3/2025-09-16/
LOCATION:Midway Village Baptist Church\, 4101 Thomas Dr\, Del City\, OK\, 73115\, United States
ATTACH;FMTTYPE=image/png:https://cityofdelcity.gov/wp-content/uploads/2025/01/MIDWAY-IMG.png
END:VEVENT
BEGIN:VEVENT
DTSTART;TZID=America/Chicago:20250917T113000
DTEND;TZID=America/Chicago:20250917T130000
DTSTAMP:20260424T225223
CREATED:20250611T170019Z
LAST-MODIFIED:20260303T204921Z
UID:10001377-1758108600-1758114000@cityofdelcity.gov
SUMMARY:Del City Kiwanis Club Meeting
DESCRIPTION:Click here for more information on the Kiwanis Club.
URL:https://cityofdelcity.gov/event/del-city-kiwanis-club-meeting-2/2025-09-17/
LOCATION:Del City Community Center\, 4505 SE 15th St.\, Del City\, 73115\, United States
ATTACH;FMTTYPE=image/webp:https://cityofdelcity.gov/wp-content/uploads/2025/06/Kiwanis-Logo.webp
END:VEVENT
BEGIN:VEVENT
DTSTART;TZID=America/Chicago:20250918T190000
DTEND;TZID=America/Chicago:20250918T200000
DTSTAMP:20260424T225223
CREATED:20250611T164803Z
LAST-MODIFIED:20260227T164505Z
UID:10001256-1758222000-1758225600@cityofdelcity.gov
SUMMARY:Del North Neighborhood Watch Meeting
DESCRIPTION:Click here for more on the Del North Neighborhood Watch Association.
URL:https://cityofdelcity.gov/event/del-north-neighborhood-watch-meeting-3/2025-09-18/
LOCATION:Del City Community Center\, 4505 SE 15th St.\, Del City\, 73115\, United States
ATTACH;FMTTYPE=image/png:https://cityofdelcity.gov/wp-content/uploads/2025/06/DEL-CITY-NORTH-IMG.png
ORGANIZER;CN="Del North Neighborhood Watch Association":MAILTO:skluge9396@cox.net
END:VEVENT
END:VCALENDAR