BEGIN:VCALENDAR
VERSION:2.0
PRODID:-//The City of Del City - ECPv6.15.20//NONSGML v1.0//EN
CALSCALE:GREGORIAN
METHOD:PUBLISH
X-WR-CALNAME:The City of Del City
X-ORIGINAL-URL:https://cityofdelcity.gov
X-WR-CALDESC:Events for The City of Del City
REFRESH-INTERVAL;VALUE=DURATION:PT1H
X-Robots-Tag:noindex
X-PUBLISHED-TTL:PT1H
BEGIN:VTIMEZONE
TZID:America/Chicago
BEGIN:DAYLIGHT
TZOFFSETFROM:-0600
TZOFFSETTO:-0500
TZNAME:CDT
DTSTART:20240310T080000
END:DAYLIGHT
BEGIN:STANDARD
TZOFFSETFROM:-0500
TZOFFSETTO:-0600
TZNAME:CST
DTSTART:20241103T070000
END:STANDARD
BEGIN:DAYLIGHT
TZOFFSETFROM:-0600
TZOFFSETTO:-0500
TZNAME:CDT
DTSTART:20250309T080000
END:DAYLIGHT
BEGIN:STANDARD
TZOFFSETFROM:-0500
TZOFFSETTO:-0600
TZNAME:CST
DTSTART:20251102T070000
END:STANDARD
BEGIN:DAYLIGHT
TZOFFSETFROM:-0600
TZOFFSETTO:-0500
TZNAME:CDT
DTSTART:20260308T080000
END:DAYLIGHT
BEGIN:STANDARD
TZOFFSETFROM:-0500
TZOFFSETTO:-0600
TZNAME:CST
DTSTART:20261101T070000
END:STANDARD
END:VTIMEZONE
BEGIN:VTIMEZONE
TZID:UTC
BEGIN:STANDARD
TZOFFSETFROM:+0000
TZOFFSETTO:+0000
TZNAME:UTC
DTSTART:20240101T000000
END:STANDARD
END:VTIMEZONE
BEGIN:VEVENT
DTSTART;VALUE=DATE:20250804
DTEND;VALUE=DATE:20250809
DTSTAMP:20260425T071550
CREATED:20250630T164125Z
LAST-MODIFIED:20250703T190918Z
UID:10001871-1754265600-1754697599@cityofdelcity.gov
SUMMARY:Ward 1 Bulk Trash - Pickup Week
DESCRIPTION:***Bulk Trash must be placed at the curb by the Monday of your pickup week at 6 AM. If the Monday of your scheduled Bulk Trash Week falls on a federal holiday\, Sanitation will continue with pickup the next business day. Expect possible delays as Sanitation resumes its schedule. \nFor more information on Bulk Trash\, click here or visit www.cityofdelcity.gov/bulk-trash.
URL:https://cityofdelcity.gov/event/ward-1-bulk-trash-pickup-week/2025-08-04/
LOCATION:Del City\, OK\, 73115\, United States
ORGANIZER;CN="City of Del City":MAILTO:info@cityofdelcity.org
END:VEVENT
BEGIN:VEVENT
DTSTART;TZID=UTC:20250804T180000
DTEND;TZID=UTC:20250804T200000
DTSTAMP:20260425T071550
CREATED:20250124T230239Z
LAST-MODIFIED:20260407T161758Z
UID:10000836-1754330400-1754337600@cityofdelcity.gov
SUMMARY:City Council Meeting
DESCRIPTION:
URL:https://cityofdelcity.gov/event/city-council-meeting-7/2025-08-04/
LOCATION:Council Chambers at City Hall\, 3701 SE 15th St\, Del City\, 73115\, United States
ATTACH;FMTTYPE=image/jpeg:https://cityofdelcity.gov/wp-content/uploads/2024/07/Council-Chambers-2-stock-e1749646917966.jpg
ORGANIZER;CN="City of Del City":MAILTO:info@cityofdelcity.org
END:VEVENT
BEGIN:VEVENT
DTSTART;TZID=UTC:20250805T190000
DTEND;TZID=UTC:20250805T210000
DTSTAMP:20260425T071550
CREATED:20250108T222428Z
LAST-MODIFIED:20260227T164701Z
UID:10000404-1754420400-1754427600@cityofdelcity.gov
SUMMARY:Hartsdel Neighborhood Watch
DESCRIPTION:Contact:\n\n\n\n\n\n\n Website \n Facebook \n Neighborhood Map
URL:https://cityofdelcity.gov/event/hartsdel-neighborhood-watch/2025-08-05/
LOCATION:Sunnylane Family Church\, 4221 SE 41st St.\, Del City\, OK\, 73115\, United States
ATTACH;FMTTYPE=image/png:https://cityofdelcity.gov/wp-content/uploads/2025/01/HARTSDEL-IMG.png
END:VEVENT
BEGIN:VEVENT
DTSTART;TZID=America/Chicago:20250806T100000
DTEND;TZID=America/Chicago:20250806T111500
DTSTAMP:20260425T071550
CREATED:20250612T165819Z
LAST-MODIFIED:20250612T170302Z
UID:10001500-1754474400-1754478900@cityofdelcity.gov
SUMMARY:Total Wellness
DESCRIPTION:Total Wellness is a FREE interactive weight-loss program for adults to help prevent diabetes and heart disease. Classes meet one hour and 15 minutes per week for eight weeks. The goal of the class is for everyone to lose 5% of their body weight and become more active. During class\, you will learn how to make healthy choices\, find ways to become more active\, change unhealthy behaviors\, lose weight and feel great. The Total Wellness program is sponsored by the Oklahoma City-County Health Department. To learn more about our program\, visit www.occhd.org/tw \n\nThe Summer session begins in July. Both in-person and online classes will be available. Space is limited\, and completion of the form at the link below does not guarantee a space in a class. You will be contacted to confirm your pre-enrollment.\n\nRegister here: https://occhd.org/lose/\n\n*Please Note: This class is not affiiated with the City of Del City. For additional details\, contact the event coordinator at the link above.
URL:https://cityofdelcity.gov/event/total-wellness/2025-08-06/
LOCATION:Del City Community Center\, 4505 SE 15th St.\, Del City\, 73115\, United States
ATTACH;FMTTYPE=image/png:https://cityofdelcity.gov/wp-content/uploads/2025/06/Screenshot-2025-06-12-at-11.55.06 AM-1-e1749747483440.png
ORGANIZER;CN="OKC-County Health Department":MAILTO:totalwellness@occhd.org
END:VEVENT
BEGIN:VEVENT
DTSTART;TZID=America/Chicago:20250806T113000
DTEND;TZID=America/Chicago:20250806T130000
DTSTAMP:20260425T071550
CREATED:20250611T165744Z
LAST-MODIFIED:20260303T224637Z
UID:10001315-1754479800-1754485200@cityofdelcity.gov
SUMMARY:Del City Kiwanis Club Meeting
DESCRIPTION:Click here for more information on the Kiwanis Club.
URL:https://cityofdelcity.gov/event/del-city-kiwanis-club-meeting/2025-08-06/
LOCATION:Del City Community Center\, 4505 SE 15th St.\, Del City\, 73115\, United States
ATTACH;FMTTYPE=image/webp:https://cityofdelcity.gov/wp-content/uploads/2025/06/Kiwanis-Logo.webp
END:VEVENT
BEGIN:VEVENT
DTSTART;TZID=America/Chicago:20250807T100000
DTEND;TZID=America/Chicago:20250807T110000
DTSTAMP:20260425T071550
CREATED:20250611T170613Z
LAST-MODIFIED:20251125T191434Z
UID:10001436-1754560800-1754564400@cityofdelcity.gov
SUMMARY:S.A.L.T - Seniors and Law Enforcement Together
DESCRIPTION:This is a FREE Community Service program provided by the OK County Sheriff’s Office and the Del City Police Dept that focuses on senior safety\, education\, and crime prevention. Class is held at the Community Center on the first Thursday of each month at 10AM. Contact Tara Hardin @ 405-869-2555 for more information.
URL:https://cityofdelcity.gov/event/s-a-l-t-seniors-and-law-enforcement-together/2025-08-07/
LOCATION:Del City Community Center\, 4505 SE 15th St.\, Del City\, 73115\, United States
ORGANIZER;CN="Oklahoma County Sheriff's Office":MAILTO:tara.hardin@oklahomacounty.org
END:VEVENT
END:VCALENDAR