BEGIN:VCALENDAR
VERSION:2.0
PRODID:-//The City of Del City - ECPv6.15.20//NONSGML v1.0//EN
CALSCALE:GREGORIAN
METHOD:PUBLISH
X-WR-CALNAME:The City of Del City
X-ORIGINAL-URL:https://cityofdelcity.gov
X-WR-CALDESC:Events for The City of Del City
REFRESH-INTERVAL;VALUE=DURATION:PT1H
X-Robots-Tag:noindex
X-PUBLISHED-TTL:PT1H
BEGIN:VTIMEZONE
TZID:America/Chicago
BEGIN:DAYLIGHT
TZOFFSETFROM:-0600
TZOFFSETTO:-0500
TZNAME:CDT
DTSTART:20250309T080000
END:DAYLIGHT
BEGIN:STANDARD
TZOFFSETFROM:-0500
TZOFFSETTO:-0600
TZNAME:CST
DTSTART:20251102T070000
END:STANDARD
BEGIN:DAYLIGHT
TZOFFSETFROM:-0600
TZOFFSETTO:-0500
TZNAME:CDT
DTSTART:20260308T080000
END:DAYLIGHT
BEGIN:STANDARD
TZOFFSETFROM:-0500
TZOFFSETTO:-0600
TZNAME:CST
DTSTART:20261101T070000
END:STANDARD
BEGIN:DAYLIGHT
TZOFFSETFROM:-0600
TZOFFSETTO:-0500
TZNAME:CDT
DTSTART:20270314T080000
END:DAYLIGHT
BEGIN:STANDARD
TZOFFSETFROM:-0500
TZOFFSETTO:-0600
TZNAME:CST
DTSTART:20271107T070000
END:STANDARD
BEGIN:DAYLIGHT
TZOFFSETFROM:-0600
TZOFFSETTO:-0500
TZNAME:CDT
DTSTART:20280312T080000
END:DAYLIGHT
BEGIN:STANDARD
TZOFFSETFROM:-0500
TZOFFSETTO:-0600
TZNAME:CST
DTSTART:20281105T070000
END:STANDARD
END:VTIMEZONE
BEGIN:VTIMEZONE
TZID:UTC
BEGIN:STANDARD
TZOFFSETFROM:+0000
TZOFFSETTO:+0000
TZNAME:UTC
DTSTART:20250101T000000
END:STANDARD
END:VTIMEZONE
BEGIN:VEVENT
DTSTART;TZID=America/Chicago:20270104T130000
DTEND;TZID=America/Chicago:20270104T140000
DTSTAMP:20260424T080642
CREATED:20251121T161409Z
LAST-MODIFIED:20260126T131616Z
UID:10004607-1799067600-1799071200@cityofdelcity.gov
SUMMARY:TAI CHI
DESCRIPTION:Mondays and Wednesdays\, from 1pm – 2pm. YMCA Tai Chi: Moving for Better Balance. Learning balance skills\, proper body alignment\, and coordinated Tai Chi movements.
URL:https://cityofdelcity.gov/event/tai-chi/2027-01-04/
LOCATION:Del City Community Center\, 4505 SE 15th St.\, Del City\, 73115\, United States
ATTACH;FMTTYPE=image/png:https://cityofdelcity.gov/wp-content/uploads/2025/11/TAI-CHI.png
END:VEVENT
BEGIN:VEVENT
DTSTART;TZID=America/Chicago:20270104T104500
DTEND;TZID=America/Chicago:20270104T114500
DTSTAMP:20260424T080642
CREATED:20260310T191458Z
LAST-MODIFIED:20260310T191459Z
UID:10003941-1799059500-1799063100@cityofdelcity.gov
SUMMARY:S.A.I.L
DESCRIPTION:Mondays\, Wednesdays\, Fridays\, beginning Dec 1st\, 2025. 10:45AM-11:45AM YMCA – S.A.I.L. (Staying Active and Independent for Life) Strength\, Balance\, and Fitness Program.
URL:https://cityofdelcity.gov/event/s-a-i-l-2-2/2027-01-04/
LOCATION:Del City Community Center\, 4505 SE 15th St.\, Del City\, 73115\, United States
ATTACH;FMTTYPE=image/png:https://cityofdelcity.gov/wp-content/uploads/2025/11/S.A.I.L.png
END:VEVENT
BEGIN:VEVENT
DTSTART;VALUE=DATE:20270104
DTEND;VALUE=DATE:20270109
DTSTAMP:20260424T080642
CREATED:20250630T164125Z
LAST-MODIFIED:20250703T190918Z
UID:10001888-1799020800-1799452799@cityofdelcity.gov
SUMMARY:Ward 1 Bulk Trash - Pickup Week
DESCRIPTION:***Bulk Trash must be placed at the curb by the Monday of your pickup week at 6 AM. If the Monday of your scheduled Bulk Trash Week falls on a federal holiday\, Sanitation will continue with pickup the next business day. Expect possible delays as Sanitation resumes its schedule. \nFor more information on Bulk Trash\, click here or visit www.cityofdelcity.gov/bulk-trash.
URL:https://cityofdelcity.gov/event/ward-1-bulk-trash-pickup-week/2027-01-04/
LOCATION:Del City\, OK\, 73115\, United States
ORGANIZER;CN="City of Del City":MAILTO:info@cityofdelcity.org
END:VEVENT
BEGIN:VEVENT
DTSTART;TZID=America/Chicago:20270102T090000
DTEND;TZID=America/Chicago:20270102T220000
DTSTAMP:20260424T080642
CREATED:20260423T153837Z
LAST-MODIFIED:20260423T154343Z
UID:10005986-1798880400-1798927200@cityofdelcity.gov
SUMMARY:"First Saturday Health Walk" w/ Del City Rotary
DESCRIPTION:Join Rotary for their “First Saturday Health Walk” along Del Rd. & Glenn Ave.\, where history and community come together. \n Start Location: Rotary Park – 3698 Del Rd\, Del City\, OK 73115 (Next to Epperly Heights Elementary) Time: 9:00 AM\n\nEnjoy a morning of:• Health and wellness• Local history and storytelling• Fun trivia along the route• Fellowship with the community\n\nWhether you’re coming for the exercise\, the history\, or just to connect with others\, there’s something here for everyone.\n\nQuestions?\nPhone: (405)650-5464 or (405)316-0479 | Email: lhopper572@gmail.com
URL:https://cityofdelcity.gov/event/first-saturday-health-walk-w-del-city-rotary/2027-01-02/
LOCATION:Dignity Event Center\, 3900 SE 29th\, Del City\, OK\, 73115\, United States
ATTACH;FMTTYPE=image/svg+xml:https://cityofdelcity.gov/wp-content/uploads/2026/04/rotary-logo-color-2019-simplified.svg
END:VEVENT
BEGIN:VEVENT
DTSTART;TZID=America/Chicago:20270101T073000
DTEND;TZID=America/Chicago:20270101T113000
DTSTAMP:20260424T080642
CREATED:20260127T221355Z
LAST-MODIFIED:20260127T221434Z
UID:10005388-1798788600-1798803000@cityofdelcity.gov
SUMMARY:New Year's Day
DESCRIPTION:Administrative Buildings: Administrative Buildings will be closed on Friday\, January 1 in observance of the New Year’s Day holiday. Administrative Buildings will reopen Monday\, January 4 at 7:30 AM. \nSanitation: Sanitation services do not run on Friday’s; no change due to the holiday closure. Bulk Trash will continue throughout the week for Ward 4. \nEmergency or Non-Emergency Contact Numbers: Click the ‘Get Help’ tab to head to the Action Center for a list of helpful contact numbers and information. \nOr \nClick Here: https://cityofdelcity.gov/connect/city-directory/
URL:https://cityofdelcity.gov/event/new-years-day/
LOCATION:Administrative Buildings\, OK\, 73115\, United States
ATTACH;FMTTYPE=image/png:https://cityofdelcity.gov/wp-content/uploads/2026/01/NOC-NEW-YEARS-DAY-27.png
ORGANIZER;CN="City of Del City":MAILTO:info@cityofdelcity.org
END:VEVENT
BEGIN:VEVENT
DTSTART;TZID=America/Chicago:20261231T140000
DTEND;TZID=America/Chicago:20261231T160000
DTSTAMP:20260424T080642
CREATED:20250930T154216Z
LAST-MODIFIED:20251124T225046Z
UID:10003059-1798725600-1798732800@cityofdelcity.gov
SUMMARY:Bingo with Diane
DESCRIPTION:
URL:https://cityofdelcity.gov/event/bingo-with-diane/2026-12-31/
LOCATION:Del City Community Center\, 4505 SE 15th St.\, Del City\, 73115\, United States
ATTACH;FMTTYPE=image/jpeg:https://cityofdelcity.gov/wp-content/uploads/2025/09/AdobeStock_393911855-scaled.jpeg
END:VEVENT
BEGIN:VEVENT
DTSTART;TZID=America/Chicago:20261231T093000
DTEND;TZID=America/Chicago:20261231T123000
DTSTAMP:20260424T080642
CREATED:20260413T214135Z
LAST-MODIFIED:20260422T201409Z
UID:10002789-1798709400-1798720200@cityofdelcity.gov
SUMMARY:Del City Crafters hosted by Diane
DESCRIPTION:This is a craft and quilting class for all ages and skill levels. Contact Diane at (405)677-1821 for information. \n***Space is limited***
URL:https://cityofdelcity.gov/event/del-city-crafters-hosted-by-diane-3/2026-12-31/
LOCATION:Del City Community Center\, 4505 SE 15th St.\, Del City\, 73115\, United States
ATTACH;FMTTYPE=image/jpeg:https://cityofdelcity.gov/wp-content/uploads/2026/04/IMG_3565-2-scaled.jpeg
END:VEVENT
BEGIN:VEVENT
DTSTART;TZID=America/Chicago:20261230T141500
DTEND;TZID=America/Chicago:20261230T151500
DTSTAMP:20260424T080642
CREATED:20251014T193852Z
LAST-MODIFIED:20260126T131653Z
UID:10003355-1798640100-1798643700@cityofdelcity.gov
SUMMARY:Forever Well\, Steady\, & Strong
DESCRIPTION:Mondays and Wednesdays\, from 2:15PM – 3:15PM\, YMCA Forever Well Steady & Strong. Senior focused fitness class that builds strength\, balance\, and flexibility through standing or chair supported exercises.
URL:https://cityofdelcity.gov/event/chair-based-strength-class-hosted-by-the-ymca-2/2026-12-30/
LOCATION:Del City Community Center\, 4505 SE 15th St.\, Del City\, 73115\, United States
ATTACH;FMTTYPE=image/png:https://cityofdelcity.gov/wp-content/uploads/2025/10/FOREVER-WELL-STEADY-STRONG.png
END:VEVENT
BEGIN:VEVENT
DTSTART;TZID=America/Chicago:20261230T130000
DTEND;TZID=America/Chicago:20261230T140000
DTSTAMP:20260424T080642
CREATED:20251121T161409Z
LAST-MODIFIED:20260126T131616Z
UID:10004941-1798635600-1798639200@cityofdelcity.gov
SUMMARY:TAI CHI
DESCRIPTION:Mondays and Wednesdays\, from 1pm – 2pm. YMCA Tai Chi: Moving for Better Balance. Learning balance skills\, proper body alignment\, and coordinated Tai Chi movements.
URL:https://cityofdelcity.gov/event/tai-chi/2026-12-30/
LOCATION:Del City Community Center\, 4505 SE 15th St.\, Del City\, 73115\, United States
ATTACH;FMTTYPE=image/png:https://cityofdelcity.gov/wp-content/uploads/2025/11/TAI-CHI.png
END:VEVENT
BEGIN:VEVENT
DTSTART;TZID=America/Chicago:20261230T104500
DTEND;TZID=America/Chicago:20261230T114500
DTSTAMP:20260424T080642
CREATED:20260310T191458Z
LAST-MODIFIED:20260310T191459Z
UID:10003939-1798627500-1798631100@cityofdelcity.gov
SUMMARY:S.A.I.L
DESCRIPTION:Mondays\, Wednesdays\, Fridays\, beginning Dec 1st\, 2025. 10:45AM-11:45AM YMCA – S.A.I.L. (Staying Active and Independent for Life) Strength\, Balance\, and Fitness Program.
URL:https://cityofdelcity.gov/event/s-a-i-l-2-2/2026-12-30/
LOCATION:Del City Community Center\, 4505 SE 15th St.\, Del City\, 73115\, United States
ATTACH;FMTTYPE=image/png:https://cityofdelcity.gov/wp-content/uploads/2025/11/S.A.I.L.png
END:VEVENT
BEGIN:VEVENT
DTSTART;TZID=America/Chicago:20261229T200000
DTEND;TZID=America/Chicago:20261229T210000
DTSTAMP:20260424T080642
CREATED:20260423T145307Z
LAST-MODIFIED:20260423T154413Z
UID:10005751-1798574400-1798578000@cityofdelcity.gov
SUMMARY:Del City Rotary Meeting
DESCRIPTION:Join us at the Rotary Club of Del City!\n\n\n\nWe meet every Tuesday at 8:00 AM at the Dignity Event Center\, located at 3900 SE 29th\, Del City\, OK 73115. Rotary is a place where community leaders come together to build friendships\, serve others\, and make a positive impact locally and around the world. If you’re interested in service\, networking\, and connecting with others who care about the community\, we’d love to have you join us for a meeting!\n\n\n\n\n\n\nQuestions?\nPhone: (405)650-5464 or (405)316-0479 | Email: lhopper572@gmail.com
URL:https://cityofdelcity.gov/event/rotary-meeting/2026-12-29/
LOCATION:Dignity Event Center\, 3900 SE 29th\, Del City\, OK\, 73115\, United States
ATTACH;FMTTYPE=image/svg+xml:https://cityofdelcity.gov/wp-content/uploads/2026/04/rotary-logo-color-2019-simplified.svg
END:VEVENT
BEGIN:VEVENT
DTSTART;TZID=America/Chicago:20261228T141500
DTEND;TZID=America/Chicago:20261228T151500
DTSTAMP:20260424T080642
CREATED:20251014T193852Z
LAST-MODIFIED:20260126T131653Z
UID:10003354-1798467300-1798470900@cityofdelcity.gov
SUMMARY:Forever Well\, Steady\, & Strong
DESCRIPTION:Mondays and Wednesdays\, from 2:15PM – 3:15PM\, YMCA Forever Well Steady & Strong. Senior focused fitness class that builds strength\, balance\, and flexibility through standing or chair supported exercises.
URL:https://cityofdelcity.gov/event/chair-based-strength-class-hosted-by-the-ymca-2/2026-12-28/
LOCATION:Del City Community Center\, 4505 SE 15th St.\, Del City\, 73115\, United States
ATTACH;FMTTYPE=image/png:https://cityofdelcity.gov/wp-content/uploads/2025/10/FOREVER-WELL-STEADY-STRONG.png
END:VEVENT
BEGIN:VEVENT
DTSTART;TZID=America/Chicago:20261228T130000
DTEND;TZID=America/Chicago:20261228T140000
DTSTAMP:20260424T080642
CREATED:20251121T161409Z
LAST-MODIFIED:20260126T131616Z
UID:10004940-1798462800-1798466400@cityofdelcity.gov
SUMMARY:TAI CHI
DESCRIPTION:Mondays and Wednesdays\, from 1pm – 2pm. YMCA Tai Chi: Moving for Better Balance. Learning balance skills\, proper body alignment\, and coordinated Tai Chi movements.
URL:https://cityofdelcity.gov/event/tai-chi/2026-12-28/
LOCATION:Del City Community Center\, 4505 SE 15th St.\, Del City\, 73115\, United States
ATTACH;FMTTYPE=image/png:https://cityofdelcity.gov/wp-content/uploads/2025/11/TAI-CHI.png
END:VEVENT
BEGIN:VEVENT
DTSTART;TZID=America/Chicago:20261228T104500
DTEND;TZID=America/Chicago:20261228T114500
DTSTAMP:20260424T080642
CREATED:20260310T191458Z
LAST-MODIFIED:20260310T191459Z
UID:10003938-1798454700-1798458300@cityofdelcity.gov
SUMMARY:S.A.I.L
DESCRIPTION:Mondays\, Wednesdays\, Fridays\, beginning Dec 1st\, 2025. 10:45AM-11:45AM YMCA – S.A.I.L. (Staying Active and Independent for Life) Strength\, Balance\, and Fitness Program.
URL:https://cityofdelcity.gov/event/s-a-i-l-2-2/2026-12-28/
LOCATION:Del City Community Center\, 4505 SE 15th St.\, Del City\, 73115\, United States
ATTACH;FMTTYPE=image/png:https://cityofdelcity.gov/wp-content/uploads/2025/11/S.A.I.L.png
END:VEVENT
BEGIN:VEVENT
DTSTART;VALUE=DATE:20261228
DTEND;VALUE=DATE:20270102
DTSTAMP:20260424T080642
CREATED:20250630T164628Z
LAST-MODIFIED:20250630T165736Z
UID:10001674-1798416000-1798847999@cityofdelcity.gov
SUMMARY:Ward 4 Bulk Trash - Pickup Week
DESCRIPTION:***Bulk Trash must be placed at the curb by the Monday of your pickup week at 6 AM. If the Monday of your scheduled Bulk Trash Week falls on a federal holiday\, Sanitation will continue with pickup the next business day. Expect possible delays as Sanitation resumes its schedule. \nFor more information on Bulk Trash\, click here or visit www.cityofdelcity.gov/bulk-trash. \n 
URL:https://cityofdelcity.gov/event/ward-4-bulk-trash-pickup-week/2026-12-28/
LOCATION:Del City\, OK\, 73115\, United States
ORGANIZER;CN="City of Del City":MAILTO:info@cityofdelcity.org
END:VEVENT
BEGIN:VEVENT
DTSTART;TZID=America/Chicago:20261225T073000
DTEND;TZID=America/Chicago:20261225T113000
DTSTAMP:20260424T080642
CREATED:20260127T212518Z
LAST-MODIFIED:20260127T225701Z
UID:10005379-1798183800-1798198200@cityofdelcity.gov
SUMMARY:Christmas Holiday
DESCRIPTION:Administrative Buildings: Administrative Buildings will be closed on Christmas Day\, Friday\, December 25 in observance of the Christmas Holiday. Administrative Buildings will reopen Monday\, December 28 at 7:30 AM. \nSanitation Pick Up: See Sanitation/Bulk Calendar HERE. \nEmergency or Non-Emergency Contact Numbers: Click the ‘Get Help’ tab to head to the Action Center for a list of helpful contact numbers and information. \nOr \nClick Here: https://cityofdelcity.gov/connect/city-directory/
URL:https://cityofdelcity.gov/event/christmas-holiday/
LOCATION:Administrative Buildings\, OK\, 73115\, United States
ATTACH;FMTTYPE=image/png:https://cityofdelcity.gov/wp-content/uploads/2026/01/NOC-CHRISTMAS-HOLIDAY.png
ORGANIZER;CN="City of Del City":MAILTO:info@cityofdelcity.org
END:VEVENT
BEGIN:VEVENT
DTSTART;TZID=UTC:20261224T180000
DTEND;TZID=UTC:20261224T200000
DTSTAMP:20260424T080642
CREATED:20251201T203707Z
LAST-MODIFIED:20260127T210936Z
UID:10005223-1798135200-1798142400@cityofdelcity.gov
SUMMARY:Planning Commission Meeting
DESCRIPTION:
URL:https://cityofdelcity.gov/event/planning-commission-meeting-6-2-2/2026-12-24/
LOCATION:Council Chambers at City Hall\, 3701 SE 15th St\, Del City\, 73115\, United States
ATTACH;FMTTYPE=image/jpeg:https://cityofdelcity.gov/wp-content/uploads/2024/11/00B_Del-City_MASTER_City-Hall.jpg
ORGANIZER;CN="City of Del City":MAILTO:info@cityofdelcity.org
END:VEVENT
BEGIN:VEVENT
DTSTART;TZID=America/Chicago:20261223T141500
DTEND;TZID=America/Chicago:20261223T151500
DTSTAMP:20260424T080642
CREATED:20251014T193852Z
LAST-MODIFIED:20260126T131653Z
UID:10003353-1798035300-1798038900@cityofdelcity.gov
SUMMARY:Forever Well\, Steady\, & Strong
DESCRIPTION:Mondays and Wednesdays\, from 2:15PM – 3:15PM\, YMCA Forever Well Steady & Strong. Senior focused fitness class that builds strength\, balance\, and flexibility through standing or chair supported exercises.
URL:https://cityofdelcity.gov/event/chair-based-strength-class-hosted-by-the-ymca-2/2026-12-23/
LOCATION:Del City Community Center\, 4505 SE 15th St.\, Del City\, 73115\, United States
ATTACH;FMTTYPE=image/png:https://cityofdelcity.gov/wp-content/uploads/2025/10/FOREVER-WELL-STEADY-STRONG.png
END:VEVENT
BEGIN:VEVENT
DTSTART;TZID=America/Chicago:20261223T130000
DTEND;TZID=America/Chicago:20261223T140000
DTSTAMP:20260424T080642
CREATED:20251121T161409Z
LAST-MODIFIED:20260126T131616Z
UID:10004606-1798030800-1798034400@cityofdelcity.gov
SUMMARY:TAI CHI
DESCRIPTION:Mondays and Wednesdays\, from 1pm – 2pm. YMCA Tai Chi: Moving for Better Balance. Learning balance skills\, proper body alignment\, and coordinated Tai Chi movements.
URL:https://cityofdelcity.gov/event/tai-chi/2026-12-23/
LOCATION:Del City Community Center\, 4505 SE 15th St.\, Del City\, 73115\, United States
ATTACH;FMTTYPE=image/png:https://cityofdelcity.gov/wp-content/uploads/2025/11/TAI-CHI.png
END:VEVENT
BEGIN:VEVENT
DTSTART;TZID=America/Chicago:20261223T104500
DTEND;TZID=America/Chicago:20261223T114500
DTSTAMP:20260424T080642
CREATED:20260310T191458Z
LAST-MODIFIED:20260310T191459Z
UID:10003936-1798022700-1798026300@cityofdelcity.gov
SUMMARY:S.A.I.L
DESCRIPTION:Mondays\, Wednesdays\, Fridays\, beginning Dec 1st\, 2025. 10:45AM-11:45AM YMCA – S.A.I.L. (Staying Active and Independent for Life) Strength\, Balance\, and Fitness Program.
URL:https://cityofdelcity.gov/event/s-a-i-l-2-2/2026-12-23/
LOCATION:Del City Community Center\, 4505 SE 15th St.\, Del City\, 73115\, United States
ATTACH;FMTTYPE=image/png:https://cityofdelcity.gov/wp-content/uploads/2025/11/S.A.I.L.png
END:VEVENT
BEGIN:VEVENT
DTSTART;TZID=America/Chicago:20261222T200000
DTEND;TZID=America/Chicago:20261222T210000
DTSTAMP:20260424T080642
CREATED:20260423T145307Z
LAST-MODIFIED:20260423T154413Z
UID:10005750-1797969600-1797973200@cityofdelcity.gov
SUMMARY:Del City Rotary Meeting
DESCRIPTION:Join us at the Rotary Club of Del City!\n\n\n\nWe meet every Tuesday at 8:00 AM at the Dignity Event Center\, located at 3900 SE 29th\, Del City\, OK 73115. Rotary is a place where community leaders come together to build friendships\, serve others\, and make a positive impact locally and around the world. If you’re interested in service\, networking\, and connecting with others who care about the community\, we’d love to have you join us for a meeting!\n\n\n\n\n\n\nQuestions?\nPhone: (405)650-5464 or (405)316-0479 | Email: lhopper572@gmail.com
URL:https://cityofdelcity.gov/event/rotary-meeting/2026-12-22/
LOCATION:Dignity Event Center\, 3900 SE 29th\, Del City\, OK\, 73115\, United States
ATTACH;FMTTYPE=image/svg+xml:https://cityofdelcity.gov/wp-content/uploads/2026/04/rotary-logo-color-2019-simplified.svg
END:VEVENT
BEGIN:VEVENT
DTSTART;TZID=UTC:20261222T190000
DTEND;TZID=UTC:20261222T200000
DTSTAMP:20260424T080642
CREATED:20250124T220614Z
LAST-MODIFIED:20260227T164153Z
UID:10000793-1797966000-1797969600@cityofdelcity.gov
SUMMARY:Epperly Heights Neighborhood Watch Meeting
DESCRIPTION:
URL:https://cityofdelcity.gov/event/epperly-heights-neighborhood-watch-meeting-2/2026-12-22/
LOCATION:Del Baptist Temple\, 3236 SE 15th Street\, Del City\, OK\, 73115\, United States
ATTACH;FMTTYPE=image/png:https://cityofdelcity.gov/wp-content/uploads/2025/01/EPPERLY-IMG.png
END:VEVENT
BEGIN:VEVENT
DTSTART;TZID=UTC:20261221T180000
DTEND;TZID=UTC:20261221T200000
DTSTAMP:20260424T080642
CREATED:20250124T230429Z
LAST-MODIFIED:20260407T161521Z
UID:10000910-1797876000-1797883200@cityofdelcity.gov
SUMMARY:City Council Meeting
DESCRIPTION:
URL:https://cityofdelcity.gov/event/city-council-meeting-8/2026-12-21/
LOCATION:Council Chambers at City Hall\, 3701 SE 15th St\, Del City\, 73115\, United States
ATTACH;FMTTYPE=image/jpeg:https://cityofdelcity.gov/wp-content/uploads/2024/07/Council-Chambers-2-stock-e1749646917966.jpg
ORGANIZER;CN="City of Del City":MAILTO:info@cityofdelcity.org
END:VEVENT
BEGIN:VEVENT
DTSTART;TZID=America/Chicago:20261221T141500
DTEND;TZID=America/Chicago:20261221T151500
DTSTAMP:20260424T080642
CREATED:20251014T193852Z
LAST-MODIFIED:20260126T131653Z
UID:10003352-1797862500-1797866100@cityofdelcity.gov
SUMMARY:Forever Well\, Steady\, & Strong
DESCRIPTION:Mondays and Wednesdays\, from 2:15PM – 3:15PM\, YMCA Forever Well Steady & Strong. Senior focused fitness class that builds strength\, balance\, and flexibility through standing or chair supported exercises.
URL:https://cityofdelcity.gov/event/chair-based-strength-class-hosted-by-the-ymca-2/2026-12-21/
LOCATION:Del City Community Center\, 4505 SE 15th St.\, Del City\, 73115\, United States
ATTACH;FMTTYPE=image/png:https://cityofdelcity.gov/wp-content/uploads/2025/10/FOREVER-WELL-STEADY-STRONG.png
END:VEVENT
BEGIN:VEVENT
DTSTART;TZID=America/Chicago:20261221T130000
DTEND;TZID=America/Chicago:20261221T140000
DTSTAMP:20260424T080642
CREATED:20251121T161409Z
LAST-MODIFIED:20260126T131616Z
UID:10004605-1797858000-1797861600@cityofdelcity.gov
SUMMARY:TAI CHI
DESCRIPTION:Mondays and Wednesdays\, from 1pm – 2pm. YMCA Tai Chi: Moving for Better Balance. Learning balance skills\, proper body alignment\, and coordinated Tai Chi movements.
URL:https://cityofdelcity.gov/event/tai-chi/2026-12-21/
LOCATION:Del City Community Center\, 4505 SE 15th St.\, Del City\, 73115\, United States
ATTACH;FMTTYPE=image/png:https://cityofdelcity.gov/wp-content/uploads/2025/11/TAI-CHI.png
END:VEVENT
BEGIN:VEVENT
DTSTART;TZID=America/Chicago:20261221T104500
DTEND;TZID=America/Chicago:20261221T114500
DTSTAMP:20260424T080642
CREATED:20260310T191458Z
LAST-MODIFIED:20260310T191459Z
UID:10003935-1797849900-1797853500@cityofdelcity.gov
SUMMARY:S.A.I.L
DESCRIPTION:Mondays\, Wednesdays\, Fridays\, beginning Dec 1st\, 2025. 10:45AM-11:45AM YMCA – S.A.I.L. (Staying Active and Independent for Life) Strength\, Balance\, and Fitness Program.
URL:https://cityofdelcity.gov/event/s-a-i-l-2-2/2026-12-21/
LOCATION:Del City Community Center\, 4505 SE 15th St.\, Del City\, 73115\, United States
ATTACH;FMTTYPE=image/png:https://cityofdelcity.gov/wp-content/uploads/2025/11/S.A.I.L.png
END:VEVENT
BEGIN:VEVENT
DTSTART;VALUE=DATE:20261221
DTEND;VALUE=DATE:20261226
DTSTAMP:20260424T080642
CREATED:20250630T164449Z
LAST-MODIFIED:20250630T165651Z
UID:10001614-1797811200-1798243199@cityofdelcity.gov
SUMMARY:Ward 3 Bulk Trash - Pickup Week
DESCRIPTION:***Bulk Trash must be placed at the curb by the Monday of your pickup week at 6 AM. If the Monday of your scheduled Bulk Trash Week falls on a federal holiday\, Sanitation will continue with pickup the next business day. Expect possible delays as Sanitation resumes its schedule. \nFor more information on Bulk Trash\, click here or visit www.cityofdelcity.gov/bulk-trash. \n 
URL:https://cityofdelcity.gov/event/ward-3-bulk-trash-pickup-week/2026-12-21/
LOCATION:Del City\, OK\, 73115\, United States
ORGANIZER;CN="City of Del City":MAILTO:info@cityofdelcity.org
END:VEVENT
BEGIN:VEVENT
DTSTART;TZID=America/Chicago:20261218T104500
DTEND;TZID=America/Chicago:20261218T114500
DTSTAMP:20260424T080642
CREATED:20260310T191458Z
LAST-MODIFIED:20260310T191459Z
UID:10003934-1797590700-1797594300@cityofdelcity.gov
SUMMARY:S.A.I.L
DESCRIPTION:Mondays\, Wednesdays\, Fridays\, beginning Dec 1st\, 2025. 10:45AM-11:45AM YMCA – S.A.I.L. (Staying Active and Independent for Life) Strength\, Balance\, and Fitness Program.
URL:https://cityofdelcity.gov/event/s-a-i-l-2-2/2026-12-18/
LOCATION:Del City Community Center\, 4505 SE 15th St.\, Del City\, 73115\, United States
ATTACH;FMTTYPE=image/png:https://cityofdelcity.gov/wp-content/uploads/2025/11/S.A.I.L.png
END:VEVENT
BEGIN:VEVENT
DTSTART;TZID=America/Chicago:20261217T190000
DTEND;TZID=America/Chicago:20261217T200000
DTSTAMP:20260424T080642
CREATED:20250611T164803Z
LAST-MODIFIED:20260227T164505Z
UID:10001271-1797534000-1797537600@cityofdelcity.gov
SUMMARY:Del North Neighborhood Watch Meeting
DESCRIPTION:Click here for more on the Del North Neighborhood Watch Association.
URL:https://cityofdelcity.gov/event/del-north-neighborhood-watch-meeting-3/2026-12-17/
LOCATION:Del City Community Center\, 4505 SE 15th St.\, Del City\, 73115\, United States
ATTACH;FMTTYPE=image/png:https://cityofdelcity.gov/wp-content/uploads/2025/06/DEL-CITY-NORTH-IMG.png
ORGANIZER;CN="Del North Neighborhood Watch Association":MAILTO:skluge9396@cox.net
END:VEVENT
BEGIN:VEVENT
DTSTART;TZID=America/Chicago:20261217T093000
DTEND;TZID=America/Chicago:20261217T123000
DTSTAMP:20260424T080642
CREATED:20260413T214135Z
LAST-MODIFIED:20260422T201409Z
UID:10002787-1797499800-1797510600@cityofdelcity.gov
SUMMARY:Del City Crafters hosted by Diane
DESCRIPTION:This is a craft and quilting class for all ages and skill levels. Contact Diane at (405)677-1821 for information. \n***Space is limited***
URL:https://cityofdelcity.gov/event/del-city-crafters-hosted-by-diane-3/2026-12-17/
LOCATION:Del City Community Center\, 4505 SE 15th St.\, Del City\, 73115\, United States
ATTACH;FMTTYPE=image/jpeg:https://cityofdelcity.gov/wp-content/uploads/2026/04/IMG_3565-2-scaled.jpeg
END:VEVENT
END:VCALENDAR