BEGIN:VCALENDAR
VERSION:2.0
PRODID:-//The City of Del City - ECPv6.15.20//NONSGML v1.0//EN
CALSCALE:GREGORIAN
METHOD:PUBLISH
X-ORIGINAL-URL:https://cityofdelcity.gov
X-WR-CALDESC:Events for The City of Del City
REFRESH-INTERVAL;VALUE=DURATION:PT1H
X-Robots-Tag:noindex
X-PUBLISHED-TTL:PT1H
BEGIN:VTIMEZONE
TZID:America/Chicago
BEGIN:DAYLIGHT
TZOFFSETFROM:-0600
TZOFFSETTO:-0500
TZNAME:CDT
DTSTART:20290311T080000
END:DAYLIGHT
BEGIN:STANDARD
TZOFFSETFROM:-0500
TZOFFSETTO:-0600
TZNAME:CST
DTSTART:20291104T070000
END:STANDARD
BEGIN:DAYLIGHT
TZOFFSETFROM:-0600
TZOFFSETTO:-0500
TZNAME:CDT
DTSTART:20300310T080000
END:DAYLIGHT
BEGIN:STANDARD
TZOFFSETFROM:-0500
TZOFFSETTO:-0600
TZNAME:CST
DTSTART:20301103T070000
END:STANDARD
BEGIN:DAYLIGHT
TZOFFSETFROM:-0600
TZOFFSETTO:-0500
TZNAME:CDT
DTSTART:20310309T080000
END:DAYLIGHT
BEGIN:STANDARD
TZOFFSETFROM:-0500
TZOFFSETTO:-0600
TZNAME:CST
DTSTART:20311102T070000
END:STANDARD
END:VTIMEZONE
BEGIN:VTIMEZONE
TZID:UTC
BEGIN:STANDARD
TZOFFSETFROM:+0000
TZOFFSETTO:+0000
TZNAME:UTC
DTSTART:20290101T000000
END:STANDARD
END:VTIMEZONE
BEGIN:VEVENT
DTSTART;TZID=America/Chicago:20300905T093000
DTEND;TZID=America/Chicago:20300905T123000
DTSTAMP:20260423T173258
CREATED:20260413T214135Z
LAST-MODIFIED:20260422T201409Z
UID:10002981-1914831000-1914841800@cityofdelcity.gov
SUMMARY:Del City Crafters hosted by Diane
DESCRIPTION:This is a craft and quilting class for all ages and skill levels. Contact Diane at (405)677-1821 for information. \n***Space is limited***
URL:https://cityofdelcity.gov/event/del-city-crafters-hosted-by-diane-3/2030-09-05/
LOCATION:Del City Community Center\, 4505 SE 15th St.\, Del City\, 73115\, United States
ATTACH;FMTTYPE=image/jpeg:https://cityofdelcity.gov/wp-content/uploads/2026/04/IMG_3565-2-scaled.jpeg
END:VEVENT
BEGIN:VEVENT
DTSTART;TZID=America/Chicago:20300905T100000
DTEND;TZID=America/Chicago:20300905T110000
DTSTAMP:20260423T173258
CREATED:20250611T170613Z
LAST-MODIFIED:20251125T191434Z
UID:10005208-1914832800-1914836400@cityofdelcity.gov
SUMMARY:S.A.L.T - Seniors and Law Enforcement Together
DESCRIPTION:This is a FREE Community Service program provided by the OK County Sheriff’s Office and the Del City Police Dept that focuses on senior safety\, education\, and crime prevention. Class is held at the Community Center on the first Thursday of each month at 10AM. Contact Tara Hardin @ 405-869-2555 for more information.
URL:https://cityofdelcity.gov/event/s-a-l-t-seniors-and-law-enforcement-together/2030-09-05/
LOCATION:Del City Community Center\, 4505 SE 15th St.\, Del City\, 73115\, United States
ORGANIZER;CN="Oklahoma County Sheriff's Office":MAILTO:tara.hardin@oklahomacounty.org
END:VEVENT
BEGIN:VEVENT
DTSTART;TZID=America/Chicago:20300906T104500
DTEND;TZID=America/Chicago:20300906T114500
DTSTAMP:20260423T173258
CREATED:20260310T191458Z
LAST-MODIFIED:20260310T191459Z
UID:10004516-1914921900-1914925500@cityofdelcity.gov
SUMMARY:S.A.I.L
DESCRIPTION:Mondays\, Wednesdays\, Fridays\, beginning Dec 1st\, 2025. 10:45AM-11:45AM YMCA – S.A.I.L. (Staying Active and Independent for Life) Strength\, Balance\, and Fitness Program.
URL:https://cityofdelcity.gov/event/s-a-i-l-2-2/2030-09-06/
LOCATION:Del City Community Center\, 4505 SE 15th St.\, Del City\, 73115\, United States
ATTACH;FMTTYPE=image/png:https://cityofdelcity.gov/wp-content/uploads/2025/11/S.A.I.L.png
END:VEVENT
BEGIN:VEVENT
DTSTART;TZID=America/Chicago:20300907T090000
DTEND;TZID=America/Chicago:20300907T220000
DTSTAMP:20260423T173258
CREATED:20260423T153837Z
LAST-MODIFIED:20260423T154343Z
UID:10006030-1915002000-1915048800@cityofdelcity.gov
SUMMARY:"First Saturday Health Walk" w/ Del City Rotary
DESCRIPTION:Join Rotary for their “First Saturday Health Walk” along Del Rd. & Glenn Ave.\, where history and community come together. \n Start Location: Rotary Park – 3698 Del Rd\, Del City\, OK 73115 (Next to Epperly Heights Elementary) Time: 9:00 AM\n\nEnjoy a morning of:• Health and wellness• Local history and storytelling• Fun trivia along the route• Fellowship with the community\n\nWhether you’re coming for the exercise\, the history\, or just to connect with others\, there’s something here for everyone.\n\nQuestions?\nPhone: (405)650-5464 or (405)316-0479 | Email: lhopper572@gmail.com
URL:https://cityofdelcity.gov/event/first-saturday-health-walk-w-del-city-rotary/2030-09-07/
LOCATION:Dignity Event Center\, 3900 SE 29th\, Del City\, OK\, 73115\, United States
ATTACH;FMTTYPE=image/svg+xml:https://cityofdelcity.gov/wp-content/uploads/2026/04/rotary-logo-color-2019-simplified.svg
END:VEVENT
BEGIN:VEVENT
DTSTART;TZID=America/Chicago:20300909T104500
DTEND;TZID=America/Chicago:20300909T114500
DTSTAMP:20260423T173258
CREATED:20260310T191458Z
LAST-MODIFIED:20260310T191459Z
UID:10004517-1915181100-1915184700@cityofdelcity.gov
SUMMARY:S.A.I.L
DESCRIPTION:Mondays\, Wednesdays\, Fridays\, beginning Dec 1st\, 2025. 10:45AM-11:45AM YMCA – S.A.I.L. (Staying Active and Independent for Life) Strength\, Balance\, and Fitness Program.
URL:https://cityofdelcity.gov/event/s-a-i-l-2-2/2030-09-09/
LOCATION:Del City Community Center\, 4505 SE 15th St.\, Del City\, 73115\, United States
ATTACH;FMTTYPE=image/png:https://cityofdelcity.gov/wp-content/uploads/2025/11/S.A.I.L.png
END:VEVENT
BEGIN:VEVENT
DTSTART;TZID=America/Chicago:20300909T130000
DTEND;TZID=America/Chicago:20300909T140000
DTSTAMP:20260423T173258
CREATED:20251121T161409Z
LAST-MODIFIED:20260126T131616Z
UID:10004799-1915189200-1915192800@cityofdelcity.gov
SUMMARY:TAI CHI
DESCRIPTION:Mondays and Wednesdays\, from 1pm – 2pm. YMCA Tai Chi: Moving for Better Balance. Learning balance skills\, proper body alignment\, and coordinated Tai Chi movements.
URL:https://cityofdelcity.gov/event/tai-chi/2030-09-09/
LOCATION:Del City Community Center\, 4505 SE 15th St.\, Del City\, 73115\, United States
ATTACH;FMTTYPE=image/png:https://cityofdelcity.gov/wp-content/uploads/2025/11/TAI-CHI.png
END:VEVENT
BEGIN:VEVENT
DTSTART;TZID=America/Chicago:20300909T141500
DTEND;TZID=America/Chicago:20300909T151500
DTSTAMP:20260423T173258
CREATED:20251014T193852Z
LAST-MODIFIED:20260126T131653Z
UID:10003740-1915193700-1915197300@cityofdelcity.gov
SUMMARY:Forever Well\, Steady\, & Strong
DESCRIPTION:Mondays and Wednesdays\, from 2:15PM – 3:15PM\, YMCA Forever Well Steady & Strong. Senior focused fitness class that builds strength\, balance\, and flexibility through standing or chair supported exercises.
URL:https://cityofdelcity.gov/event/chair-based-strength-class-hosted-by-the-ymca-2/2030-09-09/
LOCATION:Del City Community Center\, 4505 SE 15th St.\, Del City\, 73115\, United States
ATTACH;FMTTYPE=image/png:https://cityofdelcity.gov/wp-content/uploads/2025/10/FOREVER-WELL-STEADY-STRONG.png
END:VEVENT
BEGIN:VEVENT
DTSTART;TZID=UTC:20300909T180000
DTEND;TZID=UTC:20300909T200000
DTSTAMP:20260423T173258
CREATED:20250125T015432Z
LAST-MODIFIED:20251124T223623Z
UID:10004877-1915207200-1915214400@cityofdelcity.gov
SUMMARY:Board of Adjustment Meeting
DESCRIPTION:
URL:https://cityofdelcity.gov/event/board-of-adjustment-meeting-4-2-2/2030-09-09/
LOCATION:Council Chambers at City Hall\, 3701 SE 15th St\, Del City\, 73115\, United States
ATTACH;FMTTYPE=image/jpeg:https://cityofdelcity.gov/wp-content/uploads/2024/11/00B_Del-City_MASTER_City-Hall.jpg
ORGANIZER;CN="City of Del City":MAILTO:info@cityofdelcity.org
END:VEVENT
BEGIN:VEVENT
DTSTART;TZID=UTC:20300909T190000
DTEND;TZID=UTC:20300909T200000
DTSTAMP:20260423T173258
CREATED:20250108T223354Z
LAST-MODIFIED:20260227T164813Z
UID:10005584-1915210800-1915214400@cityofdelcity.gov
SUMMARY:Del Aire Neighborhood Watch
DESCRIPTION:Contact:\n\n\n\n\n\n\n\n\n Website \n Facebook \n Neighborhood Map
URL:https://cityofdelcity.gov/event/del-aire-neighborhood-watch/2030-09-09/
LOCATION:Calvary Christian Church Youth Center\, 3900 Epperly Dr\, Del City\, 73115\, United States
ATTACH;FMTTYPE=image/png:https://cityofdelcity.gov/wp-content/uploads/2025/01/DEL-AIRE-IMG.png
END:VEVENT
BEGIN:VEVENT
DTSTART;TZID=America/Chicago:20300910T200000
DTEND;TZID=America/Chicago:20300910T210000
DTSTAMP:20260423T173258
CREATED:20260423T145307Z
LAST-MODIFIED:20260423T154413Z
UID:10005944-1915300800-1915304400@cityofdelcity.gov
SUMMARY:Del City Rotary Meeting
DESCRIPTION:Join us at the Rotary Club of Del City!\n\n\n\nWe meet every Tuesday at 8:00 AM at the Dignity Event Center\, located at 3900 SE 29th\, Del City\, OK 73115. Rotary is a place where community leaders come together to build friendships\, serve others\, and make a positive impact locally and around the world. If you’re interested in service\, networking\, and connecting with others who care about the community\, we’d love to have you join us for a meeting!\n\n\n\n\n\n\nQuestions?\nPhone: (405)650-5464 or (405)316-0479 | Email: lhopper572@gmail.com
URL:https://cityofdelcity.gov/event/rotary-meeting/2030-09-10/
LOCATION:Dignity Event Center\, 3900 SE 29th\, Del City\, OK\, 73115\, United States
ATTACH;FMTTYPE=image/svg+xml:https://cityofdelcity.gov/wp-content/uploads/2026/04/rotary-logo-color-2019-simplified.svg
END:VEVENT
BEGIN:VEVENT
DTSTART;TZID=America/Chicago:20300911T104500
DTEND;TZID=America/Chicago:20300911T114500
DTSTAMP:20260423T173258
CREATED:20260310T191458Z
LAST-MODIFIED:20260310T191459Z
UID:10004518-1915353900-1915357500@cityofdelcity.gov
SUMMARY:S.A.I.L
DESCRIPTION:Mondays\, Wednesdays\, Fridays\, beginning Dec 1st\, 2025. 10:45AM-11:45AM YMCA – S.A.I.L. (Staying Active and Independent for Life) Strength\, Balance\, and Fitness Program.
URL:https://cityofdelcity.gov/event/s-a-i-l-2-2/2030-09-11/
LOCATION:Del City Community Center\, 4505 SE 15th St.\, Del City\, 73115\, United States
ATTACH;FMTTYPE=image/png:https://cityofdelcity.gov/wp-content/uploads/2025/11/S.A.I.L.png
END:VEVENT
BEGIN:VEVENT
DTSTART;TZID=America/Chicago:20300911T130000
DTEND;TZID=America/Chicago:20300911T140000
DTSTAMP:20260423T173258
CREATED:20251121T161409Z
LAST-MODIFIED:20260126T131616Z
UID:10004800-1915362000-1915365600@cityofdelcity.gov
SUMMARY:TAI CHI
DESCRIPTION:Mondays and Wednesdays\, from 1pm – 2pm. YMCA Tai Chi: Moving for Better Balance. Learning balance skills\, proper body alignment\, and coordinated Tai Chi movements.
URL:https://cityofdelcity.gov/event/tai-chi/2030-09-11/
LOCATION:Del City Community Center\, 4505 SE 15th St.\, Del City\, 73115\, United States
ATTACH;FMTTYPE=image/png:https://cityofdelcity.gov/wp-content/uploads/2025/11/TAI-CHI.png
END:VEVENT
BEGIN:VEVENT
DTSTART;TZID=America/Chicago:20300911T141500
DTEND;TZID=America/Chicago:20300911T151500
DTSTAMP:20260423T173258
CREATED:20251014T193852Z
LAST-MODIFIED:20260126T131653Z
UID:10003741-1915366500-1915370100@cityofdelcity.gov
SUMMARY:Forever Well\, Steady\, & Strong
DESCRIPTION:Mondays and Wednesdays\, from 2:15PM – 3:15PM\, YMCA Forever Well Steady & Strong. Senior focused fitness class that builds strength\, balance\, and flexibility through standing or chair supported exercises.
URL:https://cityofdelcity.gov/event/chair-based-strength-class-hosted-by-the-ymca-2/2030-09-11/
LOCATION:Del City Community Center\, 4505 SE 15th St.\, Del City\, 73115\, United States
ATTACH;FMTTYPE=image/png:https://cityofdelcity.gov/wp-content/uploads/2025/10/FOREVER-WELL-STEADY-STRONG.png
END:VEVENT
BEGIN:VEVENT
DTSTART;TZID=America/Chicago:20300912T093000
DTEND;TZID=America/Chicago:20300912T123000
DTSTAMP:20260423T173258
CREATED:20260413T214135Z
LAST-MODIFIED:20260422T201409Z
UID:10002982-1915435800-1915446600@cityofdelcity.gov
SUMMARY:Del City Crafters hosted by Diane
DESCRIPTION:This is a craft and quilting class for all ages and skill levels. Contact Diane at (405)677-1821 for information. \n***Space is limited***
URL:https://cityofdelcity.gov/event/del-city-crafters-hosted-by-diane-3/2030-09-12/
LOCATION:Del City Community Center\, 4505 SE 15th St.\, Del City\, 73115\, United States
ATTACH;FMTTYPE=image/jpeg:https://cityofdelcity.gov/wp-content/uploads/2026/04/IMG_3565-2-scaled.jpeg
END:VEVENT
BEGIN:VEVENT
DTSTART;TZID=America/Chicago:20300912T190000
DTEND;TZID=America/Chicago:20300912T200000
DTSTAMP:20260423T173258
CREATED:20260227T163144Z
LAST-MODIFIED:20260309T133111Z
UID:10005661-1915470000-1915473600@cityofdelcity.gov
SUMMARY:Olde Towne Neighborhood Watch
DESCRIPTION:
URL:https://cityofdelcity.gov/event/olde-towne-neighborhood-watch/2030-09-12/
LOCATION:Del City Community Center\, 4505 SE 15th St.\, Del City\, 73115\, United States
ATTACH;FMTTYPE=image/png:https://cityofdelcity.gov/wp-content/uploads/2026/02/OLDE-TOWNE-IMG.png
END:VEVENT
BEGIN:VEVENT
DTSTART;TZID=America/Chicago:20300913T104500
DTEND;TZID=America/Chicago:20300913T114500
DTSTAMP:20260423T173258
CREATED:20260310T191458Z
LAST-MODIFIED:20260310T191459Z
UID:10004519-1915526700-1915530300@cityofdelcity.gov
SUMMARY:S.A.I.L
DESCRIPTION:Mondays\, Wednesdays\, Fridays\, beginning Dec 1st\, 2025. 10:45AM-11:45AM YMCA – S.A.I.L. (Staying Active and Independent for Life) Strength\, Balance\, and Fitness Program.
URL:https://cityofdelcity.gov/event/s-a-i-l-2-2/2030-09-13/
LOCATION:Del City Community Center\, 4505 SE 15th St.\, Del City\, 73115\, United States
ATTACH;FMTTYPE=image/png:https://cityofdelcity.gov/wp-content/uploads/2025/11/S.A.I.L.png
END:VEVENT
BEGIN:VEVENT
DTSTART;TZID=America/Chicago:20300916T104500
DTEND;TZID=America/Chicago:20300916T114500
DTSTAMP:20260423T173258
CREATED:20260310T191458Z
LAST-MODIFIED:20260310T191459Z
UID:10004520-1915785900-1915789500@cityofdelcity.gov
SUMMARY:S.A.I.L
DESCRIPTION:Mondays\, Wednesdays\, Fridays\, beginning Dec 1st\, 2025. 10:45AM-11:45AM YMCA – S.A.I.L. (Staying Active and Independent for Life) Strength\, Balance\, and Fitness Program.
URL:https://cityofdelcity.gov/event/s-a-i-l-2-2/2030-09-16/
LOCATION:Del City Community Center\, 4505 SE 15th St.\, Del City\, 73115\, United States
ATTACH;FMTTYPE=image/png:https://cityofdelcity.gov/wp-content/uploads/2025/11/S.A.I.L.png
END:VEVENT
BEGIN:VEVENT
DTSTART;TZID=America/Chicago:20300916T130000
DTEND;TZID=America/Chicago:20300916T140000
DTSTAMP:20260423T173258
CREATED:20251121T161409Z
LAST-MODIFIED:20260126T131616Z
UID:10005134-1915794000-1915797600@cityofdelcity.gov
SUMMARY:TAI CHI
DESCRIPTION:Mondays and Wednesdays\, from 1pm – 2pm. YMCA Tai Chi: Moving for Better Balance. Learning balance skills\, proper body alignment\, and coordinated Tai Chi movements.
URL:https://cityofdelcity.gov/event/tai-chi/2030-09-16/
LOCATION:Del City Community Center\, 4505 SE 15th St.\, Del City\, 73115\, United States
ATTACH;FMTTYPE=image/png:https://cityofdelcity.gov/wp-content/uploads/2025/11/TAI-CHI.png
END:VEVENT
BEGIN:VEVENT
DTSTART;TZID=America/Chicago:20300916T141500
DTEND;TZID=America/Chicago:20300916T151500
DTSTAMP:20260423T173258
CREATED:20251014T193852Z
LAST-MODIFIED:20260126T131653Z
UID:10003742-1915798500-1915802100@cityofdelcity.gov
SUMMARY:Forever Well\, Steady\, & Strong
DESCRIPTION:Mondays and Wednesdays\, from 2:15PM – 3:15PM\, YMCA Forever Well Steady & Strong. Senior focused fitness class that builds strength\, balance\, and flexibility through standing or chair supported exercises.
URL:https://cityofdelcity.gov/event/chair-based-strength-class-hosted-by-the-ymca-2/2030-09-16/
LOCATION:Del City Community Center\, 4505 SE 15th St.\, Del City\, 73115\, United States
ATTACH;FMTTYPE=image/png:https://cityofdelcity.gov/wp-content/uploads/2025/10/FOREVER-WELL-STEADY-STRONG.png
END:VEVENT
BEGIN:VEVENT
DTSTART;TZID=UTC:20300916T180000
DTEND;TZID=UTC:20300916T200000
DTSTAMP:20260423T173258
CREATED:20250124T230429Z
LAST-MODIFIED:20260407T161521Z
UID:10004845-1915812000-1915819200@cityofdelcity.gov
SUMMARY:City Council Meeting
DESCRIPTION:
URL:https://cityofdelcity.gov/event/city-council-meeting-8/2030-09-16/
LOCATION:Council Chambers at City Hall\, 3701 SE 15th St\, Del City\, 73115\, United States
ATTACH;FMTTYPE=image/jpeg:https://cityofdelcity.gov/wp-content/uploads/2024/07/Council-Chambers-2-stock-e1749646917966.jpg
ORGANIZER;CN="City of Del City":MAILTO:info@cityofdelcity.org
END:VEVENT
BEGIN:VEVENT
DTSTART;TZID=UTC:20300917T190000
DTEND;TZID=UTC:20300917T200000
DTSTAMP:20260423T173258
CREATED:20250124T222142Z
LAST-MODIFIED:20260227T164256Z
UID:10005549-1915902000-1915905600@cityofdelcity.gov
SUMMARY:Midway Village Neighborhood Watch Meeting
DESCRIPTION:
URL:https://cityofdelcity.gov/event/midway-village-neighborhood-watch-meeting-3/2030-09-17/
LOCATION:Midway Village Baptist Church\, 4101 Thomas Dr\, Del City\, OK\, 73115\, United States
ATTACH;FMTTYPE=image/png:https://cityofdelcity.gov/wp-content/uploads/2025/01/MIDWAY-IMG.png
END:VEVENT
BEGIN:VEVENT
DTSTART;TZID=America/Chicago:20300917T200000
DTEND;TZID=America/Chicago:20300917T210000
DTSTAMP:20260423T173258
CREATED:20260423T145307Z
LAST-MODIFIED:20260423T154413Z
UID:10005945-1915905600-1915909200@cityofdelcity.gov
SUMMARY:Del City Rotary Meeting
DESCRIPTION:Join us at the Rotary Club of Del City!\n\n\n\nWe meet every Tuesday at 8:00 AM at the Dignity Event Center\, located at 3900 SE 29th\, Del City\, OK 73115. Rotary is a place where community leaders come together to build friendships\, serve others\, and make a positive impact locally and around the world. If you’re interested in service\, networking\, and connecting with others who care about the community\, we’d love to have you join us for a meeting!\n\n\n\n\n\n\nQuestions?\nPhone: (405)650-5464 or (405)316-0479 | Email: lhopper572@gmail.com
URL:https://cityofdelcity.gov/event/rotary-meeting/2030-09-17/
LOCATION:Dignity Event Center\, 3900 SE 29th\, Del City\, OK\, 73115\, United States
ATTACH;FMTTYPE=image/svg+xml:https://cityofdelcity.gov/wp-content/uploads/2026/04/rotary-logo-color-2019-simplified.svg
END:VEVENT
BEGIN:VEVENT
DTSTART;TZID=America/Chicago:20300918T104500
DTEND;TZID=America/Chicago:20300918T114500
DTSTAMP:20260423T173258
CREATED:20260310T191458Z
LAST-MODIFIED:20260310T191459Z
UID:10004521-1915958700-1915962300@cityofdelcity.gov
SUMMARY:S.A.I.L
DESCRIPTION:Mondays\, Wednesdays\, Fridays\, beginning Dec 1st\, 2025. 10:45AM-11:45AM YMCA – S.A.I.L. (Staying Active and Independent for Life) Strength\, Balance\, and Fitness Program.
URL:https://cityofdelcity.gov/event/s-a-i-l-2-2/2030-09-18/
LOCATION:Del City Community Center\, 4505 SE 15th St.\, Del City\, 73115\, United States
ATTACH;FMTTYPE=image/png:https://cityofdelcity.gov/wp-content/uploads/2025/11/S.A.I.L.png
END:VEVENT
BEGIN:VEVENT
DTSTART;TZID=America/Chicago:20300918T113000
DTEND;TZID=America/Chicago:20300918T130000
DTSTAMP:20260423T173258
CREATED:20250611T170019Z
LAST-MODIFIED:20260303T204921Z
UID:10005593-1915961400-1915966800@cityofdelcity.gov
SUMMARY:Del City Kiwanis Club Meeting
DESCRIPTION:Click here for more information on the Kiwanis Club.
URL:https://cityofdelcity.gov/event/del-city-kiwanis-club-meeting-2/2030-09-18/
LOCATION:Del City Community Center\, 4505 SE 15th St.\, Del City\, 73115\, United States
ATTACH;FMTTYPE=image/webp:https://cityofdelcity.gov/wp-content/uploads/2025/06/Kiwanis-Logo.webp
END:VEVENT
BEGIN:VEVENT
DTSTART;TZID=America/Chicago:20300918T130000
DTEND;TZID=America/Chicago:20300918T140000
DTSTAMP:20260423T173258
CREATED:20251121T161409Z
LAST-MODIFIED:20260126T131616Z
UID:10005135-1915966800-1915970400@cityofdelcity.gov
SUMMARY:TAI CHI
DESCRIPTION:Mondays and Wednesdays\, from 1pm – 2pm. YMCA Tai Chi: Moving for Better Balance. Learning balance skills\, proper body alignment\, and coordinated Tai Chi movements.
URL:https://cityofdelcity.gov/event/tai-chi/2030-09-18/
LOCATION:Del City Community Center\, 4505 SE 15th St.\, Del City\, 73115\, United States
ATTACH;FMTTYPE=image/png:https://cityofdelcity.gov/wp-content/uploads/2025/11/TAI-CHI.png
END:VEVENT
BEGIN:VEVENT
DTSTART;TZID=America/Chicago:20300918T141500
DTEND;TZID=America/Chicago:20300918T151500
DTSTAMP:20260423T173258
CREATED:20251014T193852Z
LAST-MODIFIED:20260126T131653Z
UID:10003743-1915971300-1915974900@cityofdelcity.gov
SUMMARY:Forever Well\, Steady\, & Strong
DESCRIPTION:Mondays and Wednesdays\, from 2:15PM – 3:15PM\, YMCA Forever Well Steady & Strong. Senior focused fitness class that builds strength\, balance\, and flexibility through standing or chair supported exercises.
URL:https://cityofdelcity.gov/event/chair-based-strength-class-hosted-by-the-ymca-2/2030-09-18/
LOCATION:Del City Community Center\, 4505 SE 15th St.\, Del City\, 73115\, United States
ATTACH;FMTTYPE=image/png:https://cityofdelcity.gov/wp-content/uploads/2025/10/FOREVER-WELL-STEADY-STRONG.png
END:VEVENT
BEGIN:VEVENT
DTSTART;TZID=America/Chicago:20300919T093000
DTEND;TZID=America/Chicago:20300919T123000
DTSTAMP:20260423T173258
CREATED:20260413T214135Z
LAST-MODIFIED:20260422T201409Z
UID:10002983-1916040600-1916051400@cityofdelcity.gov
SUMMARY:Del City Crafters hosted by Diane
DESCRIPTION:This is a craft and quilting class for all ages and skill levels. Contact Diane at (405)677-1821 for information. \n***Space is limited***
URL:https://cityofdelcity.gov/event/del-city-crafters-hosted-by-diane-3/2030-09-19/
LOCATION:Del City Community Center\, 4505 SE 15th St.\, Del City\, 73115\, United States
ATTACH;FMTTYPE=image/jpeg:https://cityofdelcity.gov/wp-content/uploads/2026/04/IMG_3565-2-scaled.jpeg
END:VEVENT
BEGIN:VEVENT
DTSTART;TZID=America/Chicago:20300919T190000
DTEND;TZID=America/Chicago:20300919T200000
DTSTAMP:20260423T173258
CREATED:20250611T164803Z
LAST-MODIFIED:20260227T164505Z
UID:10005558-1916074800-1916078400@cityofdelcity.gov
SUMMARY:Del North Neighborhood Watch Meeting
DESCRIPTION:Click here for more on the Del North Neighborhood Watch Association.
URL:https://cityofdelcity.gov/event/del-north-neighborhood-watch-meeting-3/2030-09-19/
LOCATION:Del City Community Center\, 4505 SE 15th St.\, Del City\, 73115\, United States
ATTACH;FMTTYPE=image/png:https://cityofdelcity.gov/wp-content/uploads/2025/06/DEL-CITY-NORTH-IMG.png
ORGANIZER;CN="Del North Neighborhood Watch Association":MAILTO:skluge9396@cox.net
END:VEVENT
BEGIN:VEVENT
DTSTART;TZID=America/Chicago:20300920T104500
DTEND;TZID=America/Chicago:20300920T114500
DTSTAMP:20260423T173258
CREATED:20260310T191458Z
LAST-MODIFIED:20260310T191459Z
UID:10004522-1916131500-1916135100@cityofdelcity.gov
SUMMARY:S.A.I.L
DESCRIPTION:Mondays\, Wednesdays\, Fridays\, beginning Dec 1st\, 2025. 10:45AM-11:45AM YMCA – S.A.I.L. (Staying Active and Independent for Life) Strength\, Balance\, and Fitness Program.
URL:https://cityofdelcity.gov/event/s-a-i-l-2-2/2030-09-20/
LOCATION:Del City Community Center\, 4505 SE 15th St.\, Del City\, 73115\, United States
ATTACH;FMTTYPE=image/png:https://cityofdelcity.gov/wp-content/uploads/2025/11/S.A.I.L.png
END:VEVENT
BEGIN:VEVENT
DTSTART;VALUE=DATE:20300923
DTEND;VALUE=DATE:20300928
DTSTAMP:20260423T173258
CREATED:20250630T164628Z
LAST-MODIFIED:20250630T165736Z
UID:10005352-1916352000-1916783999@cityofdelcity.gov
SUMMARY:Ward 4 Bulk Trash - Pickup Week
DESCRIPTION:***Bulk Trash must be placed at the curb by the Monday of your pickup week at 6 AM. If the Monday of your scheduled Bulk Trash Week falls on a federal holiday\, Sanitation will continue with pickup the next business day. Expect possible delays as Sanitation resumes its schedule. \nFor more information on Bulk Trash\, click here or visit www.cityofdelcity.gov/bulk-trash. \n 
URL:https://cityofdelcity.gov/event/ward-4-bulk-trash-pickup-week/2030-09-23/
LOCATION:Del City\, OK\, 73115\, United States
ORGANIZER;CN="City of Del City":MAILTO:info@cityofdelcity.org
END:VEVENT
END:VCALENDAR