BEGIN:VCALENDAR
VERSION:2.0
PRODID:-//The City of Del City - ECPv6.15.20//NONSGML v1.0//EN
CALSCALE:GREGORIAN
METHOD:PUBLISH
X-ORIGINAL-URL:https://cityofdelcity.gov
X-WR-CALDESC:Events for The City of Del City
REFRESH-INTERVAL;VALUE=DURATION:PT1H
X-Robots-Tag:noindex
X-PUBLISHED-TTL:PT1H
BEGIN:VTIMEZONE
TZID:America/Chicago
BEGIN:DAYLIGHT
TZOFFSETFROM:-0600
TZOFFSETTO:-0500
TZNAME:CDT
DTSTART:20250309T080000
END:DAYLIGHT
BEGIN:STANDARD
TZOFFSETFROM:-0500
TZOFFSETTO:-0600
TZNAME:CST
DTSTART:20251102T070000
END:STANDARD
BEGIN:DAYLIGHT
TZOFFSETFROM:-0600
TZOFFSETTO:-0500
TZNAME:CDT
DTSTART:20260308T080000
END:DAYLIGHT
BEGIN:STANDARD
TZOFFSETFROM:-0500
TZOFFSETTO:-0600
TZNAME:CST
DTSTART:20261101T070000
END:STANDARD
BEGIN:DAYLIGHT
TZOFFSETFROM:-0600
TZOFFSETTO:-0500
TZNAME:CDT
DTSTART:20270314T080000
END:DAYLIGHT
BEGIN:STANDARD
TZOFFSETFROM:-0500
TZOFFSETTO:-0600
TZNAME:CST
DTSTART:20271107T070000
END:STANDARD
END:VTIMEZONE
BEGIN:VTIMEZONE
TZID:UTC
BEGIN:STANDARD
TZOFFSETFROM:+0000
TZOFFSETTO:+0000
TZNAME:UTC
DTSTART:20250101T000000
END:STANDARD
END:VTIMEZONE
BEGIN:VEVENT
DTSTART;TZID=America/Chicago:20260520T150000
DTEND;TZID=America/Chicago:20260520T160000
DTSTAMP:20260425T114109
CREATED:20260424T142116Z
LAST-MODIFIED:20260424T142116Z
UID:10006038-1779289200-1779292800@cityofdelcity.gov
SUMMARY:Vermicomposting Lecture by OSU Extension
DESCRIPTION:🐛 Turn your kitchen scraps into nutrient-rich soil with vermicomposting! \nJoin OSU Extension for an upcoming vermicomposting lecture and learn how worms can help you reduce waste while creating a powerful\, natural fertilizer for your garden. \nThis session will cover the basics of getting started\, maintaining your system\, and the benefits of composting with worms. \nPerfect for beginners and seasoned gardeners alike.
URL:https://cityofdelcity.gov/event/vermicomposting-lecture-by-osu-extension/
LOCATION:Del City Community Center\, 4505 SE 15th St.\, Del City\, 73115\, United States
ATTACH;FMTTYPE=image/png:https://cityofdelcity.gov/wp-content/uploads/2025/09/OSU-Extension-Logo.png
END:VEVENT
BEGIN:VEVENT
DTSTART;TZID=America/Chicago:20260521T093000
DTEND;TZID=America/Chicago:20260521T123000
DTSTAMP:20260425T114109
CREATED:20260413T214135Z
LAST-MODIFIED:20260422T201409Z
UID:10002757-1779355800-1779366600@cityofdelcity.gov
SUMMARY:Del City Crafters hosted by Diane
DESCRIPTION:This is a craft and quilting class for all ages and skill levels. Contact Diane at (405)677-1821 for information. \n***Space is limited***
URL:https://cityofdelcity.gov/event/del-city-crafters-hosted-by-diane-3/2026-05-21/
LOCATION:Del City Community Center\, 4505 SE 15th St.\, Del City\, 73115\, United States
ATTACH;FMTTYPE=image/jpeg:https://cityofdelcity.gov/wp-content/uploads/2026/04/IMG_3565-2-scaled.jpeg
END:VEVENT
BEGIN:VEVENT
DTSTART;TZID=America/Chicago:20260521T190000
DTEND;TZID=America/Chicago:20260521T200000
DTSTAMP:20260425T114109
CREATED:20250611T164803Z
LAST-MODIFIED:20260227T164505Z
UID:10001264-1779390000-1779393600@cityofdelcity.gov
SUMMARY:Del North Neighborhood Watch Meeting
DESCRIPTION:Click here for more on the Del North Neighborhood Watch Association.
URL:https://cityofdelcity.gov/event/del-north-neighborhood-watch-meeting-3/2026-05-21/
LOCATION:Del City Community Center\, 4505 SE 15th St.\, Del City\, 73115\, United States
ATTACH;FMTTYPE=image/png:https://cityofdelcity.gov/wp-content/uploads/2025/06/DEL-CITY-NORTH-IMG.png
ORGANIZER;CN="Del North Neighborhood Watch Association":MAILTO:skluge9396@cox.net
END:VEVENT
BEGIN:VEVENT
DTSTART;TZID=America/Chicago:20260522T104500
DTEND;TZID=America/Chicago:20260522T114500
DTSTAMP:20260425T114109
CREATED:20260310T191458Z
LAST-MODIFIED:20260310T191459Z
UID:10003844-1779446700-1779450300@cityofdelcity.gov
SUMMARY:S.A.I.L
DESCRIPTION:Mondays\, Wednesdays\, Fridays\, beginning Dec 1st\, 2025. 10:45AM-11:45AM YMCA – S.A.I.L. (Staying Active and Independent for Life) Strength\, Balance\, and Fitness Program.
URL:https://cityofdelcity.gov/event/s-a-i-l-2-2/2026-05-22/
LOCATION:Del City Community Center\, 4505 SE 15th St.\, Del City\, 73115\, United States
ATTACH;FMTTYPE=image/png:https://cityofdelcity.gov/wp-content/uploads/2025/11/S.A.I.L.png
END:VEVENT
BEGIN:VEVENT
DTSTART;VALUE=DATE:20260525
DTEND;VALUE=DATE:20260530
DTSTAMP:20260425T114109
CREATED:20250630T164628Z
LAST-MODIFIED:20250630T165736Z
UID:10001667-1779667200-1780099199@cityofdelcity.gov
SUMMARY:Ward 4 Bulk Trash - Pickup Week
DESCRIPTION:***Bulk Trash must be placed at the curb by the Monday of your pickup week at 6 AM. If the Monday of your scheduled Bulk Trash Week falls on a federal holiday\, Sanitation will continue with pickup the next business day. Expect possible delays as Sanitation resumes its schedule. \nFor more information on Bulk Trash\, click here or visit www.cityofdelcity.gov/bulk-trash. \n 
URL:https://cityofdelcity.gov/event/ward-4-bulk-trash-pickup-week/2026-05-25/
LOCATION:Del City\, OK\, 73115\, United States
ORGANIZER;CN="City of Del City":MAILTO:info@cityofdelcity.org
END:VEVENT
BEGIN:VEVENT
DTSTART;TZID=America/Chicago:20260525T073000
DTEND;TZID=America/Chicago:20260525T173000
DTSTAMP:20260425T114109
CREATED:20260127T204134Z
LAST-MODIFIED:20260127T223947Z
UID:10005371-1779694200-1779730200@cityofdelcity.gov
SUMMARY:Memorial Day
DESCRIPTION:Administrative Buildings: Administrative Buildings will be closed on Monday\, May 25 in observance of the Memorial Day holiday. Administrative Buildings will reopen Tuesday\, May 26 at 7:30 AM. \nSanitation Pick Up: See Sanitation/Bulk Calendar HERE. \nEmergency or Non-Emergency Contact Numbers: Click the ‘Get Help’ tab to head to the Action Center for a list of helpful contact numbers and information. \nOr \nClick Here: https://cityofdelcity.gov/connect/city-directory/
URL:https://cityofdelcity.gov/event/memorial-day-2/
LOCATION:Administrative Buildings\, OK\, 73115\, United States
ATTACH;FMTTYPE=image/png:https://cityofdelcity.gov/wp-content/uploads/2026/01/NOC-MEMORIAL-DAY-.png
ORGANIZER;CN="City of Del City":MAILTO:info@cityofdelcity.org
END:VEVENT
BEGIN:VEVENT
DTSTART;TZID=UTC:20260526T190000
DTEND;TZID=UTC:20260526T200000
DTSTAMP:20260425T114109
CREATED:20250124T220614Z
LAST-MODIFIED:20260227T164153Z
UID:10000786-1779822000-1779825600@cityofdelcity.gov
SUMMARY:Epperly Heights Neighborhood Watch Meeting
DESCRIPTION:
URL:https://cityofdelcity.gov/event/epperly-heights-neighborhood-watch-meeting-2/2026-05-26/
LOCATION:Del Baptist Temple\, 3236 SE 15th Street\, Del City\, OK\, 73115\, United States
ATTACH;FMTTYPE=image/png:https://cityofdelcity.gov/wp-content/uploads/2025/01/EPPERLY-IMG.png
END:VEVENT
BEGIN:VEVENT
DTSTART;TZID=America/Chicago:20260526T200000
DTEND;TZID=America/Chicago:20260526T210000
DTSTAMP:20260425T114109
CREATED:20260423T145307Z
LAST-MODIFIED:20260423T154413Z
UID:10005720-1779825600-1779829200@cityofdelcity.gov
SUMMARY:Del City Rotary Meeting
DESCRIPTION:Join us at the Rotary Club of Del City!\n\n\n\nWe meet every Tuesday at 8:00 AM at the Dignity Event Center\, located at 3900 SE 29th\, Del City\, OK 73115. Rotary is a place where community leaders come together to build friendships\, serve others\, and make a positive impact locally and around the world. If you’re interested in service\, networking\, and connecting with others who care about the community\, we’d love to have you join us for a meeting!\n\n\n\n\n\n\nQuestions?\nPhone: (405)650-5464 or (405)316-0479 | Email: lhopper572@gmail.com
URL:https://cityofdelcity.gov/event/rotary-meeting/2026-05-26/
LOCATION:Dignity Event Center\, 3900 SE 29th\, Del City\, OK\, 73115\, United States
ATTACH;FMTTYPE=image/svg+xml:https://cityofdelcity.gov/wp-content/uploads/2026/04/rotary-logo-color-2019-simplified.svg
END:VEVENT
BEGIN:VEVENT
DTSTART;TZID=America/Chicago:20260527T104500
DTEND;TZID=America/Chicago:20260527T114500
DTSTAMP:20260425T114109
CREATED:20260310T191458Z
LAST-MODIFIED:20260310T191459Z
UID:10003846-1779878700-1779882300@cityofdelcity.gov
SUMMARY:S.A.I.L
DESCRIPTION:Mondays\, Wednesdays\, Fridays\, beginning Dec 1st\, 2025. 10:45AM-11:45AM YMCA – S.A.I.L. (Staying Active and Independent for Life) Strength\, Balance\, and Fitness Program.
URL:https://cityofdelcity.gov/event/s-a-i-l-2-2/2026-05-27/
LOCATION:Del City Community Center\, 4505 SE 15th St.\, Del City\, 73115\, United States
ATTACH;FMTTYPE=image/png:https://cityofdelcity.gov/wp-content/uploads/2025/11/S.A.I.L.png
END:VEVENT
BEGIN:VEVENT
DTSTART;TZID=America/Chicago:20260527T130000
DTEND;TZID=America/Chicago:20260527T140000
DTSTAMP:20260425T114109
CREATED:20251121T161409Z
LAST-MODIFIED:20260126T131616Z
UID:10004576-1779886800-1779890400@cityofdelcity.gov
SUMMARY:TAI CHI
DESCRIPTION:Mondays and Wednesdays\, from 1pm – 2pm. YMCA Tai Chi: Moving for Better Balance. Learning balance skills\, proper body alignment\, and coordinated Tai Chi movements.
URL:https://cityofdelcity.gov/event/tai-chi/2026-05-27/
LOCATION:Del City Community Center\, 4505 SE 15th St.\, Del City\, 73115\, United States
ATTACH;FMTTYPE=image/png:https://cityofdelcity.gov/wp-content/uploads/2025/11/TAI-CHI.png
END:VEVENT
BEGIN:VEVENT
DTSTART;TZID=America/Chicago:20260527T141500
DTEND;TZID=America/Chicago:20260527T151500
DTSTAMP:20260425T114109
CREATED:20251014T193852Z
LAST-MODIFIED:20260126T131653Z
UID:10003293-1779891300-1779894900@cityofdelcity.gov
SUMMARY:Forever Well\, Steady\, & Strong
DESCRIPTION:Mondays and Wednesdays\, from 2:15PM – 3:15PM\, YMCA Forever Well Steady & Strong. Senior focused fitness class that builds strength\, balance\, and flexibility through standing or chair supported exercises.
URL:https://cityofdelcity.gov/event/chair-based-strength-class-hosted-by-the-ymca-2/2026-05-27/
LOCATION:Del City Community Center\, 4505 SE 15th St.\, Del City\, 73115\, United States
ATTACH;FMTTYPE=image/png:https://cityofdelcity.gov/wp-content/uploads/2025/10/FOREVER-WELL-STEADY-STRONG.png
END:VEVENT
BEGIN:VEVENT
DTSTART;TZID=America/Chicago:20260528T093000
DTEND;TZID=America/Chicago:20260528T123000
DTSTAMP:20260425T114109
CREATED:20260413T214135Z
LAST-MODIFIED:20260422T201409Z
UID:10002758-1779960600-1779971400@cityofdelcity.gov
SUMMARY:Del City Crafters hosted by Diane
DESCRIPTION:This is a craft and quilting class for all ages and skill levels. Contact Diane at (405)677-1821 for information. \n***Space is limited***
URL:https://cityofdelcity.gov/event/del-city-crafters-hosted-by-diane-3/2026-05-28/
LOCATION:Del City Community Center\, 4505 SE 15th St.\, Del City\, 73115\, United States
ATTACH;FMTTYPE=image/jpeg:https://cityofdelcity.gov/wp-content/uploads/2026/04/IMG_3565-2-scaled.jpeg
END:VEVENT
BEGIN:VEVENT
DTSTART;TZID=America/Chicago:20260528T140000
DTEND;TZID=America/Chicago:20260528T160000
DTSTAMP:20260425T114109
CREATED:20250930T154216Z
LAST-MODIFIED:20251124T225046Z
UID:10003052-1779976800-1779984000@cityofdelcity.gov
SUMMARY:Bingo with Diane
DESCRIPTION:
URL:https://cityofdelcity.gov/event/bingo-with-diane/2026-05-28/
LOCATION:Del City Community Center\, 4505 SE 15th St.\, Del City\, 73115\, United States
ATTACH;FMTTYPE=image/jpeg:https://cityofdelcity.gov/wp-content/uploads/2025/09/AdobeStock_393911855-scaled.jpeg
END:VEVENT
BEGIN:VEVENT
DTSTART;TZID=UTC:20260528T180000
DTEND;TZID=UTC:20260528T200000
DTSTAMP:20260425T114109
CREATED:20251201T203707Z
LAST-MODIFIED:20260127T210936Z
UID:10005216-1779991200-1779998400@cityofdelcity.gov
SUMMARY:Planning Commission Meeting
DESCRIPTION:
URL:https://cityofdelcity.gov/event/planning-commission-meeting-6-2-2/2026-05-28/
LOCATION:Council Chambers at City Hall\, 3701 SE 15th St\, Del City\, 73115\, United States
ATTACH;FMTTYPE=image/jpeg:https://cityofdelcity.gov/wp-content/uploads/2024/11/00B_Del-City_MASTER_City-Hall.jpg
ORGANIZER;CN="City of Del City":MAILTO:info@cityofdelcity.org
END:VEVENT
BEGIN:VEVENT
DTSTART;TZID=America/Chicago:20260529T104500
DTEND;TZID=America/Chicago:20260529T114500
DTSTAMP:20260425T114109
CREATED:20260310T191458Z
LAST-MODIFIED:20260310T191459Z
UID:10003847-1780051500-1780055100@cityofdelcity.gov
SUMMARY:S.A.I.L
DESCRIPTION:Mondays\, Wednesdays\, Fridays\, beginning Dec 1st\, 2025. 10:45AM-11:45AM YMCA – S.A.I.L. (Staying Active and Independent for Life) Strength\, Balance\, and Fitness Program.
URL:https://cityofdelcity.gov/event/s-a-i-l-2-2/2026-05-29/
LOCATION:Del City Community Center\, 4505 SE 15th St.\, Del City\, 73115\, United States
ATTACH;FMTTYPE=image/png:https://cityofdelcity.gov/wp-content/uploads/2025/11/S.A.I.L.png
END:VEVENT
BEGIN:VEVENT
DTSTART;VALUE=DATE:20260601
DTEND;VALUE=DATE:20260606
DTSTAMP:20260425T114109
CREATED:20250630T164125Z
LAST-MODIFIED:20250703T190918Z
UID:10001881-1780272000-1780703999@cityofdelcity.gov
SUMMARY:Ward 1 Bulk Trash - Pickup Week
DESCRIPTION:***Bulk Trash must be placed at the curb by the Monday of your pickup week at 6 AM. If the Monday of your scheduled Bulk Trash Week falls on a federal holiday\, Sanitation will continue with pickup the next business day. Expect possible delays as Sanitation resumes its schedule. \nFor more information on Bulk Trash\, click here or visit www.cityofdelcity.gov/bulk-trash.
URL:https://cityofdelcity.gov/event/ward-1-bulk-trash-pickup-week/2026-06-01/
LOCATION:Del City\, OK\, 73115\, United States
ORGANIZER;CN="City of Del City":MAILTO:info@cityofdelcity.org
END:VEVENT
BEGIN:VEVENT
DTSTART;TZID=America/Chicago:20260601T104500
DTEND;TZID=America/Chicago:20260601T114500
DTSTAMP:20260425T114109
CREATED:20260310T191458Z
LAST-MODIFIED:20260310T191459Z
UID:10003848-1780310700-1780314300@cityofdelcity.gov
SUMMARY:S.A.I.L
DESCRIPTION:Mondays\, Wednesdays\, Fridays\, beginning Dec 1st\, 2025. 10:45AM-11:45AM YMCA – S.A.I.L. (Staying Active and Independent for Life) Strength\, Balance\, and Fitness Program.
URL:https://cityofdelcity.gov/event/s-a-i-l-2-2/2026-06-01/
LOCATION:Del City Community Center\, 4505 SE 15th St.\, Del City\, 73115\, United States
ATTACH;FMTTYPE=image/png:https://cityofdelcity.gov/wp-content/uploads/2025/11/S.A.I.L.png
END:VEVENT
BEGIN:VEVENT
DTSTART;TZID=America/Chicago:20260601T130000
DTEND;TZID=America/Chicago:20260601T140000
DTSTAMP:20260425T114109
CREATED:20251121T161409Z
LAST-MODIFIED:20260126T131616Z
UID:10004910-1780318800-1780322400@cityofdelcity.gov
SUMMARY:TAI CHI
DESCRIPTION:Mondays and Wednesdays\, from 1pm – 2pm. YMCA Tai Chi: Moving for Better Balance. Learning balance skills\, proper body alignment\, and coordinated Tai Chi movements.
URL:https://cityofdelcity.gov/event/tai-chi/2026-06-01/
LOCATION:Del City Community Center\, 4505 SE 15th St.\, Del City\, 73115\, United States
ATTACH;FMTTYPE=image/png:https://cityofdelcity.gov/wp-content/uploads/2025/11/TAI-CHI.png
END:VEVENT
BEGIN:VEVENT
DTSTART;TZID=America/Chicago:20260601T141500
DTEND;TZID=America/Chicago:20260601T151500
DTSTAMP:20260425T114109
CREATED:20251014T193852Z
LAST-MODIFIED:20260126T131653Z
UID:10003294-1780323300-1780326900@cityofdelcity.gov
SUMMARY:Forever Well\, Steady\, & Strong
DESCRIPTION:Mondays and Wednesdays\, from 2:15PM – 3:15PM\, YMCA Forever Well Steady & Strong. Senior focused fitness class that builds strength\, balance\, and flexibility through standing or chair supported exercises.
URL:https://cityofdelcity.gov/event/chair-based-strength-class-hosted-by-the-ymca-2/2026-06-01/
LOCATION:Del City Community Center\, 4505 SE 15th St.\, Del City\, 73115\, United States
ATTACH;FMTTYPE=image/png:https://cityofdelcity.gov/wp-content/uploads/2025/10/FOREVER-WELL-STEADY-STRONG.png
END:VEVENT
BEGIN:VEVENT
DTSTART;TZID=UTC:20260601T180000
DTEND;TZID=UTC:20260601T200000
DTSTAMP:20260425T114109
CREATED:20250124T230239Z
LAST-MODIFIED:20260407T161758Z
UID:10000846-1780336800-1780344000@cityofdelcity.gov
SUMMARY:City Council Meeting
DESCRIPTION:
URL:https://cityofdelcity.gov/event/city-council-meeting-7/2026-06-01/
LOCATION:Council Chambers at City Hall\, 3701 SE 15th St\, Del City\, 73115\, United States
ATTACH;FMTTYPE=image/jpeg:https://cityofdelcity.gov/wp-content/uploads/2024/07/Council-Chambers-2-stock-e1749646917966.jpg
ORGANIZER;CN="City of Del City":MAILTO:info@cityofdelcity.org
END:VEVENT
BEGIN:VEVENT
DTSTART;TZID=UTC:20260602T190000
DTEND;TZID=UTC:20260602T210000
DTSTAMP:20260425T114109
CREATED:20250108T222428Z
LAST-MODIFIED:20260227T164701Z
UID:10000414-1780426800-1780434000@cityofdelcity.gov
SUMMARY:Hartsdel Neighborhood Watch
DESCRIPTION:Contact:\n\n\n\n\n\n\n Website \n Facebook \n Neighborhood Map
URL:https://cityofdelcity.gov/event/hartsdel-neighborhood-watch/2026-06-02/
LOCATION:Sunnylane Family Church\, 4221 SE 41st St.\, Del City\, OK\, 73115\, United States
ATTACH;FMTTYPE=image/png:https://cityofdelcity.gov/wp-content/uploads/2025/01/HARTSDEL-IMG.png
END:VEVENT
BEGIN:VEVENT
DTSTART;TZID=America/Chicago:20260602T200000
DTEND;TZID=America/Chicago:20260602T210000
DTSTAMP:20260425T114109
CREATED:20260423T145307Z
LAST-MODIFIED:20260423T154413Z
UID:10005721-1780430400-1780434000@cityofdelcity.gov
SUMMARY:Del City Rotary Meeting
DESCRIPTION:Join us at the Rotary Club of Del City!\n\n\n\nWe meet every Tuesday at 8:00 AM at the Dignity Event Center\, located at 3900 SE 29th\, Del City\, OK 73115. Rotary is a place where community leaders come together to build friendships\, serve others\, and make a positive impact locally and around the world. If you’re interested in service\, networking\, and connecting with others who care about the community\, we’d love to have you join us for a meeting!\n\n\n\n\n\n\nQuestions?\nPhone: (405)650-5464 or (405)316-0479 | Email: lhopper572@gmail.com
URL:https://cityofdelcity.gov/event/rotary-meeting/2026-06-02/
LOCATION:Dignity Event Center\, 3900 SE 29th\, Del City\, OK\, 73115\, United States
ATTACH;FMTTYPE=image/svg+xml:https://cityofdelcity.gov/wp-content/uploads/2026/04/rotary-logo-color-2019-simplified.svg
END:VEVENT
BEGIN:VEVENT
DTSTART;TZID=America/Chicago:20260603T104500
DTEND;TZID=America/Chicago:20260603T114500
DTSTAMP:20260425T114109
CREATED:20260310T191458Z
LAST-MODIFIED:20260310T191459Z
UID:10003849-1780483500-1780487100@cityofdelcity.gov
SUMMARY:S.A.I.L
DESCRIPTION:Mondays\, Wednesdays\, Fridays\, beginning Dec 1st\, 2025. 10:45AM-11:45AM YMCA – S.A.I.L. (Staying Active and Independent for Life) Strength\, Balance\, and Fitness Program.
URL:https://cityofdelcity.gov/event/s-a-i-l-2-2/2026-06-03/
LOCATION:Del City Community Center\, 4505 SE 15th St.\, Del City\, 73115\, United States
ATTACH;FMTTYPE=image/png:https://cityofdelcity.gov/wp-content/uploads/2025/11/S.A.I.L.png
END:VEVENT
BEGIN:VEVENT
DTSTART;TZID=America/Chicago:20260603T113000
DTEND;TZID=America/Chicago:20260603T130000
DTSTAMP:20260425T114109
CREATED:20250611T165744Z
LAST-MODIFIED:20260303T224637Z
UID:10001325-1780486200-1780491600@cityofdelcity.gov
SUMMARY:Del City Kiwanis Club Meeting
DESCRIPTION:Click here for more information on the Kiwanis Club.
URL:https://cityofdelcity.gov/event/del-city-kiwanis-club-meeting/2026-06-03/
LOCATION:Del City Community Center\, 4505 SE 15th St.\, Del City\, 73115\, United States
ATTACH;FMTTYPE=image/webp:https://cityofdelcity.gov/wp-content/uploads/2025/06/Kiwanis-Logo.webp
END:VEVENT
BEGIN:VEVENT
DTSTART;TZID=America/Chicago:20260603T130000
DTEND;TZID=America/Chicago:20260603T140000
DTSTAMP:20260425T114109
CREATED:20251121T161409Z
LAST-MODIFIED:20260126T131616Z
UID:10004911-1780491600-1780495200@cityofdelcity.gov
SUMMARY:TAI CHI
DESCRIPTION:Mondays and Wednesdays\, from 1pm – 2pm. YMCA Tai Chi: Moving for Better Balance. Learning balance skills\, proper body alignment\, and coordinated Tai Chi movements.
URL:https://cityofdelcity.gov/event/tai-chi/2026-06-03/
LOCATION:Del City Community Center\, 4505 SE 15th St.\, Del City\, 73115\, United States
ATTACH;FMTTYPE=image/png:https://cityofdelcity.gov/wp-content/uploads/2025/11/TAI-CHI.png
END:VEVENT
BEGIN:VEVENT
DTSTART;TZID=America/Chicago:20260603T141500
DTEND;TZID=America/Chicago:20260603T151500
DTSTAMP:20260425T114109
CREATED:20251014T193852Z
LAST-MODIFIED:20260126T131653Z
UID:10003295-1780496100-1780499700@cityofdelcity.gov
SUMMARY:Forever Well\, Steady\, & Strong
DESCRIPTION:Mondays and Wednesdays\, from 2:15PM – 3:15PM\, YMCA Forever Well Steady & Strong. Senior focused fitness class that builds strength\, balance\, and flexibility through standing or chair supported exercises.
URL:https://cityofdelcity.gov/event/chair-based-strength-class-hosted-by-the-ymca-2/2026-06-03/
LOCATION:Del City Community Center\, 4505 SE 15th St.\, Del City\, 73115\, United States
ATTACH;FMTTYPE=image/png:https://cityofdelcity.gov/wp-content/uploads/2025/10/FOREVER-WELL-STEADY-STRONG.png
END:VEVENT
BEGIN:VEVENT
DTSTART;TZID=America/Chicago:20260604T093000
DTEND;TZID=America/Chicago:20260604T123000
DTSTAMP:20260425T114109
CREATED:20260413T214135Z
LAST-MODIFIED:20260422T201409Z
UID:10002759-1780565400-1780576200@cityofdelcity.gov
SUMMARY:Del City Crafters hosted by Diane
DESCRIPTION:This is a craft and quilting class for all ages and skill levels. Contact Diane at (405)677-1821 for information. \n***Space is limited***
URL:https://cityofdelcity.gov/event/del-city-crafters-hosted-by-diane-3/2026-06-04/
LOCATION:Del City Community Center\, 4505 SE 15th St.\, Del City\, 73115\, United States
ATTACH;FMTTYPE=image/jpeg:https://cityofdelcity.gov/wp-content/uploads/2026/04/IMG_3565-2-scaled.jpeg
END:VEVENT
BEGIN:VEVENT
DTSTART;TZID=America/Chicago:20260604T100000
DTEND;TZID=America/Chicago:20260604T110000
DTSTAMP:20260425T114109
CREATED:20250611T170613Z
LAST-MODIFIED:20251125T191434Z
UID:10001446-1780567200-1780570800@cityofdelcity.gov
SUMMARY:S.A.L.T - Seniors and Law Enforcement Together
DESCRIPTION:This is a FREE Community Service program provided by the OK County Sheriff’s Office and the Del City Police Dept that focuses on senior safety\, education\, and crime prevention. Class is held at the Community Center on the first Thursday of each month at 10AM. Contact Tara Hardin @ 405-869-2555 for more information.
URL:https://cityofdelcity.gov/event/s-a-l-t-seniors-and-law-enforcement-together/2026-06-04/
LOCATION:Del City Community Center\, 4505 SE 15th St.\, Del City\, 73115\, United States
ORGANIZER;CN="Oklahoma County Sheriff's Office":MAILTO:tara.hardin@oklahomacounty.org
END:VEVENT
BEGIN:VEVENT
DTSTART;TZID=America/Chicago:20260605T104500
DTEND;TZID=America/Chicago:20260605T114500
DTSTAMP:20260425T114109
CREATED:20260310T191458Z
LAST-MODIFIED:20260310T191459Z
UID:10003850-1780656300-1780659900@cityofdelcity.gov
SUMMARY:S.A.I.L
DESCRIPTION:Mondays\, Wednesdays\, Fridays\, beginning Dec 1st\, 2025. 10:45AM-11:45AM YMCA – S.A.I.L. (Staying Active and Independent for Life) Strength\, Balance\, and Fitness Program.
URL:https://cityofdelcity.gov/event/s-a-i-l-2-2/2026-06-05/
LOCATION:Del City Community Center\, 4505 SE 15th St.\, Del City\, 73115\, United States
ATTACH;FMTTYPE=image/png:https://cityofdelcity.gov/wp-content/uploads/2025/11/S.A.I.L.png
END:VEVENT
BEGIN:VEVENT
DTSTART;TZID=America/Chicago:20260606T090000
DTEND;TZID=America/Chicago:20260606T220000
DTSTAMP:20260425T114109
CREATED:20260423T153837Z
LAST-MODIFIED:20260423T154343Z
UID:10005979-1780736400-1780783200@cityofdelcity.gov
SUMMARY:"First Saturday Health Walk" w/ Del City Rotary
DESCRIPTION:Join Rotary for their “First Saturday Health Walk” along Del Rd. & Glenn Ave.\, where history and community come together. \n Start Location: Rotary Park – 3698 Del Rd\, Del City\, OK 73115 (Next to Epperly Heights Elementary) Time: 9:00 AM\n\nEnjoy a morning of:• Health and wellness• Local history and storytelling• Fun trivia along the route• Fellowship with the community\n\nWhether you’re coming for the exercise\, the history\, or just to connect with others\, there’s something here for everyone.\n\nQuestions?\nPhone: (405)650-5464 or (405)316-0479 | Email: lhopper572@gmail.com
URL:https://cityofdelcity.gov/event/first-saturday-health-walk-w-del-city-rotary/2026-06-06/
LOCATION:Dignity Event Center\, 3900 SE 29th\, Del City\, OK\, 73115\, United States
ATTACH;FMTTYPE=image/svg+xml:https://cityofdelcity.gov/wp-content/uploads/2026/04/rotary-logo-color-2019-simplified.svg
END:VEVENT
END:VCALENDAR