BEGIN:VCALENDAR
VERSION:2.0
PRODID:-//The City of Del City - ECPv6.15.20//NONSGML v1.0//EN
CALSCALE:GREGORIAN
METHOD:PUBLISH
X-ORIGINAL-URL:https://cityofdelcity.gov
X-WR-CALDESC:Events for The City of Del City
REFRESH-INTERVAL;VALUE=DURATION:PT1H
X-Robots-Tag:noindex
X-PUBLISHED-TTL:PT1H
BEGIN:VTIMEZONE
TZID:America/Chicago
BEGIN:DAYLIGHT
TZOFFSETFROM:-0600
TZOFFSETTO:-0500
TZNAME:CDT
DTSTART:20250309T080000
END:DAYLIGHT
BEGIN:STANDARD
TZOFFSETFROM:-0500
TZOFFSETTO:-0600
TZNAME:CST
DTSTART:20251102T070000
END:STANDARD
BEGIN:DAYLIGHT
TZOFFSETFROM:-0600
TZOFFSETTO:-0500
TZNAME:CDT
DTSTART:20260308T080000
END:DAYLIGHT
BEGIN:STANDARD
TZOFFSETFROM:-0500
TZOFFSETTO:-0600
TZNAME:CST
DTSTART:20261101T070000
END:STANDARD
BEGIN:DAYLIGHT
TZOFFSETFROM:-0600
TZOFFSETTO:-0500
TZNAME:CDT
DTSTART:20270314T080000
END:DAYLIGHT
BEGIN:STANDARD
TZOFFSETFROM:-0500
TZOFFSETTO:-0600
TZNAME:CST
DTSTART:20271107T070000
END:STANDARD
END:VTIMEZONE
BEGIN:VEVENT
DTSTART;VALUE=DATE:20260126
DTEND;VALUE=DATE:20260131
DTSTAMP:20260423T162551
CREATED:20260127T141421Z
LAST-MODIFIED:20260127T141447Z
UID:10001663-1769385600-1769817599@cityofdelcity.gov
SUMMARY:Ward 4 Bulk Trash - Pickup Week
DESCRIPTION:***Bulk trash pickup for Ward 4 will continue as scheduled. Please note that weather and road conditions may cause delays \nFor more information on Bulk Trash\, click here or visit www.cityofdelcity.gov/bulk-trash. \n 
URL:https://cityofdelcity.gov/event/ward-4-bulk-trash-pickup-week-2/
LOCATION:Del City\, OK\, 73115\, United States
ORGANIZER;CN="City of Del City":MAILTO:info@cityofdelcity.org
END:VEVENT
BEGIN:VEVENT
DTSTART;TZID=America/Chicago:20260130T104500
DTEND;TZID=America/Chicago:20260130T114500
DTSTAMP:20260423T162551
CREATED:20251223T155732Z
LAST-MODIFIED:20260213T143531Z
UID:10003796-1769769900-1769773500@cityofdelcity.gov
SUMMARY:S.A.I.L
DESCRIPTION:Mondays\, Wednesdays\, Fridays\, beginning Dec 1st\, 2025. 10:45AM-11:45AM YMCA – S.A.I.L. (Staying Active and Independent for Life) Strength\, Balance\, and Fitness Program.
URL:https://cityofdelcity.gov/event/s-a-i-l-2/2026-01-30/
LOCATION:Del City Community Center\, 4505 SE 15th St.\, Del City\, 73115\, United States
ATTACH;FMTTYPE=image/png:https://cityofdelcity.gov/wp-content/uploads/2025/11/S.A.I.L.png
END:VEVENT
BEGIN:VEVENT
DTSTART;TZID=America/Chicago:20260130T113000
DTEND;TZID=America/Chicago:20260130T133000
DTSTAMP:20260423T162551
CREATED:20260115T200147Z
LAST-MODIFIED:20260115T200225Z
UID:10005301-1769772600-1769779800@cityofdelcity.gov
SUMMARY:Legislative Luncheon
DESCRIPTION:“This is a great opportunity to meet with your elected officials to ask questions and gain insight into what they are doing this year. We will have members from County\, State\, and Federal offices there to sit down and talk with you. We look forward to seeing you there!” -Del City Chamber of Commerce \nRegister HERE
URL:https://cityofdelcity.gov/event/legislative-luncheon/
LOCATION:Del City Community Center\, 4505 SE 15th St.\, Del City\, 73115\, United States
ATTACH;FMTTYPE=image/png:https://cityofdelcity.gov/wp-content/uploads/2026/01/Legislative-Luncheon-13026.png
ORGANIZER;CN="Del City Chamber of Commerce":MAILTO:info@delcitychamber.com
END:VEVENT
BEGIN:VEVENT
DTSTART;TZID=America/Chicago:20260130T130000
DTEND;TZID=America/Chicago:20260130T140000
DTSTAMP:20260423T162551
CREATED:20251121T172550Z
LAST-MODIFIED:20260115T230507Z
UID:10004828-1769778000-1769781600@cityofdelcity.gov
SUMMARY:Rediscover Your Joy
DESCRIPTION:Friday\, January 30th 2026 from 1pm-2pm. OSU Extension Workshop “Rediscover Your Joy”.  Retirement\, loss\, and changing family dynamics can create feelings of uncertainty and disconnection. In this supportive discussion\, Lisa Hamblin\, Family and Consumer Sciences Educator from the Oklahoma County OSU Extension\, will support those navigating these significant life transitions by encouraging participants to rebuild a sense of meaning and excitement in their lives. She will lead you to rediscover the things that brought you joy
URL:https://cityofdelcity.gov/event/rediscover-your-joy/
LOCATION:Del City Community Center\, 4505 SE 15th St.\, Del City\, 73115\, United States
ATTACH;FMTTYPE=image/png:https://cityofdelcity.gov/wp-content/uploads/2025/11/OHCE-Leader-Lesson-12025.png
END:VEVENT
END:VCALENDAR